{"text_format":"1","workbook":"xlsx","n_sheets":74,"sheets":["Hilfe","Start","Daten Jahr","Daten Kinder","Daten LP","ICT","OA","leer 1","WPF","Förderunterricht","Projektunterricht","Schrift","Ethik&Religion","TG","BG","Musik","Schwimmen","Turnen","Religion","Fachlektion","M&U","Mathematik","Italienisch","Französisch","Englisch","Deutsch","Stundenplan","Wo 1","Wo 2","Wo 3","Wo 4","Wo 5","Wo 6","Wo 7","Wo 8","Wo 9","Wo 10","Wo 11","Wo 12","Wo 13","Wo 14","Wo 15","Wo 16","Wo 17","Wo 18","Wo 19","Wo 20","Wo 21","Wo 22","Wo 23","Wo 24","Wo 25","Wo 26","Wo 27","Wo 28","Wo 29","Wo 30","Wo 31","Wo 32","Wo 33","Wo 34","Wo 35","Wo 36","Wo 37","Wo 38","Wo 39","Wo 40","Wo 41","Wo 42","Wo 43","Wo 44","Wo 45","Wo 46","Wo 47"],"not_rendered":{"charts":0,"images":16,"macros":1,"external_links":0,"defined_names":71,"comments":0,"pivot_tables":0},"unopened":[],"bounds":{"document_bytes":16777216,"sheet_cells":100000,"rows_first":2000,"rows_last":500,"rows_between":2000,"halvings":0,"cell_chars":16384,"cell_head_chars":4096},"cells_cut":0,"cells_raw":0,"read":"whole","date_system":"1900"}

{"sheet":"Hilfe","index":0,"n_rows":195,"n_cols":17,"rows_kept":195,"cut":false,"hidden":false,"merged":[[22,1,22,2]]}
[]
[]
[]
[]
[]
[]
[]
[]
[null,"Mit Hilfe dieser Exeldatei kannst du folgende Arbeiten relativ einfach bewältigen:"]
[null,"-","Jahrespläne mit Wochendaten für die einzelnen Fächer generierien"]
[null,"-","Wochenpläne für das ganze Schuljahr erstellen"]
[]
[null,"Somit kannst du die Jahres- und die Wochenplanung in einer einzigen Datei verwalten und ausdrucken."]
[null,"Halte dich beim Erstellen der Grunddatenblätter eines neuen Schuljahres an die unten aufgeführte Reihenfolge. Damit erstellst "]
[null,"du alle benötigten Seiten von Hand (Schuljahr, Klasse, Schulwochen, Stundenplan) und den Rest mit Hilfe hinterlegter Makros,"]
[null,"welche die entsprechenden Seiten auf der Grundlage deiner vorher getätigten Eingaben generieren."]
[null,"Die Datei ist als Mustervorlage abgespeichert und muss beim Speichern dementsprechend umbenannt werden."]
[]
[null,"Ich wünsche dir bei der Arbeit mit dieser Datei viel Erfolg."]
[null,"Da das Ganze auf freiwilliger Basis entstanden ist, übernehme ich keine Haftung für ev. Fehler."]
[null,"Ich freue mich jedoch auf konstruktive Feedbacks."]
[]
[null,"2008-04-14",null,"Hansruedi von Rotz",null,"h.vonrotz@bluewin.ch"]
[]
[]
[null,"Farbzuordnung auf der Startseite"]
[]
[null,"Blauer Bereich:",null," manuelle und automatische Erstellung der notwendigen Seiten"]
[null,"Gelber Bereich:",null," Navigation innerhalb der Datei"]
[]
[]
[null,"Jahr und Klasse eintragen"]
[]
[]
[]
[null,null,null,null,null,null,null,null,"Schuljahr eintragen"]
[null,null,null,null,null,null,null,null,"Klasse eintragen"]
[]
[null,null,null,null,null,null,null,null,null,null,null,null,null,null,null,null,"Seite 1"]
[]
[null,"Jahresplanung erstellen"]
[]
[]
[null,null,null,null,null,null,null,null,"1.","Schulwochendaten eingeben: Gib hier die Wochendaten des Schuljahres ein!"]
[null,null,null,null,null,null,null,null,null,"Details siehe auf der Seite selber in Spalte K."]
[]
[null,null,null,null,null,null,null,null,"2.","Seite \"wichtige Daten\": wird mittels eines Makros aufgrund der Eingaben im"]
[null,null,null,null,null,null,null,null,null,"Schulwochendatenblatt automatisch generiert. Zum Fertigstellen müssen noch"]
[null,null,null,null,null,null,null,null,null,"die Rahmenlinien von Hand nachformatiert werden."]
[]
[]
[]
[]
[]
[]
[]
[]
[]
[null,null,null,null,null,null,null,null,null,"Markiere dazu den roten Bereich von Spalte D bis H und nach unten bis zum"]
[null,null,null,null,null,null,null,null,null,"ersten Ferienbalken."]
[null,null,null,null,null,null,null,null,null,"Klicke in der Symbolleiste auf dieses Rahmensymbol, "]
[null,null,null,null,null,null,null,null,null,"um die fehlenden Linien anzuzeigen."]
[null,null,null,null,null,null,null,null,null,"Wiederhole diese Schritte zwischen den restlichen"]
[null,null,null,null,null,null,null,null,null,"Ferienbalken so, dass dein Blatt wie links abgebildet aussieht."]
[]
[]
[null,null,null,null,null,null,null,null,null,"Du kannst natürlich die vorgegebenen Überschriften durch eigene ersetzen."]
[null,null,null,null,null,null,null,null,null,"Ich verwende dieses Blatt jeweils als Information zuhanden der Eltern meiner"]
[null,null,null,null,null,null,null,null,null,"Schülerinnen und Schüler und zu meiner Übersicht."]
[]
[null,null,null,null,null,null,null,null,"3.","Jahrespläne generieren: Mit dieser Schaltfläche erstellst du automatisch "]
[null,null,null,null,null,null,null,null,null,"alle Jahresplanvorlagen mit den entsprechenden Wochendaten und den "]
[null,null,null,null,null,null,null,null,null,"Ferienbalken, welche du ja unter Punkt 1 (Schulwochendaten eingeben)"]
[null,null,null,null,null,null,null,null,null,"erstellt hast."]
[]
[]
[]
[null,null,null,null,null,null,null,null,null,null,null,null,null,null,null,null,"Seite 2"]
[]
[null,"Wochenplanung erstellen"]
[]
[]
[null,null,null,null,null,null,null,null,"Stundenplan: Hier wird der aktuelle Stundeplan eingetragen."]
[]
[]
[]
[]
[]
[]
[]
[]
[]
[]
[]
[]
[]
[]
[null,null,null,null,null,null,null,null,"Die einzelnen Wochenblätter sind mit den Lektionen des Stundenplanes verknüpft."]
[]
[]
[]
[]
[]
[]
[]
[]
[]
[null,null,null,null,null,null,null,null,"Es ist aber möglich, in den einzelnen Wochen die Lektionen umzubenennen."]
[null,null,null,null,null,null,null,null,"Dadurch fällt jedoch die entsprechende Verknüpfung innerhalb dieser Lektion"]
[null,null,null,null,null,null,null,null,"und Woche weg!"]
[]
[]
[]
[]
[]
[]
[null,null,null,null,null,null,null,null,null,null,null,null,null,null,null,null,"Seite 3"]
[]
[null,"Gehe zu Wochenplanung"]
[]
[]
[null,null,null,null,null,null,null,null,null,"Die einzelnen Wochen werden auf der Grundlage der vordefinierten"]
[null,null,null,null,null,null,null,null,null,"Schulwochendaten und des Stundenplanes mittels Verknüpfungen"]
[null,null,null,null,null,null,null,null,null,"automatisch erzeugt."]
[null,null,null,null,null,null,null,null,null,"Die Schaltfläche 'zurück' oben rechts auf den jeweiligen Seiten führt dich"]
[null,null,null,null,null,null,null,null,null,"wieder auf die Startseite zurück."]
[]
[]
[]
[]
[]
[]
[]
[]
[]
[]
[null,"Gehe zu Jahresplanung"]
[]
[]
[null,null,null,null,null,null,null,null,null,"Mit Hilfe dieser Schaltflächen gelangst du auf die einzelnen Fächerseiten,"]
[null,null,null,null,null,null,null,null,null,"falls du sie zuvor unter Punkt 3 einmalig generiert hast."]
[null,null,null,null,null,null,null,null,null,"Wurden die Seiten im  voraus noch nicht erstellt, erscheint eine Fehler-"]
[null,null,null,null,null,null,null,null,null,"meldung, da ja auf die nicht erstellte Seite natürlich nicht zugegriffen werden"]
[null,null,null,null,null,null,null,null,null,"kann!"]
[]
[null,null,null,null,null,null,null,null,null,"leer: Hier kommst du auf eine Seite, welche du oben links selber benennen"]
[null,null,null,null,null,null,null,null,null,"kannst. Natürlich kannst du auch alle anderen Blätter selber benennen, falls"]
[null,null,null,null,null,null,null,null,null,"du das möchtest."]
[]
[]
[]
[]
[]
[]
[]
[null,null,null,null,null,null,null,null,null,null,null,null,null,null,null,null,"Seite 4"]
[]
[]
[null,"Fragen/Antworten"]
[]
[null,"Kann ich die Datei auch meinen Bedürfnissen anpassen?"]
[null,null,"Ja. Über 'Extras Optionen' kannst du unter 'Ansicht' die Blattregisterkarten aktivieren."]
[]
[]
[]
[]
[]
[]
[]
[]
[]
[]
[]
[]
[]
[]
[]
[]
[]
[]
[]
[null,null,"Die Blätter sind nicht geschützt und können somit bearbeitet werden."]
[]
[null,"Kann ich auch eigene Fachblätter generieren?"]
[null,null,"Ja, falls du eine Ahnung von Makros hast, kannst du einzelne Schaltflächen kopieren, umbenennen und mit eigenen Makros hinterlegen."]
[null,null,"Auch die Schaltflächen 'gehe zu …' kannst du auf diese Weise generieren."]
[]
[null,"Wie kann ich eine Schaltfläche umbenennen?"]
[null,null,"Klicke mit der rechten Maustate auf die Schaltfläche"]
[null,null,"und wähle aus dem erscheindenden Fenster 'Text bearbeiten'."]
[null,null,"Markiere den Text und überschreibe ihn. Diese"]
[null,null,"Aktion hat keinen Einfluss auf das Erstellen eines Blattes."]
[]
[]
[null,null,null,null,null,null,null,null,null,null,null,null,null,null,null,null,"Seite 5"]

{"sheet":"Start","index":1,"n_rows":108,"n_cols":17,"rows_kept":108,"cut":false,"hidden":false,"merged":[[35,12,35,13],[7,1,7,6],[7,8,7,14],[34,12,34,14],[33,12,33,13]]}
[]
[]
[]
[]
[]
[]
[]
[null,"Schuljahr / Klasse / Stundenplan",null,null,null,null,null,null,"Navigation innerhalb der Datei",null,null,null,null,null,null,null,"Linkliste"]
[]
[null,null,null,null,null,null,null,null,null,null,null,null,null,null,null,null,"Lehrpläne auf zebis"]
[null,null,"Schuljahr:","2013-2014",null,null,null,null,null,"Gehe zu Wochenplanung",null,null,null,null,null,null,"Schule Altdorf"]
[null,null,"Klasse:","3/4",null,null,null,null,null,null,null,null,null,null,null,null,"Bildungsportal Uri"]
[null,null,null,null,null,null,null,null,null,null,null,null,null,null,null,null,"Schulen ans Internet"]
[null,null,null,null,null,null,null,null,null,null,null,null,null,null,null,null,"Arbeitsmaterialien"]
[null,null,null,null,null,null,null,null,null,null,null,null,null,null,null,null,"educanet2"]
[null,null,null,null,null,null,null,null,null,null,null,null,null,null,null,null,"educa"]
[null,null,"Arbeitsmappen vorbereiten",null,null,null,null,null,null,null,null,null,null,null,null,null,"Lern- und Unterrichtsportale"]
[null,null,null,null,null,null,null,null,null,null,null,null,null,null,null,null,"Unterrichtsmaterialien"]
[null,null,"1. Montag des Schuljahres:",null,"2013-08-19",null,null,null,null,null,null,null,null,null,null,null,"Medienwerkstatt Wissenskarten"]
[null,null,null,null,null,null,null,null,null,null,null,null,null,null,null,null,"Lesezeichen"]
[null,null,null,null,null,null,null,null,null,null,null,null,null,null,null,null,"Schreibfabrik"]
[null,null,null,null,null,null,null,null,null,"Gehe zu Jahresplanung",null,null,null,null,null,null,"Sportunterricht"]
[null,null,null,null,null,null,null,null,null,null,null,null,null,null,null,null,"google"]
[null,null,null,null,null,null,null,null,null,null,null,null,null,null,null,null,"Bibliomedia"]
[null,null,null,null,null,null,null,null,null,null,null,null,null,null,null,null,"Wetter/Tel.-Nr./Karten"]
[]
[]
[]
[]
[]
[]
[]
[]
[null,null,null,null,null,null,null,null,null,null,null,null,{"$f":"WEEKDAY(TODAY())","v":"1900-01-02"}]
[null,null,null,null,null,null,null,null,null,null,null,null,{"$f":"TODAY()","v":"2013-04-01"}]
[]
[]
[]
[]
[]
[]
[]
[]
[]
[]
[]
[]
[]
[]
[]
[]
[]
[]
[]
[]
[]
[]
[]
[]
[null,null,null,"Montag","Freitag","Montag"]
[]
[null,null,1,{"$f":"$E$19","v":"2013-08-19"},{"$f":"D62+4","v":"2013-08-23"},{"$f":"D62","v":"2013-08-19"}]
[null,null,2,{"$f":"$D62+7","v":"2013-08-26"},{"$f":"$E62+7","v":"2013-08-30"},"2013-08-26"]
[null,null,3,{"$f":"$D63+7","v":"2013-09-02"},{"$f":"$E63+7","v":"2013-09-06"},"2013-09-02"]
[null,null,4,{"$f":"$D64+7","v":"2013-09-09"},{"$f":"$E64+7","v":"2013-09-13"},"2013-09-09"]
[null,null,5,"2013-09-16","2013-09-20","2013-09-16"]
[null,null,6,"2013-09-23","2013-09-27","2013-09-23"]
[null,null,7,"2013-09-30","2013-10-04","2013-09-30"]
[null,null,8,"2013-10-07","2013-10-11","2013-10-07"]
[null,null,9,"2013-10-14","2013-10-18","2013-10-14"]
[null,null,10,"2013-10-21","2013-10-25","2013-10-21"]
[null,null,11,"2013-10-28","2013-11-01","2013-10-28"]
[null,null,12,"2013-11-04","2013-11-08","2013-11-04"]
[null,null,13,"2013-11-11","2013-11-15","2013-11-11"]
[null,null,14,"2013-11-18","2013-11-22","2013-11-18"]
[null,null,15,"2013-11-25","2013-11-29","2013-11-25"]
[null,null,16,"2013-12-02","2013-12-06","2013-12-02"]
[null,null,17,"2013-12-09","2013-12-13","2013-12-09"]
[null,null,18,"2013-12-16","2013-12-20","2013-12-16"]
[null,null,19,"2013-12-23","2013-12-27","2013-12-23"]
[null,null,20,"2013-12-30","2014-01-03","2013-12-30"]
[null,null,21,"2014-01-06","2014-01-10","2014-01-06"]
[null,null,22,"2014-01-13","2014-01-17","2014-01-13"]
[null,null,23,"2014-01-20","2014-01-24","2014-01-20"]
[null,null,24,"2014-01-27","2014-01-31","2014-01-27"]
[null,null,25,"2014-02-03","2014-02-07","2014-02-03"]
[null,null,26,"2014-02-10","2014-02-14","2014-02-10"]
[null,null,27,"2014-02-17","2014-02-21","2014-02-17"]
[null,null,28,"2014-02-24","2014-02-28","2014-02-24"]
[null,null,29,{"$f":"$D89+7","v":"2014-03-03"},{"$f":"$E89+7","v":"2014-03-07"},"2014-03-03"]
[null,null,30,{"$f":"$D90+7","v":"2014-03-10"},"2014-03-14","2014-03-10"]
[null,null,31,"2014-03-17","2014-03-21","2014-03-17"]
[null,null,32,"2014-03-24","2014-03-28","2014-03-24"]
[null,null,33,"2014-03-31","2014-04-04","2014-03-31"]
[null,null,34,"2014-04-07","2014-04-11","2014-04-07"]
[null,null,35,"2014-04-14","2014-04-18","2014-04-14"]
[null,null,36,"2014-04-21","2014-04-25","2014-04-21"]
[null,null,37,"2014-04-28","2014-05-02","2014-04-28"]
[null,null,38,"2014-05-05","2014-05-09","2014-05-05"]
[null,null,39,"2014-05-12","2014-05-16","2014-05-12"]
[null,null,40,"2014-05-19","2014-05-23","2014-05-19"]
[null,null,41,"2014-05-26","2014-05-30","2014-05-26"]
[null,null,42,"2014-06-02","2014-06-06","2014-06-02"]
[null,null,43,"2014-06-09","2014-06-13","2014-06-09"]
[null,null,44,"2014-06-16","2014-06-20","2014-06-16"]
[null,null,45,"2014-06-23","2014-06-27","2014-06-23"]
[null,null,46,"2014-06-30","2014-07-04","2014-06-30"]
[null,null,47,"2014-07-07","2014-07-11","2014-07-07"]

{"sheet":"Daten Jahr","index":2,"n_rows":49,"n_cols":13,"rows_kept":49,"cut":false,"hidden":false,"merged":[[48,4,48,8],[18,17,18,20],[1,1,1,3],[29,4,30,8],[39,4,40,8],[0,4,0,5],[1,15,1,17],[11,14,11,18],[9,4,10,8],[20,4,21,8]]}
["Daten Jahr",null,null,null,{"$f":"Start!$D$11","v":"2013-2014"},null,"Klasse",null,{"$f":"Start!$D$12","v":"3/4"}]
["Wo.","Daten",null,null,"Tage","Inhalte",null,null,null,null,null,"Ferien in Tabellenblatt einfügen"]
[1,"2013-08-19","-",{"$f":"Start!E62","v":"2013-08-23"}]
[2,"2013-08-26","-",{"$f":"Start!E63","v":"2013-08-30"},null,null,null,null,null,null,1,"Cursor in die Spalte B mit Beginn der"]
[3,"2013-09-02","-",{"$f":"Start!E64","v":"2013-09-06"},null,null,null,null,null,null,null,"ersten Ferienwoche positionieren,"]
[4,"2013-09-09","-",{"$f":"Start!E65","v":"2013-09-13"},null,null,null,null,null,null,null,"also z.B. in Zelle B10"]
[5,"2013-09-16","-",{"$f":"Start!E66","v":"2013-09-20"}]
[6,"2013-09-23","-",{"$f":"Start!E67","v":"2013-09-27"},null,null,null,null,null,null,2,"Anzahl Ferienwochen anklicken"]
[7,"2013-09-30","-",{"$f":"Start!E68","v":"2013-10-04"},null,null,null,null,null,null,null,null,"oder"]
[8,"2013-10-07","-",{"$f":"Start!E69","v":"2013-10-11"},"Herbstferien",null,null,null,null,null,null,"Frühlingsferien"]
[9,"2013-10-14","-",{"$f":"Start!E70","v":"2013-10-18"},null,null,null,null,null,null,3,"Bezeichnung der Ferien anklicken"]
[10,"2013-10-21","-",{"$f":"Start!E71","v":"2013-10-25"},null,null,null,null,null,null,null,"Cursorposition nicht verändern"]
[11,"2013-10-28","-",{"$f":"Start!E72","v":"2013-11-01"},null,"Freitag. 1.11.","Allerheiligen"]
[12,"2013-11-04","-",{"$f":"Start!E73","v":"2013-11-08"}]
[13,"2013-11-11","-",{"$f":"Start!E74","v":"2013-11-15"}]
[14,"2013-11-18","-",{"$f":"Start!E75","v":"2013-11-22"}]
[15,"2013-11-25","-",{"$f":"Start!E76","v":"2013-11-29"}]
[16,"2013-12-02","-",{"$f":"Start!E77","v":"2013-12-06"}]
[17,"2013-12-09","-",{"$f":"Start!E78","v":"2013-12-13"}]
[18,"2013-12-16","-",{"$f":"Start!E79","v":"2013-12-20"},null,null,null,null,null,null,4,"Zurück zu Punkt 1 und wiederholen,"]
[19,"2013-12-23","-",{"$f":"Start!E80","v":"2013-12-27"},"Weihnachtsferien",null,null,null,null,null,null,"bis alle Ferienwochen eingetragen sind."]
[20,"2013-12-30","-",{"$f":"Start!E81","v":"2014-01-03"}]
[21,"2014-01-06","-",{"$f":"Start!E82","v":"2014-01-10"},null,"Montag 06.01.","Dreikünigstag",null,null,null,5,"Schulwochen in Spalte A von Hand"]
[22,"2014-01-13","-",{"$f":"Start!E83","v":"2014-01-17"},null,null,null,null,null,null,null,"richtig nachtragen"]
[23,"2014-01-20","-",{"$f":"Start!E84","v":"2014-01-24"}]
[24,"2014-01-27","-",{"$f":"Start!E85","v":"2014-01-31"},null,null,null,null,null,null,6,"Formatübertrag auf restliche Datenblätter"]
[25,"2014-02-03","-",{"$f":"Start!E86","v":"2014-02-07"}]
[26,"2014-02-10","-",{"$f":"Start!E87","v":"2014-02-14"}]
[27,"2014-02-17","-",{"$f":"Start!E88","v":"2014-02-21"},null,null,null,null,null,null,7,"Daten Kinder","Daten LP"]
[28,"2014-02-24","-",{"$f":"Start!E89","v":"2014-02-28"},"Sportferien",null,null,null,null,null,null,"Trennlinien von Hand einfügen"]
[29,"2014-03-03","-",{"$f":"Start!E90","v":"2014-03-07"}]
[30,"2014-03-10","-",{"$f":"Start!E91","v":"2014-03-14"},null,null,null,null,null,null,8,"zur Startseite"]
[31,"2014-03-17","-",{"$f":"Start!E92","v":"2014-03-21"},null,"Mittwoch, 19.03.","Josefstag"]
[32,"2014-03-24","-",{"$f":"Start!E93","v":"2014-03-28"}]
[33,"2014-03-31","-",{"$f":"Start!E94","v":"2014-04-04"}]
[34,"2014-04-07","-",{"$f":"Start!E95","v":"2014-04-11"}]
[35,"2014-04-14","-",{"$f":"Start!E96","v":"2014-04-18"},null,"Freitag, 18.04.","Karfreitag"]
[36,"2014-04-21","-",{"$f":"Start!E97","v":"2014-04-25"},null,"Montag, 21.04.","Ostermontag"]
[37,"2014-04-28","-",{"$f":"Start!E98","v":"2014-05-02"}]
[38,"2014-05-05","-",{"$f":"Start!E99","v":"2014-05-09"},"Frühlingsferien"]
[39,"2014-05-12","-",{"$f":"Start!E100","v":"2014-05-16"}]
[40,"2014-05-19","-",{"$f":"Start!E101","v":"2014-05-23"}]
[41,"2014-05-26","-",{"$f":"Start!E102","v":"2014-05-30"},null,"Donnerstag, 29.05.","Auffahrt (Brücke)"]
[42,"2014-06-02","-",{"$f":"Start!E103","v":"2014-06-06"}]
[43,"2014-06-09","-",{"$f":"Start!E104","v":"2014-06-13"},null,"Montag, 09.06.","Pfingstmontag"]
[44,"2014-06-16","-",{"$f":"Start!E105","v":"2014-06-20"},null,"Donnerstag, 19.06.","Fronleichnam (Brücke)"]
[45,"2014-06-23","-",{"$f":"Start!E106","v":"2014-06-27"}]
[46,"2014-06-30","-",{"$f":"Start!E107","v":"2014-07-04"},null,"Freitag, 04.07.","Schulschluss"]
[47,"2014-07-07","-",{"$f":"Start!E108","v":"2014-07-11"},"Sommerferien"]

{"sheet":"Daten Kinder","index":3,"n_rows":49,"n_cols":9,"rows_kept":49,"cut":false,"hidden":false,"merged":[[48,4,48,8],[1,1,1,3],[0,4,0,5],[29,4,30,8],[39,4,40,8],[11,11,12,15],[9,11,9,15],[1,14,1,16],[9,4,10,8],[20,4,21,8]]}
["Daten Kinder",null,null,null,{"$f":"Start!$D$11","v":"2013-2014"},null,"Klasse",null,{"$f":"Start!$D$12","v":"3/4"}]
["Wo.","Daten",null,null,"Tage","Schwimmen","Schulmesse","Rel.","Spezielles"]
[1,"2013-08-19","-",{"$f":"Start!E62","v":"2013-08-23"}]
[2,"2013-08-26","-",{"$f":"Start!E63","v":"2013-08-30"}]
[3,"2013-09-02","-",{"$f":"Start!E64","v":"2013-09-06"}]
[4,"2013-09-09","-",{"$f":"Start!E65","v":"2013-09-13"}]
[5,"2013-09-16","-",{"$f":"Start!E66","v":"2013-09-20"}]
[6,"2013-09-23","-",{"$f":"Start!E67","v":"2013-09-27"}]
[7,"2013-09-30","-",{"$f":"Start!E68","v":"2013-10-04"}]
[8,"2013-10-07","-",{"$f":"Start!E69","v":"2013-10-11"},"Herbstferien"]
[9,"2013-10-14","-",{"$f":"Start!E70","v":"2013-10-18"}]
[10,"2013-10-21","-",{"$f":"Start!E71","v":"2013-10-25"}]
[11,"2013-10-28","-",{"$f":"Start!E72","v":"2013-11-01"}]
[12,"2013-11-04","-",{"$f":"Start!E73","v":"2013-11-08"}]
[13,"2013-11-11","-",{"$f":"Start!E74","v":"2013-11-15"}]
[14,"2013-11-18","-",{"$f":"Start!E75","v":"2013-11-22"}]
[15,"2013-11-25","-",{"$f":"Start!E76","v":"2013-11-29"}]
[16,"2013-12-02","-",{"$f":"Start!E77","v":"2013-12-06"}]
[17,"2013-12-09","-",{"$f":"Start!E78","v":"2013-12-13"}]
[18,"2013-12-16","-",{"$f":"Start!E79","v":"2013-12-20"}]
[19,"2013-12-23","-",{"$f":"Start!E80","v":"2013-12-27"},"Weihnachtsferien"]
[20,"2013-12-30","-",{"$f":"Start!E81","v":"2014-01-03"}]
[21,"2014-01-06","-",{"$f":"Start!E82","v":"2014-01-10"}]
[22,"2014-01-13","-",{"$f":"Start!E83","v":"2014-01-17"}]
[23,"2014-01-20","-",{"$f":"Start!E84","v":"2014-01-24"}]
[24,"2014-01-27","-",{"$f":"Start!E85","v":"2014-01-31"}]
[25,"2014-02-03","-",{"$f":"Start!E86","v":"2014-02-07"}]
[26,"2014-02-10","-",{"$f":"Start!E87","v":"2014-02-14"}]
[27,"2014-02-17","-",{"$f":"Start!E88","v":"2014-02-21"}]
[28,"2014-02-24","-",{"$f":"Start!E89","v":"2014-02-28"},"Sportferien"]
[29,"2014-03-03","-",{"$f":"Start!E90","v":"2014-03-07"}]
[30,"2014-03-10","-",{"$f":"Start!E91","v":"2014-03-14"}]
[31,"2014-03-17","-",{"$f":"Start!E92","v":"2014-03-21"}]
[32,"2014-03-24","-",{"$f":"Start!E93","v":"2014-03-28"}]
[33,"2014-03-31","-",{"$f":"Start!E94","v":"2014-04-04"}]
[34,"2014-04-07","-",{"$f":"Start!E95","v":"2014-04-11"}]
[35,"2014-04-14","-",{"$f":"Start!E96","v":"2014-04-18"}]
[36,"2014-04-21","-",{"$f":"Start!E97","v":"2014-04-25"}]
[37,"2014-04-28","-",{"$f":"Start!E98","v":"2014-05-02"}]
[38,"2014-05-05","-",{"$f":"Start!E99","v":"2014-05-09"},"Frühlingsferien"]
[39,"2014-05-12","-",{"$f":"Start!E100","v":"2014-05-16"}]
[40,"2014-05-19","-",{"$f":"Start!E101","v":"2014-05-23"}]
[41,"2014-05-26","-",{"$f":"Start!E102","v":"2014-05-30"}]
[42,"2014-06-02","-",{"$f":"Start!E103","v":"2014-06-06"}]
[43,"2014-06-09","-",{"$f":"Start!E104","v":"2014-06-13"}]
[44,"2014-06-16","-",{"$f":"Start!E105","v":"2014-06-20"}]
[45,"2014-06-23","-",{"$f":"Start!E106","v":"2014-06-27"}]
[46,"2014-06-30","-",{"$f":"Start!E107","v":"2014-07-04"}]
[47,"2014-07-07","-",{"$f":"Start!E108","v":"2014-07-11"},"Sommerferien"]

{"sheet":"Daten LP","index":4,"n_rows":49,"n_cols":9,"rows_kept":49,"cut":false,"hidden":false,"merged":[[48,4,48,8],[1,1,1,3],[0,4,0,5],[29,4,30,8],[39,4,40,8],[11,11,12,15],[9,11,9,15],[1,14,1,16],[9,4,10,8],[20,4,21,8]]}
["Daten LP",null,null,null,{"$f":"Start!$D$11","v":"2013-2014"},null,"Klasse",null,{"$f":"Start!$D$12","v":"3/4"}]
["Wo.","Daten",null,null,"Tage","Sitzungen","Weiterbildung privat",null,"Weiterbildung Gde/Kanton"]
[1,"2013-08-19","-",{"$f":"Start!E62","v":"2013-08-23"}]
[2,"2013-08-26","-",{"$f":"Start!E63","v":"2013-08-30"}]
[3,"2013-09-02","-",{"$f":"Start!E64","v":"2013-09-06"}]
[4,"2013-09-09","-",{"$f":"Start!E65","v":"2013-09-13"}]
[5,"2013-09-16","-",{"$f":"Start!E66","v":"2013-09-20"}]
[6,"2013-09-23","-",{"$f":"Start!E67","v":"2013-09-27"}]
[7,"2013-09-30","-",{"$f":"Start!E68","v":"2013-10-04"}]
[8,"2013-10-07","-",{"$f":"Start!E69","v":"2013-10-11"},"Herbstferien"]
[9,"2013-10-14","-",{"$f":"Start!E70","v":"2013-10-18"}]
[10,"2013-10-21","-",{"$f":"Start!E71","v":"2013-10-25"}]
[11,"2013-10-28","-",{"$f":"Start!E72","v":"2013-11-01"}]
[12,"2013-11-04","-",{"$f":"Start!E73","v":"2013-11-08"}]
[13,"2013-11-11","-",{"$f":"Start!E74","v":"2013-11-15"}]
[14,"2013-11-18","-",{"$f":"Start!E75","v":"2013-11-22"}]
[15,"2013-11-25","-",{"$f":"Start!E76","v":"2013-11-29"}]
[16,"2013-12-02","-",{"$f":"Start!E77","v":"2013-12-06"}]
[17,"2013-12-09","-",{"$f":"Start!E78","v":"2013-12-13"}]
[18,"2013-12-16","-",{"$f":"Start!E79","v":"2013-12-20"}]
[19,"2013-12-23","-",{"$f":"Start!E80","v":"2013-12-27"},"Weihnachtsferien"]
[20,"2013-12-30","-",{"$f":"Start!E81","v":"2014-01-03"}]
[21,"2014-01-06","-",{"$f":"Start!E82","v":"2014-01-10"}]
[22,"2014-01-13","-",{"$f":"Start!E83","v":"2014-01-17"}]
[23,"2014-01-20","-",{"$f":"Start!E84","v":"2014-01-24"}]
[24,"2014-01-27","-",{"$f":"Start!E85","v":"2014-01-31"}]
[25,"2014-02-03","-",{"$f":"Start!E86","v":"2014-02-07"}]
[26,"2014-02-10","-",{"$f":"Start!E87","v":"2014-02-14"}]
[27,"2014-02-17","-",{"$f":"Start!E88","v":"2014-02-21"}]
[28,"2014-02-24","-",{"$f":"Start!E89","v":"2014-02-28"},"Sportferien"]
[29,"2014-03-03","-",{"$f":"Start!E90","v":"2014-03-07"}]
[30,"2014-03-10","-",{"$f":"Start!E91","v":"2014-03-14"}]
[31,"2014-03-17","-",{"$f":"Start!E92","v":"2014-03-21"}]
[32,"2014-03-24","-",{"$f":"Start!E93","v":"2014-03-28"}]
[33,"2014-03-31","-",{"$f":"Start!E94","v":"2014-04-04"}]
[34,"2014-04-07","-",{"$f":"Start!E95","v":"2014-04-11"}]
[35,"2014-04-14","-",{"$f":"Start!E96","v":"2014-04-18"}]
[36,"2014-04-21","-",{"$f":"Start!E97","v":"2014-04-25"}]
[37,"2014-04-28","-",{"$f":"Start!E98","v":"2014-05-02"}]
[38,"2014-05-05","-",{"$f":"Start!E99","v":"2014-05-09"},"Frühlingsferien"]
[39,"2014-05-12","-",{"$f":"Start!E100","v":"2014-05-16"}]
[40,"2014-05-19","-",{"$f":"Start!E101","v":"2014-05-23"}]
[41,"2014-05-26","-",{"$f":"Start!E102","v":"2014-05-30"}]
[42,"2014-06-02","-",{"$f":"Start!E103","v":"2014-06-06"}]
[43,"2014-06-09","-",{"$f":"Start!E104","v":"2014-06-13"}]
[44,"2014-06-16","-",{"$f":"Start!E105","v":"2014-06-20"}]
[45,"2014-06-23","-",{"$f":"Start!E106","v":"2014-06-27"}]
[46,"2014-06-30","-",{"$f":"Start!E107","v":"2014-07-04"}]
[47,"2014-07-07","-",{"$f":"Start!E108","v":"2014-07-11"},"Sommerferien"]

{"sheet":"ICT","index":5,"n_rows":49,"n_cols":9,"rows_kept":49,"cut":false,"hidden":false,"merged":[[48,4,48,8],[1,1,1,3],[0,4,0,5],[29,4,30,8],[39,4,40,8],[11,11,12,15],[9,11,9,15],[1,14,1,16],[9,4,10,8],[20,4,21,8]]}
["ICT",null,null,null,{"$f":"Start!$D$11","v":"2013-2014"},null,"Klasse",null,{"$f":"Start!$D$12","v":"3/4"}]
["Wo.","Daten",null,null,"Tage","Lehrplan ICT"]
[1,"2013-08-19","-",{"$f":"Start!E62","v":"2013-08-23"}]
[2,"2013-08-26","-",{"$f":"Start!E63","v":"2013-08-30"}]
[3,"2013-09-02","-",{"$f":"Start!E64","v":"2013-09-06"}]
[4,"2013-09-09","-",{"$f":"Start!E65","v":"2013-09-13"}]
[5,"2013-09-16","-",{"$f":"Start!E66","v":"2013-09-20"}]
[6,"2013-09-23","-",{"$f":"Start!E67","v":"2013-09-27"}]
[7,"2013-09-30","-",{"$f":"Start!E68","v":"2013-10-04"}]
[8,"2013-10-07","-",{"$f":"Start!E69","v":"2013-10-11"},"Herbstferien"]
[9,"2013-10-14","-",{"$f":"Start!E70","v":"2013-10-18"}]
[10,"2013-10-21","-",{"$f":"Start!E71","v":"2013-10-25"}]
[11,"2013-10-28","-",{"$f":"Start!E72","v":"2013-11-01"}]
[12,"2013-11-04","-",{"$f":"Start!E73","v":"2013-11-08"}]
[13,"2013-11-11","-",{"$f":"Start!E74","v":"2013-11-15"}]
[14,"2013-11-18","-",{"$f":"Start!E75","v":"2013-11-22"}]
[15,"2013-11-25","-",{"$f":"Start!E76","v":"2013-11-29"}]
[16,"2013-12-02","-",{"$f":"Start!E77","v":"2013-12-06"}]
[17,"2013-12-09","-",{"$f":"Start!E78","v":"2013-12-13"}]
[18,"2013-12-16","-",{"$f":"Start!E79","v":"2013-12-20"}]
[19,"2013-12-23","-",{"$f":"Start!E80","v":"2013-12-27"},"Weihnachtsferien"]
[20,"2013-12-30","-",{"$f":"Start!E81","v":"2014-01-03"}]
[21,"2014-01-06","-",{"$f":"Start!E82","v":"2014-01-10"}]
[22,"2014-01-13","-",{"$f":"Start!E83","v":"2014-01-17"}]
[23,"2014-01-20","-",{"$f":"Start!E84","v":"2014-01-24"}]
[24,"2014-01-27","-",{"$f":"Start!E85","v":"2014-01-31"}]
[25,"2014-02-03","-",{"$f":"Start!E86","v":"2014-02-07"}]
[26,"2014-02-10","-",{"$f":"Start!E87","v":"2014-02-14"}]
[27,"2014-02-17","-",{"$f":"Start!E88","v":"2014-02-21"}]
[28,"2014-02-24","-",{"$f":"Start!E89","v":"2014-02-28"},"Sportferien"]
[29,"2014-03-03","-",{"$f":"Start!E90","v":"2014-03-07"}]
[30,"2014-03-10","-",{"$f":"Start!E91","v":"2014-03-14"}]
[31,"2014-03-17","-",{"$f":"Start!E92","v":"2014-03-21"}]
[32,"2014-03-24","-",{"$f":"Start!E93","v":"2014-03-28"}]
[33,"2014-03-31","-",{"$f":"Start!E94","v":"2014-04-04"}]
[34,"2014-04-07","-",{"$f":"Start!E95","v":"2014-04-11"}]
[35,"2014-04-14","-",{"$f":"Start!E96","v":"2014-04-18"}]
[36,"2014-04-21","-",{"$f":"Start!E97","v":"2014-04-25"}]
[37,"2014-04-28","-",{"$f":"Start!E98","v":"2014-05-02"}]
[38,"2014-05-05","-",{"$f":"Start!E99","v":"2014-05-09"},"Frühlingsferien"]
[39,"2014-05-12","-",{"$f":"Start!E100","v":"2014-05-16"}]
[40,"2014-05-19","-",{"$f":"Start!E101","v":"2014-05-23"}]
[41,"2014-05-26","-",{"$f":"Start!E102","v":"2014-05-30"}]
[42,"2014-06-02","-",{"$f":"Start!E103","v":"2014-06-06"}]
[43,"2014-06-09","-",{"$f":"Start!E104","v":"2014-06-13"}]
[44,"2014-06-16","-",{"$f":"Start!E105","v":"2014-06-20"}]
[45,"2014-06-23","-",{"$f":"Start!E106","v":"2014-06-27"}]
[46,"2014-06-30","-",{"$f":"Start!E107","v":"2014-07-04"}]
[47,"2014-07-07","-",{"$f":"Start!E108","v":"2014-07-11"},"Sommerferien"]

{"sheet":"OA","index":6,"n_rows":49,"n_cols":9,"rows_kept":49,"cut":false,"hidden":false,"merged":[[48,4,48,8],[1,1,1,3],[0,4,0,5],[29,4,30,8],[39,4,40,8],[11,11,12,15],[9,11,9,15],[1,14,1,16],[9,4,10,8],[20,4,21,8]]}
["OA",null,null,null,{"$f":"Start!$D$11","v":"2013-2014"},null,"Klasse",null,{"$f":"Start!$D$12","v":"3/4"}]
["Wo.","Daten",null,null,"Tage"]
[1,"2013-08-19","-",{"$f":"Start!E62","v":"2013-08-23"}]
[2,"2013-08-26","-",{"$f":"Start!E63","v":"2013-08-30"}]
[3,"2013-09-02","-",{"$f":"Start!E64","v":"2013-09-06"}]
[4,"2013-09-09","-",{"$f":"Start!E65","v":"2013-09-13"}]
[5,"2013-09-16","-",{"$f":"Start!E66","v":"2013-09-20"}]
[6,"2013-09-23","-",{"$f":"Start!E67","v":"2013-09-27"}]
[7,"2013-09-30","-",{"$f":"Start!E68","v":"2013-10-04"}]
[8,"2013-10-07","-",{"$f":"Start!E69","v":"2013-10-11"},"Herbstferien"]
[9,"2013-10-14","-",{"$f":"Start!E70","v":"2013-10-18"}]
[10,"2013-10-21","-",{"$f":"Start!E71","v":"2013-10-25"}]
[11,"2013-10-28","-",{"$f":"Start!E72","v":"2013-11-01"}]
[12,"2013-11-04","-",{"$f":"Start!E73","v":"2013-11-08"}]
[13,"2013-11-11","-",{"$f":"Start!E74","v":"2013-11-15"}]
[14,"2013-11-18","-",{"$f":"Start!E75","v":"2013-11-22"}]
[15,"2013-11-25","-",{"$f":"Start!E76","v":"2013-11-29"}]
[16,"2013-12-02","-",{"$f":"Start!E77","v":"2013-12-06"}]
[17,"2013-12-09","-",{"$f":"Start!E78","v":"2013-12-13"}]
[18,"2013-12-16","-",{"$f":"Start!E79","v":"2013-12-20"}]
[19,"2013-12-23","-",{"$f":"Start!E80","v":"2013-12-27"},"Weihnachtsferien"]
[20,"2013-12-30","-",{"$f":"Start!E81","v":"2014-01-03"}]
[21,"2014-01-06","-",{"$f":"Start!E82","v":"2014-01-10"}]
[22,"2014-01-13","-",{"$f":"Start!E83","v":"2014-01-17"}]
[23,"2014-01-20","-",{"$f":"Start!E84","v":"2014-01-24"}]
[24,"2014-01-27","-",{"$f":"Start!E85","v":"2014-01-31"}]
[25,"2014-02-03","-",{"$f":"Start!E86","v":"2014-02-07"}]
[26,"2014-02-10","-",{"$f":"Start!E87","v":"2014-02-14"}]
[27,"2014-02-17","-",{"$f":"Start!E88","v":"2014-02-21"}]
[28,"2014-02-24","-",{"$f":"Start!E89","v":"2014-02-28"},"Sportferien"]
[29,"2014-03-03","-",{"$f":"Start!E90","v":"2014-03-07"}]
[30,"2014-03-10","-",{"$f":"Start!E91","v":"2014-03-14"}]
[31,"2014-03-17","-",{"$f":"Start!E92","v":"2014-03-21"}]
[32,"2014-03-24","-",{"$f":"Start!E93","v":"2014-03-28"}]
[33,"2014-03-31","-",{"$f":"Start!E94","v":"2014-04-04"}]
[34,"2014-04-07","-",{"$f":"Start!E95","v":"2014-04-11"}]
[35,"2014-04-14","-",{"$f":"Start!E96","v":"2014-04-18"}]
[36,"2014-04-21","-",{"$f":"Start!E97","v":"2014-04-25"}]
[37,"2014-04-28","-",{"$f":"Start!E98","v":"2014-05-02"}]
[38,"2014-05-05","-",{"$f":"Start!E99","v":"2014-05-09"},"Frühlingsferien"]
[39,"2014-05-12","-",{"$f":"Start!E100","v":"2014-05-16"}]
[40,"2014-05-19","-",{"$f":"Start!E101","v":"2014-05-23"}]
[41,"2014-05-26","-",{"$f":"Start!E102","v":"2014-05-30"}]
[42,"2014-06-02","-",{"$f":"Start!E103","v":"2014-06-06"}]
[43,"2014-06-09","-",{"$f":"Start!E104","v":"2014-06-13"}]
[44,"2014-06-16","-",{"$f":"Start!E105","v":"2014-06-20"}]
[45,"2014-06-23","-",{"$f":"Start!E106","v":"2014-06-27"}]
[46,"2014-06-30","-",{"$f":"Start!E107","v":"2014-07-04"}]
[47,"2014-07-07","-",{"$f":"Start!E108","v":"2014-07-11"},"Sommerferien"]

{"sheet":"leer 1","index":7,"n_rows":49,"n_cols":9,"rows_kept":49,"cut":false,"hidden":false,"merged":[[48,4,48,8],[1,1,1,3],[0,4,0,5],[29,4,30,8],[39,4,40,8],[11,11,12,15],[9,11,9,15],[1,14,1,16],[9,4,10,8],[20,4,21,8]]}
["leer 1",null,null,null,{"$f":"Start!$D$11","v":"2013-2014"},null,"Klasse",null,{"$f":"Start!$D$12","v":"3/4"}]
["Wo.","Daten",null,null,"Tage"]
[1,"2013-08-19","-",{"$f":"Start!E62","v":"2013-08-23"}]
[2,"2013-08-26","-",{"$f":"Start!E63","v":"2013-08-30"}]
[3,"2013-09-02","-",{"$f":"Start!E64","v":"2013-09-06"}]
[4,"2013-09-09","-",{"$f":"Start!E65","v":"2013-09-13"}]
[5,"2013-09-16","-",{"$f":"Start!E66","v":"2013-09-20"}]
[6,"2013-09-23","-",{"$f":"Start!E67","v":"2013-09-27"}]
[7,"2013-09-30","-",{"$f":"Start!E68","v":"2013-10-04"}]
[8,"2013-10-07","-",{"$f":"Start!E69","v":"2013-10-11"},"Herbstferien"]
[9,"2013-10-14","-",{"$f":"Start!E70","v":"2013-10-18"}]
[10,"2013-10-21","-",{"$f":"Start!E71","v":"2013-10-25"}]
[11,"2013-10-28","-",{"$f":"Start!E72","v":"2013-11-01"}]
[12,"2013-11-04","-",{"$f":"Start!E73","v":"2013-11-08"}]
[13,"2013-11-11","-",{"$f":"Start!E74","v":"2013-11-15"}]
[14,"2013-11-18","-",{"$f":"Start!E75","v":"2013-11-22"}]
[15,"2013-11-25","-",{"$f":"Start!E76","v":"2013-11-29"}]
[16,"2013-12-02","-",{"$f":"Start!E77","v":"2013-12-06"}]
[17,"2013-12-09","-",{"$f":"Start!E78","v":"2013-12-13"}]
[18,"2013-12-16","-",{"$f":"Start!E79","v":"2013-12-20"}]
[19,"2013-12-23","-",{"$f":"Start!E80","v":"2013-12-27"},"Weihnachtsferien"]
[20,"2013-12-30","-",{"$f":"Start!E81","v":"2014-01-03"}]
[21,"2014-01-06","-",{"$f":"Start!E82","v":"2014-01-10"}]
[22,"2014-01-13","-",{"$f":"Start!E83","v":"2014-01-17"}]
[23,"2014-01-20","-",{"$f":"Start!E84","v":"2014-01-24"}]
[24,"2014-01-27","-",{"$f":"Start!E85","v":"2014-01-31"}]
[25,"2014-02-03","-",{"$f":"Start!E86","v":"2014-02-07"}]
[26,"2014-02-10","-",{"$f":"Start!E87","v":"2014-02-14"}]
[27,"2014-02-17","-",{"$f":"Start!E88","v":"2014-02-21"}]
[28,"2014-02-24","-",{"$f":"Start!E89","v":"2014-02-28"},"Sportferien"]
[29,"2014-03-03","-",{"$f":"Start!E90","v":"2014-03-07"}]
[30,"2014-03-10","-",{"$f":"Start!E91","v":"2014-03-14"}]
[31,"2014-03-17","-",{"$f":"Start!E92","v":"2014-03-21"}]
[32,"2014-03-24","-",{"$f":"Start!E93","v":"2014-03-28"}]
[33,"2014-03-31","-",{"$f":"Start!E94","v":"2014-04-04"}]
[34,"2014-04-07","-",{"$f":"Start!E95","v":"2014-04-11"}]
[35,"2014-04-14","-",{"$f":"Start!E96","v":"2014-04-18"}]
[36,"2014-04-21","-",{"$f":"Start!E97","v":"2014-04-25"}]
[37,"2014-04-28","-",{"$f":"Start!E98","v":"2014-05-02"}]
[38,"2014-05-05","-",{"$f":"Start!E99","v":"2014-05-09"},"Frühlingsferien"]
[39,"2014-05-12","-",{"$f":"Start!E100","v":"2014-05-16"}]
[40,"2014-05-19","-",{"$f":"Start!E101","v":"2014-05-23"}]
[41,"2014-05-26","-",{"$f":"Start!E102","v":"2014-05-30"}]
[42,"2014-06-02","-",{"$f":"Start!E103","v":"2014-06-06"}]
[43,"2014-06-09","-",{"$f":"Start!E104","v":"2014-06-13"}]
[44,"2014-06-16","-",{"$f":"Start!E105","v":"2014-06-20"}]
[45,"2014-06-23","-",{"$f":"Start!E106","v":"2014-06-27"}]
[46,"2014-06-30","-",{"$f":"Start!E107","v":"2014-07-04"}]
[47,"2014-07-07","-",{"$f":"Start!E108","v":"2014-07-11"},"Sommerferien"]

{"sheet":"WPF","index":8,"n_rows":49,"n_cols":9,"rows_kept":49,"cut":false,"hidden":false,"merged":[[48,4,48,8],[1,1,1,3],[0,4,0,5],[29,4,30,8],[39,4,40,8],[11,11,12,15],[9,11,9,15],[1,14,1,16],[9,4,10,8],[20,4,21,8]]}
["Wahlpflichtfach",null,null,null,{"$f":"Start!$D$11","v":"2013-2014"},null,"Klasse",null,{"$f":"Start!$D$12","v":"3/4"}]
["Wo.","Daten",null,null,"Tage"]
[1,"2013-08-19","-",{"$f":"Start!E62","v":"2013-08-23"}]
[2,"2013-08-26","-",{"$f":"Start!E63","v":"2013-08-30"}]
[3,"2013-09-02","-",{"$f":"Start!E64","v":"2013-09-06"}]
[4,"2013-09-09","-",{"$f":"Start!E65","v":"2013-09-13"}]
[5,"2013-09-16","-",{"$f":"Start!E66","v":"2013-09-20"}]
[6,"2013-09-23","-",{"$f":"Start!E67","v":"2013-09-27"}]
[7,"2013-09-30","-",{"$f":"Start!E68","v":"2013-10-04"}]
[8,"2013-10-07","-",{"$f":"Start!E69","v":"2013-10-11"},"Herbstferien"]
[9,"2013-10-14","-",{"$f":"Start!E70","v":"2013-10-18"}]
[10,"2013-10-21","-",{"$f":"Start!E71","v":"2013-10-25"}]
[11,"2013-10-28","-",{"$f":"Start!E72","v":"2013-11-01"}]
[12,"2013-11-04","-",{"$f":"Start!E73","v":"2013-11-08"}]
[13,"2013-11-11","-",{"$f":"Start!E74","v":"2013-11-15"}]
[14,"2013-11-18","-",{"$f":"Start!E75","v":"2013-11-22"}]
[15,"2013-11-25","-",{"$f":"Start!E76","v":"2013-11-29"}]
[16,"2013-12-02","-",{"$f":"Start!E77","v":"2013-12-06"}]
[17,"2013-12-09","-",{"$f":"Start!E78","v":"2013-12-13"}]
[18,"2013-12-16","-",{"$f":"Start!E79","v":"2013-12-20"}]
[19,"2013-12-23","-",{"$f":"Start!E80","v":"2013-12-27"},"Weihnachtsferien"]
[20,"2013-12-30","-",{"$f":"Start!E81","v":"2014-01-03"}]
[21,"2014-01-06","-",{"$f":"Start!E82","v":"2014-01-10"}]
[22,"2014-01-13","-",{"$f":"Start!E83","v":"2014-01-17"}]
[23,"2014-01-20","-",{"$f":"Start!E84","v":"2014-01-24"}]
[24,"2014-01-27","-",{"$f":"Start!E85","v":"2014-01-31"}]
[25,"2014-02-03","-",{"$f":"Start!E86","v":"2014-02-07"}]
[26,"2014-02-10","-",{"$f":"Start!E87","v":"2014-02-14"}]
[27,"2014-02-17","-",{"$f":"Start!E88","v":"2014-02-21"}]
[28,"2014-02-24","-",{"$f":"Start!E89","v":"2014-02-28"},"Sportferien"]
[29,"2014-03-03","-",{"$f":"Start!E90","v":"2014-03-07"}]
[30,"2014-03-10","-",{"$f":"Start!E91","v":"2014-03-14"}]
[31,"2014-03-17","-",{"$f":"Start!E92","v":"2014-03-21"}]
[32,"2014-03-24","-",{"$f":"Start!E93","v":"2014-03-28"}]
[33,"2014-03-31","-",{"$f":"Start!E94","v":"2014-04-04"}]
[34,"2014-04-07","-",{"$f":"Start!E95","v":"2014-04-11"}]
[35,"2014-04-14","-",{"$f":"Start!E96","v":"2014-04-18"}]
[36,"2014-04-21","-",{"$f":"Start!E97","v":"2014-04-25"}]
[37,"2014-04-28","-",{"$f":"Start!E98","v":"2014-05-02"}]
[38,"2014-05-05","-",{"$f":"Start!E99","v":"2014-05-09"},"Frühlingsferien"]
[39,"2014-05-12","-",{"$f":"Start!E100","v":"2014-05-16"}]
[40,"2014-05-19","-",{"$f":"Start!E101","v":"2014-05-23"}]
[41,"2014-05-26","-",{"$f":"Start!E102","v":"2014-05-30"}]
[42,"2014-06-02","-",{"$f":"Start!E103","v":"2014-06-06"}]
[43,"2014-06-09","-",{"$f":"Start!E104","v":"2014-06-13"}]
[44,"2014-06-16","-",{"$f":"Start!E105","v":"2014-06-20"}]
[45,"2014-06-23","-",{"$f":"Start!E106","v":"2014-06-27"}]
[46,"2014-06-30","-",{"$f":"Start!E107","v":"2014-07-04"}]
[47,"2014-07-07","-",{"$f":"Start!E108","v":"2014-07-11"},"Sommerferien"]

{"sheet":"Förderunterricht","index":9,"n_rows":49,"n_cols":9,"rows_kept":49,"cut":false,"hidden":false,"merged":[[48,4,48,8],[1,1,1,3],[0,4,0,5],[29,4,30,8],[39,4,40,8],[11,11,12,15],[9,11,9,15],[1,14,1,16],[9,4,10,8],[20,4,21,8]]}
["Förderunterricht",null,null,null,{"$f":"Start!$D$11","v":"2013-2014"},null,"Klasse",null,{"$f":"Start!$D$12","v":"3/4"}]
["Wo.","Daten",null,null,"Tage"]
[1,"2013-08-19","-",{"$f":"Start!E62","v":"2013-08-23"}]
[2,"2013-08-26","-",{"$f":"Start!E63","v":"2013-08-30"}]
[3,"2013-09-02","-",{"$f":"Start!E64","v":"2013-09-06"}]
[4,"2013-09-09","-",{"$f":"Start!E65","v":"2013-09-13"}]
[5,"2013-09-16","-",{"$f":"Start!E66","v":"2013-09-20"}]
[6,"2013-09-23","-",{"$f":"Start!E67","v":"2013-09-27"}]
[7,"2013-09-30","-",{"$f":"Start!E68","v":"2013-10-04"}]
[8,"2013-10-07","-",{"$f":"Start!E69","v":"2013-10-11"},"Herbstferien"]
[9,"2013-10-14","-",{"$f":"Start!E70","v":"2013-10-18"}]
[10,"2013-10-21","-",{"$f":"Start!E71","v":"2013-10-25"}]
[11,"2013-10-28","-",{"$f":"Start!E72","v":"2013-11-01"}]
[12,"2013-11-04","-",{"$f":"Start!E73","v":"2013-11-08"}]
[13,"2013-11-11","-",{"$f":"Start!E74","v":"2013-11-15"}]
[14,"2013-11-18","-",{"$f":"Start!E75","v":"2013-11-22"}]
[15,"2013-11-25","-",{"$f":"Start!E76","v":"2013-11-29"}]
[16,"2013-12-02","-",{"$f":"Start!E77","v":"2013-12-06"}]
[17,"2013-12-09","-",{"$f":"Start!E78","v":"2013-12-13"}]
[18,"2013-12-16","-",{"$f":"Start!E79","v":"2013-12-20"}]
[19,"2013-12-23","-",{"$f":"Start!E80","v":"2013-12-27"},"Weihnachtsferien"]
[20,"2013-12-30","-",{"$f":"Start!E81","v":"2014-01-03"}]
[21,"2014-01-06","-",{"$f":"Start!E82","v":"2014-01-10"}]
[22,"2014-01-13","-",{"$f":"Start!E83","v":"2014-01-17"}]
[23,"2014-01-20","-",{"$f":"Start!E84","v":"2014-01-24"}]
[24,"2014-01-27","-",{"$f":"Start!E85","v":"2014-01-31"}]
[25,"2014-02-03","-",{"$f":"Start!E86","v":"2014-02-07"}]
[26,"2014-02-10","-",{"$f":"Start!E87","v":"2014-02-14"}]
[27,"2014-02-17","-",{"$f":"Start!E88","v":"2014-02-21"}]
[28,"2014-02-24","-",{"$f":"Start!E89","v":"2014-02-28"},"Sportferien"]
[29,"2014-03-03","-",{"$f":"Start!E90","v":"2014-03-07"}]
[30,"2014-03-10","-",{"$f":"Start!E91","v":"2014-03-14"}]
[31,"2014-03-17","-",{"$f":"Start!E92","v":"2014-03-21"}]
[32,"2014-03-24","-",{"$f":"Start!E93","v":"2014-03-28"}]
[33,"2014-03-31","-",{"$f":"Start!E94","v":"2014-04-04"}]
[34,"2014-04-07","-",{"$f":"Start!E95","v":"2014-04-11"}]
[35,"2014-04-14","-",{"$f":"Start!E96","v":"2014-04-18"}]
[36,"2014-04-21","-",{"$f":"Start!E97","v":"2014-04-25"}]
[37,"2014-04-28","-",{"$f":"Start!E98","v":"2014-05-02"}]
[38,"2014-05-05","-",{"$f":"Start!E99","v":"2014-05-09"},"Frühlingsferien"]
[39,"2014-05-12","-",{"$f":"Start!E100","v":"2014-05-16"}]
[40,"2014-05-19","-",{"$f":"Start!E101","v":"2014-05-23"}]
[41,"2014-05-26","-",{"$f":"Start!E102","v":"2014-05-30"}]
[42,"2014-06-02","-",{"$f":"Start!E103","v":"2014-06-06"}]
[43,"2014-06-09","-",{"$f":"Start!E104","v":"2014-06-13"}]
[44,"2014-06-16","-",{"$f":"Start!E105","v":"2014-06-20"}]
[45,"2014-06-23","-",{"$f":"Start!E106","v":"2014-06-27"}]
[46,"2014-06-30","-",{"$f":"Start!E107","v":"2014-07-04"}]
[47,"2014-07-07","-",{"$f":"Start!E108","v":"2014-07-11"},"Sommerferien"]

{"sheet":"Projektunterricht","index":10,"n_rows":49,"n_cols":9,"rows_kept":49,"cut":false,"hidden":false,"merged":[[48,4,48,8],[1,1,1,3],[0,4,0,5],[29,4,30,8],[39,4,40,8],[11,11,12,15],[9,11,9,15],[1,14,1,16],[9,4,10,8],[20,4,21,8]]}
["Projektunterricht",null,null,null,{"$f":"Start!$D$11","v":"2013-2014"},null,"Klasse",null,{"$f":"Start!$D$12","v":"3/4"}]
["Wo.","Daten",null,null,"Tage"]
[1,"2013-08-19","-",{"$f":"Start!E62","v":"2013-08-23"}]
[2,"2013-08-26","-",{"$f":"Start!E63","v":"2013-08-30"}]
[3,"2013-09-02","-",{"$f":"Start!E64","v":"2013-09-06"}]
[4,"2013-09-09","-",{"$f":"Start!E65","v":"2013-09-13"}]
[5,"2013-09-16","-",{"$f":"Start!E66","v":"2013-09-20"}]
[6,"2013-09-23","-",{"$f":"Start!E67","v":"2013-09-27"}]
[7,"2013-09-30","-",{"$f":"Start!E68","v":"2013-10-04"}]
[8,"2013-10-07","-",{"$f":"Start!E69","v":"2013-10-11"},"Herbstferien"]
[9,"2013-10-14","-",{"$f":"Start!E70","v":"2013-10-18"}]
[10,"2013-10-21","-",{"$f":"Start!E71","v":"2013-10-25"}]
[11,"2013-10-28","-",{"$f":"Start!E72","v":"2013-11-01"}]
[12,"2013-11-04","-",{"$f":"Start!E73","v":"2013-11-08"}]
[13,"2013-11-11","-",{"$f":"Start!E74","v":"2013-11-15"}]
[14,"2013-11-18","-",{"$f":"Start!E75","v":"2013-11-22"}]
[15,"2013-11-25","-",{"$f":"Start!E76","v":"2013-11-29"}]
[16,"2013-12-02","-",{"$f":"Start!E77","v":"2013-12-06"}]
[17,"2013-12-09","-",{"$f":"Start!E78","v":"2013-12-13"}]
[18,"2013-12-16","-",{"$f":"Start!E79","v":"2013-12-20"}]
[19,"2013-12-23","-",{"$f":"Start!E80","v":"2013-12-27"},"Weihnachtsferien"]
[20,"2013-12-30","-",{"$f":"Start!E81","v":"2014-01-03"}]
[21,"2014-01-06","-",{"$f":"Start!E82","v":"2014-01-10"}]
[22,"2014-01-13","-",{"$f":"Start!E83","v":"2014-01-17"}]
[23,"2014-01-20","-",{"$f":"Start!E84","v":"2014-01-24"}]
[24,"2014-01-27","-",{"$f":"Start!E85","v":"2014-01-31"}]
[25,"2014-02-03","-",{"$f":"Start!E86","v":"2014-02-07"}]
[26,"2014-02-10","-",{"$f":"Start!E87","v":"2014-02-14"}]
[27,"2014-02-17","-",{"$f":"Start!E88","v":"2014-02-21"}]
[28,"2014-02-24","-",{"$f":"Start!E89","v":"2014-02-28"},"Sportferien"]
[29,"2014-03-03","-",{"$f":"Start!E90","v":"2014-03-07"}]
[30,"2014-03-10","-",{"$f":"Start!E91","v":"2014-03-14"}]
[31,"2014-03-17","-",{"$f":"Start!E92","v":"2014-03-21"}]
[32,"2014-03-24","-",{"$f":"Start!E93","v":"2014-03-28"}]
[33,"2014-03-31","-",{"$f":"Start!E94","v":"2014-04-04"}]
[34,"2014-04-07","-",{"$f":"Start!E95","v":"2014-04-11"}]
[35,"2014-04-14","-",{"$f":"Start!E96","v":"2014-04-18"}]
[36,"2014-04-21","-",{"$f":"Start!E97","v":"2014-04-25"}]
[37,"2014-04-28","-",{"$f":"Start!E98","v":"2014-05-02"}]
[38,"2014-05-05","-",{"$f":"Start!E99","v":"2014-05-09"},"Frühlingsferien"]
[39,"2014-05-12","-",{"$f":"Start!E100","v":"2014-05-16"}]
[40,"2014-05-19","-",{"$f":"Start!E101","v":"2014-05-23"}]
[41,"2014-05-26","-",{"$f":"Start!E102","v":"2014-05-30"}]
[42,"2014-06-02","-",{"$f":"Start!E103","v":"2014-06-06"}]
[43,"2014-06-09","-",{"$f":"Start!E104","v":"2014-06-13"}]
[44,"2014-06-16","-",{"$f":"Start!E105","v":"2014-06-20"}]
[45,"2014-06-23","-",{"$f":"Start!E106","v":"2014-06-27"}]
[46,"2014-06-30","-",{"$f":"Start!E107","v":"2014-07-04"}]
[47,"2014-07-07","-",{"$f":"Start!E108","v":"2014-07-11"},"Sommerferien"]

{"sheet":"Schrift","index":11,"n_rows":49,"n_cols":9,"rows_kept":49,"cut":false,"hidden":false,"merged":[[48,4,48,8],[1,1,1,3],[0,4,0,5],[29,4,30,8],[39,4,40,8],[11,11,12,15],[9,11,9,15],[1,14,1,16],[9,4,10,8],[20,4,21,8]]}
["Schrift",null,null,null,{"$f":"Start!$D$11","v":"2013-2014"},null,"Klasse",null,{"$f":"Start!$D$12","v":"3/4"}]
["Wo.","Daten",null,null,"Tage",null,null,null,"Lehrplan Schrift"]
[1,"2013-08-19","-",{"$f":"Start!E62","v":"2013-08-23"}]
[2,"2013-08-26","-",{"$f":"Start!E63","v":"2013-08-30"}]
[3,"2013-09-02","-",{"$f":"Start!E64","v":"2013-09-06"}]
[4,"2013-09-09","-",{"$f":"Start!E65","v":"2013-09-13"}]
[5,"2013-09-16","-",{"$f":"Start!E66","v":"2013-09-20"}]
[6,"2013-09-23","-",{"$f":"Start!E67","v":"2013-09-27"}]
[7,"2013-09-30","-",{"$f":"Start!E68","v":"2013-10-04"}]
[8,"2013-10-07","-",{"$f":"Start!E69","v":"2013-10-11"},"Herbstferien"]
[9,"2013-10-14","-",{"$f":"Start!E70","v":"2013-10-18"}]
[10,"2013-10-21","-",{"$f":"Start!E71","v":"2013-10-25"}]
[11,"2013-10-28","-",{"$f":"Start!E72","v":"2013-11-01"}]
[12,"2013-11-04","-",{"$f":"Start!E73","v":"2013-11-08"}]
[13,"2013-11-11","-",{"$f":"Start!E74","v":"2013-11-15"}]
[14,"2013-11-18","-",{"$f":"Start!E75","v":"2013-11-22"}]
[15,"2013-11-25","-",{"$f":"Start!E76","v":"2013-11-29"}]
[16,"2013-12-02","-",{"$f":"Start!E77","v":"2013-12-06"}]
[17,"2013-12-09","-",{"$f":"Start!E78","v":"2013-12-13"}]
[18,"2013-12-16","-",{"$f":"Start!E79","v":"2013-12-20"}]
[19,"2013-12-23","-",{"$f":"Start!E80","v":"2013-12-27"},"Weihnachtsferien"]
[20,"2013-12-30","-",{"$f":"Start!E81","v":"2014-01-03"}]
[21,"2014-01-06","-",{"$f":"Start!E82","v":"2014-01-10"}]
[22,"2014-01-13","-",{"$f":"Start!E83","v":"2014-01-17"}]
[23,"2014-01-20","-",{"$f":"Start!E84","v":"2014-01-24"}]
[24,"2014-01-27","-",{"$f":"Start!E85","v":"2014-01-31"}]
[25,"2014-02-03","-",{"$f":"Start!E86","v":"2014-02-07"}]
[26,"2014-02-10","-",{"$f":"Start!E87","v":"2014-02-14"}]
[27,"2014-02-17","-",{"$f":"Start!E88","v":"2014-02-21"}]
[28,"2014-02-24","-",{"$f":"Start!E89","v":"2014-02-28"},"Sportferien"]
[29,"2014-03-03","-",{"$f":"Start!E90","v":"2014-03-07"}]
[30,"2014-03-10","-",{"$f":"Start!E91","v":"2014-03-14"}]
[31,"2014-03-17","-",{"$f":"Start!E92","v":"2014-03-21"}]
[32,"2014-03-24","-",{"$f":"Start!E93","v":"2014-03-28"}]
[33,"2014-03-31","-",{"$f":"Start!E94","v":"2014-04-04"}]
[34,"2014-04-07","-",{"$f":"Start!E95","v":"2014-04-11"}]
[35,"2014-04-14","-",{"$f":"Start!E96","v":"2014-04-18"}]
[36,"2014-04-21","-",{"$f":"Start!E97","v":"2014-04-25"}]
[37,"2014-04-28","-",{"$f":"Start!E98","v":"2014-05-02"}]
[38,"2014-05-05","-",{"$f":"Start!E99","v":"2014-05-09"},"Frühlingsferien"]
[39,"2014-05-12","-",{"$f":"Start!E100","v":"2014-05-16"}]
[40,"2014-05-19","-",{"$f":"Start!E101","v":"2014-05-23"}]
[41,"2014-05-26","-",{"$f":"Start!E102","v":"2014-05-30"}]
[42,"2014-06-02","-",{"$f":"Start!E103","v":"2014-06-06"}]
[43,"2014-06-09","-",{"$f":"Start!E104","v":"2014-06-13"}]
[44,"2014-06-16","-",{"$f":"Start!E105","v":"2014-06-20"}]
[45,"2014-06-23","-",{"$f":"Start!E106","v":"2014-06-27"}]
[46,"2014-06-30","-",{"$f":"Start!E107","v":"2014-07-04"}]
[47,"2014-07-07","-",{"$f":"Start!E108","v":"2014-07-11"},"Sommerferien"]

{"sheet":"Ethik&Religion","index":12,"n_rows":49,"n_cols":9,"rows_kept":49,"cut":false,"hidden":false,"merged":[[48,4,48,8],[1,1,1,3],[0,4,0,5],[29,4,30,8],[39,4,40,8],[11,11,12,15],[9,11,9,15],[1,14,1,16],[9,4,10,8],[20,4,21,8]]}
["Ethik&Religion",null,null,null,{"$f":"Start!$D$11","v":"2013-2014"},null,"Klasse",null,{"$f":"Start!$D$12","v":"3/4"}]
["Wo.","Daten",null,null,"Tage",null,null,null,"Lehrplan Ethik&Religion"]
[1,"2013-08-19","-",{"$f":"Start!E62","v":"2013-08-23"}]
[2,"2013-08-26","-",{"$f":"Start!E63","v":"2013-08-30"}]
[3,"2013-09-02","-",{"$f":"Start!E64","v":"2013-09-06"}]
[4,"2013-09-09","-",{"$f":"Start!E65","v":"2013-09-13"}]
[5,"2013-09-16","-",{"$f":"Start!E66","v":"2013-09-20"}]
[6,"2013-09-23","-",{"$f":"Start!E67","v":"2013-09-27"}]
[7,"2013-09-30","-",{"$f":"Start!E68","v":"2013-10-04"}]
[8,"2013-10-07","-",{"$f":"Start!E69","v":"2013-10-11"},"Herbstferien"]
[9,"2013-10-14","-",{"$f":"Start!E70","v":"2013-10-18"}]
[10,"2013-10-21","-",{"$f":"Start!E71","v":"2013-10-25"}]
[11,"2013-10-28","-",{"$f":"Start!E72","v":"2013-11-01"}]
[12,"2013-11-04","-",{"$f":"Start!E73","v":"2013-11-08"}]
[13,"2013-11-11","-",{"$f":"Start!E74","v":"2013-11-15"}]
[14,"2013-11-18","-",{"$f":"Start!E75","v":"2013-11-22"}]
[15,"2013-11-25","-",{"$f":"Start!E76","v":"2013-11-29"}]
[16,"2013-12-02","-",{"$f":"Start!E77","v":"2013-12-06"}]
[17,"2013-12-09","-",{"$f":"Start!E78","v":"2013-12-13"}]
[18,"2013-12-16","-",{"$f":"Start!E79","v":"2013-12-20"}]
[19,"2013-12-23","-",{"$f":"Start!E80","v":"2013-12-27"},"Weihnachtsferien"]
[20,"2013-12-30","-",{"$f":"Start!E81","v":"2014-01-03"}]
[21,"2014-01-06","-",{"$f":"Start!E82","v":"2014-01-10"}]
[22,"2014-01-13","-",{"$f":"Start!E83","v":"2014-01-17"}]
[23,"2014-01-20","-",{"$f":"Start!E84","v":"2014-01-24"}]
[24,"2014-01-27","-",{"$f":"Start!E85","v":"2014-01-31"}]
[25,"2014-02-03","-",{"$f":"Start!E86","v":"2014-02-07"}]
[26,"2014-02-10","-",{"$f":"Start!E87","v":"2014-02-14"}]
[27,"2014-02-17","-",{"$f":"Start!E88","v":"2014-02-21"}]
[28,"2014-02-24","-",{"$f":"Start!E89","v":"2014-02-28"},"Sportferien"]
[29,"2014-03-03","-",{"$f":"Start!E90","v":"2014-03-07"}]
[30,"2014-03-10","-",{"$f":"Start!E91","v":"2014-03-14"}]
[31,"2014-03-17","-",{"$f":"Start!E92","v":"2014-03-21"}]
[32,"2014-03-24","-",{"$f":"Start!E93","v":"2014-03-28"}]
[33,"2014-03-31","-",{"$f":"Start!E94","v":"2014-04-04"}]
[34,"2014-04-07","-",{"$f":"Start!E95","v":"2014-04-11"}]
[35,"2014-04-14","-",{"$f":"Start!E96","v":"2014-04-18"}]
[36,"2014-04-21","-",{"$f":"Start!E97","v":"2014-04-25"}]
[37,"2014-04-28","-",{"$f":"Start!E98","v":"2014-05-02"}]
[38,"2014-05-05","-",{"$f":"Start!E99","v":"2014-05-09"},"Frühlingsferien"]
[39,"2014-05-12","-",{"$f":"Start!E100","v":"2014-05-16"}]
[40,"2014-05-19","-",{"$f":"Start!E101","v":"2014-05-23"}]
[41,"2014-05-26","-",{"$f":"Start!E102","v":"2014-05-30"}]
[42,"2014-06-02","-",{"$f":"Start!E103","v":"2014-06-06"}]
[43,"2014-06-09","-",{"$f":"Start!E104","v":"2014-06-13"}]
[44,"2014-06-16","-",{"$f":"Start!E105","v":"2014-06-20"}]
[45,"2014-06-23","-",{"$f":"Start!E106","v":"2014-06-27"}]
[46,"2014-06-30","-",{"$f":"Start!E107","v":"2014-07-04"}]
[47,"2014-07-07","-",{"$f":"Start!E108","v":"2014-07-11"},"Sommerferien"]

{"sheet":"TG","index":13,"n_rows":49,"n_cols":9,"rows_kept":49,"cut":false,"hidden":false,"merged":[[48,4,48,8],[1,1,1,3],[0,4,0,5],[29,4,30,8],[39,4,40,8],[11,11,12,15],[9,11,9,15],[1,14,1,16],[9,4,10,8],[20,4,21,8]]}
["TG",null,null,null,{"$f":"Start!$D$11","v":"2013-2014"},null,"Klasse",null,{"$f":"Start!$D$12","v":"3/4"}]
["Wo.","Daten",null,null,"Tage",null,null,null,"Lehrplan TG"]
[1,"2013-08-19","-",{"$f":"Start!E62","v":"2013-08-23"}]
[2,"2013-08-26","-",{"$f":"Start!E63","v":"2013-08-30"}]
[3,"2013-09-02","-",{"$f":"Start!E64","v":"2013-09-06"}]
[4,"2013-09-09","-",{"$f":"Start!E65","v":"2013-09-13"}]
[5,"2013-09-16","-",{"$f":"Start!E66","v":"2013-09-20"}]
[6,"2013-09-23","-",{"$f":"Start!E67","v":"2013-09-27"}]
[7,"2013-09-30","-",{"$f":"Start!E68","v":"2013-10-04"}]
[8,"2013-10-07","-",{"$f":"Start!E69","v":"2013-10-11"},"Herbstferien"]
[9,"2013-10-14","-",{"$f":"Start!E70","v":"2013-10-18"}]
[10,"2013-10-21","-",{"$f":"Start!E71","v":"2013-10-25"}]
[11,"2013-10-28","-",{"$f":"Start!E72","v":"2013-11-01"}]
[12,"2013-11-04","-",{"$f":"Start!E73","v":"2013-11-08"}]
[13,"2013-11-11","-",{"$f":"Start!E74","v":"2013-11-15"}]
[14,"2013-11-18","-",{"$f":"Start!E75","v":"2013-11-22"}]
[15,"2013-11-25","-",{"$f":"Start!E76","v":"2013-11-29"}]
[16,"2013-12-02","-",{"$f":"Start!E77","v":"2013-12-06"}]
[17,"2013-12-09","-",{"$f":"Start!E78","v":"2013-12-13"}]
[18,"2013-12-16","-",{"$f":"Start!E79","v":"2013-12-20"}]
[19,"2013-12-23","-",{"$f":"Start!E80","v":"2013-12-27"},"Weihnachtsferien"]
[20,"2013-12-30","-",{"$f":"Start!E81","v":"2014-01-03"}]
[21,"2014-01-06","-",{"$f":"Start!E82","v":"2014-01-10"}]
[22,"2014-01-13","-",{"$f":"Start!E83","v":"2014-01-17"}]
[23,"2014-01-20","-",{"$f":"Start!E84","v":"2014-01-24"}]
[24,"2014-01-27","-",{"$f":"Start!E85","v":"2014-01-31"}]
[25,"2014-02-03","-",{"$f":"Start!E86","v":"2014-02-07"}]
[26,"2014-02-10","-",{"$f":"Start!E87","v":"2014-02-14"}]
[27,"2014-02-17","-",{"$f":"Start!E88","v":"2014-02-21"}]
[28,"2014-02-24","-",{"$f":"Start!E89","v":"2014-02-28"},"Sportferien"]
[29,"2014-03-03","-",{"$f":"Start!E90","v":"2014-03-07"}]
[30,"2014-03-10","-",{"$f":"Start!E91","v":"2014-03-14"}]
[31,"2014-03-17","-",{"$f":"Start!E92","v":"2014-03-21"}]
[32,"2014-03-24","-",{"$f":"Start!E93","v":"2014-03-28"}]
[33,"2014-03-31","-",{"$f":"Start!E94","v":"2014-04-04"}]
[34,"2014-04-07","-",{"$f":"Start!E95","v":"2014-04-11"}]
[35,"2014-04-14","-",{"$f":"Start!E96","v":"2014-04-18"}]
[36,"2014-04-21","-",{"$f":"Start!E97","v":"2014-04-25"}]
[37,"2014-04-28","-",{"$f":"Start!E98","v":"2014-05-02"}]
[38,"2014-05-05","-",{"$f":"Start!E99","v":"2014-05-09"},"Frühlingsferien"]
[39,"2014-05-12","-",{"$f":"Start!E100","v":"2014-05-16"}]
[40,"2014-05-19","-",{"$f":"Start!E101","v":"2014-05-23"}]
[41,"2014-05-26","-",{"$f":"Start!E102","v":"2014-05-30"}]
[42,"2014-06-02","-",{"$f":"Start!E103","v":"2014-06-06"}]
[43,"2014-06-09","-",{"$f":"Start!E104","v":"2014-06-13"}]
[44,"2014-06-16","-",{"$f":"Start!E105","v":"2014-06-20"}]
[45,"2014-06-23","-",{"$f":"Start!E106","v":"2014-06-27"}]
[46,"2014-06-30","-",{"$f":"Start!E107","v":"2014-07-04"}]
[47,"2014-07-07","-",{"$f":"Start!E108","v":"2014-07-11"},"Sommerferien"]

{"sheet":"BG","index":14,"n_rows":49,"n_cols":9,"rows_kept":49,"cut":false,"hidden":false,"merged":[[48,4,48,8],[1,1,1,3],[0,4,0,5],[29,4,30,8],[39,4,40,8],[11,11,12,15],[9,11,9,15],[1,14,1,16],[9,4,10,8],[20,4,21,8]]}
["BG",null,null,null,{"$f":"Start!$D$11","v":"2013-2014"},null,"Klasse",null,{"$f":"Start!$D$12","v":"3/4"}]
["Wo.","Daten",null,null,"Tage",null,null,null,"Lehrplan BG"]
[1,"2013-08-19","-",{"$f":"Start!E62","v":"2013-08-23"}]
[2,"2013-08-26","-",{"$f":"Start!E63","v":"2013-08-30"}]
[3,"2013-09-02","-",{"$f":"Start!E64","v":"2013-09-06"}]
[4,"2013-09-09","-",{"$f":"Start!E65","v":"2013-09-13"}]
[5,"2013-09-16","-",{"$f":"Start!E66","v":"2013-09-20"}]
[6,"2013-09-23","-",{"$f":"Start!E67","v":"2013-09-27"}]
[7,"2013-09-30","-",{"$f":"Start!E68","v":"2013-10-04"}]
[8,"2013-10-07","-",{"$f":"Start!E69","v":"2013-10-11"},"Herbstferien"]
[9,"2013-10-14","-",{"$f":"Start!E70","v":"2013-10-18"}]
[10,"2013-10-21","-",{"$f":"Start!E71","v":"2013-10-25"}]
[11,"2013-10-28","-",{"$f":"Start!E72","v":"2013-11-01"}]
[12,"2013-11-04","-",{"$f":"Start!E73","v":"2013-11-08"}]
[13,"2013-11-11","-",{"$f":"Start!E74","v":"2013-11-15"}]
[14,"2013-11-18","-",{"$f":"Start!E75","v":"2013-11-22"}]
[15,"2013-11-25","-",{"$f":"Start!E76","v":"2013-11-29"}]
[16,"2013-12-02","-",{"$f":"Start!E77","v":"2013-12-06"}]
[17,"2013-12-09","-",{"$f":"Start!E78","v":"2013-12-13"}]
[18,"2013-12-16","-",{"$f":"Start!E79","v":"2013-12-20"}]
[19,"2013-12-23","-",{"$f":"Start!E80","v":"2013-12-27"},"Weihnachtsferien"]
[20,"2013-12-30","-",{"$f":"Start!E81","v":"2014-01-03"}]
[21,"2014-01-06","-",{"$f":"Start!E82","v":"2014-01-10"}]
[22,"2014-01-13","-",{"$f":"Start!E83","v":"2014-01-17"}]
[23,"2014-01-20","-",{"$f":"Start!E84","v":"2014-01-24"}]
[24,"2014-01-27","-",{"$f":"Start!E85","v":"2014-01-31"}]
[25,"2014-02-03","-",{"$f":"Start!E86","v":"2014-02-07"}]
[26,"2014-02-10","-",{"$f":"Start!E87","v":"2014-02-14"}]
[27,"2014-02-17","-",{"$f":"Start!E88","v":"2014-02-21"}]
[28,"2014-02-24","-",{"$f":"Start!E89","v":"2014-02-28"},"Sportferien"]
[29,"2014-03-03","-",{"$f":"Start!E90","v":"2014-03-07"}]
[30,"2014-03-10","-",{"$f":"Start!E91","v":"2014-03-14"}]
[31,"2014-03-17","-",{"$f":"Start!E92","v":"2014-03-21"}]
[32,"2014-03-24","-",{"$f":"Start!E93","v":"2014-03-28"}]
[33,"2014-03-31","-",{"$f":"Start!E94","v":"2014-04-04"}]
[34,"2014-04-07","-",{"$f":"Start!E95","v":"2014-04-11"}]
[35,"2014-04-14","-",{"$f":"Start!E96","v":"2014-04-18"}]
[36,"2014-04-21","-",{"$f":"Start!E97","v":"2014-04-25"}]
[37,"2014-04-28","-",{"$f":"Start!E98","v":"2014-05-02"}]
[38,"2014-05-05","-",{"$f":"Start!E99","v":"2014-05-09"},"Frühlingsferien"]
[39,"2014-05-12","-",{"$f":"Start!E100","v":"2014-05-16"}]
[40,"2014-05-19","-",{"$f":"Start!E101","v":"2014-05-23"}]
[41,"2014-05-26","-",{"$f":"Start!E102","v":"2014-05-30"}]
[42,"2014-06-02","-",{"$f":"Start!E103","v":"2014-06-06"}]
[43,"2014-06-09","-",{"$f":"Start!E104","v":"2014-06-13"}]
[44,"2014-06-16","-",{"$f":"Start!E105","v":"2014-06-20"}]
[45,"2014-06-23","-",{"$f":"Start!E106","v":"2014-06-27"}]
[46,"2014-06-30","-",{"$f":"Start!E107","v":"2014-07-04"}]
[47,"2014-07-07","-",{"$f":"Start!E108","v":"2014-07-11"},"Sommerferien"]

{"sheet":"Musik","index":15,"n_rows":49,"n_cols":9,"rows_kept":49,"cut":false,"hidden":false,"merged":[[48,4,48,8],[1,1,1,3],[0,4,0,5],[29,4,30,8],[39,4,40,8],[11,11,12,15],[9,11,9,15],[1,14,1,16],[9,4,10,8],[20,4,21,8]]}
["Musik",null,null,null,{"$f":"Start!$D$11","v":"2013-2014"},null,"Klasse",null,{"$f":"Start!$D$12","v":"3/4"}]
["Wo.","Daten",null,null,"Tage",null,null,null,"Lehrplan Musik"]
[1,"2013-08-19","-",{"$f":"Start!E62","v":"2013-08-23"}]
[2,"2013-08-26","-",{"$f":"Start!E63","v":"2013-08-30"}]
[3,"2013-09-02","-",{"$f":"Start!E64","v":"2013-09-06"}]
[4,"2013-09-09","-",{"$f":"Start!E65","v":"2013-09-13"}]
[5,"2013-09-16","-",{"$f":"Start!E66","v":"2013-09-20"}]
[6,"2013-09-23","-",{"$f":"Start!E67","v":"2013-09-27"}]
[7,"2013-09-30","-",{"$f":"Start!E68","v":"2013-10-04"}]
[8,"2013-10-07","-",{"$f":"Start!E69","v":"2013-10-11"},"Herbstferien"]
[9,"2013-10-14","-",{"$f":"Start!E70","v":"2013-10-18"}]
[10,"2013-10-21","-",{"$f":"Start!E71","v":"2013-10-25"}]
[11,"2013-10-28","-",{"$f":"Start!E72","v":"2013-11-01"}]
[12,"2013-11-04","-",{"$f":"Start!E73","v":"2013-11-08"}]
[13,"2013-11-11","-",{"$f":"Start!E74","v":"2013-11-15"}]
[14,"2013-11-18","-",{"$f":"Start!E75","v":"2013-11-22"}]
[15,"2013-11-25","-",{"$f":"Start!E76","v":"2013-11-29"}]
[16,"2013-12-02","-",{"$f":"Start!E77","v":"2013-12-06"}]
[17,"2013-12-09","-",{"$f":"Start!E78","v":"2013-12-13"}]
[18,"2013-12-16","-",{"$f":"Start!E79","v":"2013-12-20"}]
[19,"2013-12-23","-",{"$f":"Start!E80","v":"2013-12-27"},"Weihnachtsferien"]
[20,"2013-12-30","-",{"$f":"Start!E81","v":"2014-01-03"}]
[21,"2014-01-06","-",{"$f":"Start!E82","v":"2014-01-10"}]
[22,"2014-01-13","-",{"$f":"Start!E83","v":"2014-01-17"}]
[23,"2014-01-20","-",{"$f":"Start!E84","v":"2014-01-24"}]
[24,"2014-01-27","-",{"$f":"Start!E85","v":"2014-01-31"}]
[25,"2014-02-03","-",{"$f":"Start!E86","v":"2014-02-07"}]
[26,"2014-02-10","-",{"$f":"Start!E87","v":"2014-02-14"}]
[27,"2014-02-17","-",{"$f":"Start!E88","v":"2014-02-21"}]
[28,"2014-02-24","-",{"$f":"Start!E89","v":"2014-02-28"},"Sportferien"]
[29,"2014-03-03","-",{"$f":"Start!E90","v":"2014-03-07"}]
[30,"2014-03-10","-",{"$f":"Start!E91","v":"2014-03-14"}]
[31,"2014-03-17","-",{"$f":"Start!E92","v":"2014-03-21"}]
[32,"2014-03-24","-",{"$f":"Start!E93","v":"2014-03-28"}]
[33,"2014-03-31","-",{"$f":"Start!E94","v":"2014-04-04"}]
[34,"2014-04-07","-",{"$f":"Start!E95","v":"2014-04-11"}]
[35,"2014-04-14","-",{"$f":"Start!E96","v":"2014-04-18"}]
[36,"2014-04-21","-",{"$f":"Start!E97","v":"2014-04-25"}]
[37,"2014-04-28","-",{"$f":"Start!E98","v":"2014-05-02"}]
[38,"2014-05-05","-",{"$f":"Start!E99","v":"2014-05-09"},"Frühlingsferien"]
[39,"2014-05-12","-",{"$f":"Start!E100","v":"2014-05-16"}]
[40,"2014-05-19","-",{"$f":"Start!E101","v":"2014-05-23"}]
[41,"2014-05-26","-",{"$f":"Start!E102","v":"2014-05-30"}]
[42,"2014-06-02","-",{"$f":"Start!E103","v":"2014-06-06"}]
[43,"2014-06-09","-",{"$f":"Start!E104","v":"2014-06-13"}]
[44,"2014-06-16","-",{"$f":"Start!E105","v":"2014-06-20"}]
[45,"2014-06-23","-",{"$f":"Start!E106","v":"2014-06-27"}]
[46,"2014-06-30","-",{"$f":"Start!E107","v":"2014-07-04"}]
[47,"2014-07-07","-",{"$f":"Start!E108","v":"2014-07-11"},"Sommerferien"]

{"sheet":"Schwimmen","index":16,"n_rows":49,"n_cols":9,"rows_kept":49,"cut":false,"hidden":false,"merged":[[48,4,48,8],[1,1,1,3],[0,4,0,5],[29,4,30,8],[39,4,40,8],[11,11,12,15],[9,11,9,15],[1,14,1,16],[9,4,10,8],[20,4,21,8]]}
["Schwimmen",null,null,null,{"$f":"Start!$D$11","v":"2013-2014"},null,"Klasse",null,{"$f":"Start!$D$12","v":"3/4"}]
["Wo.","Daten",null,null,"Tage"]
[1,"2013-08-19","-",{"$f":"Start!E62","v":"2013-08-23"}]
[2,"2013-08-26","-",{"$f":"Start!E63","v":"2013-08-30"}]
[3,"2013-09-02","-",{"$f":"Start!E64","v":"2013-09-06"}]
[4,"2013-09-09","-",{"$f":"Start!E65","v":"2013-09-13"}]
[5,"2013-09-16","-",{"$f":"Start!E66","v":"2013-09-20"}]
[6,"2013-09-23","-",{"$f":"Start!E67","v":"2013-09-27"}]
[7,"2013-09-30","-",{"$f":"Start!E68","v":"2013-10-04"}]
[8,"2013-10-07","-",{"$f":"Start!E69","v":"2013-10-11"},"Herbstferien"]
[9,"2013-10-14","-",{"$f":"Start!E70","v":"2013-10-18"}]
[10,"2013-10-21","-",{"$f":"Start!E71","v":"2013-10-25"}]
[11,"2013-10-28","-",{"$f":"Start!E72","v":"2013-11-01"}]
[12,"2013-11-04","-",{"$f":"Start!E73","v":"2013-11-08"}]
[13,"2013-11-11","-",{"$f":"Start!E74","v":"2013-11-15"}]
[14,"2013-11-18","-",{"$f":"Start!E75","v":"2013-11-22"}]
[15,"2013-11-25","-",{"$f":"Start!E76","v":"2013-11-29"}]
[16,"2013-12-02","-",{"$f":"Start!E77","v":"2013-12-06"}]
[17,"2013-12-09","-",{"$f":"Start!E78","v":"2013-12-13"}]
[18,"2013-12-16","-",{"$f":"Start!E79","v":"2013-12-20"}]
[19,"2013-12-23","-",{"$f":"Start!E80","v":"2013-12-27"},"Weihnachtsferien"]
[20,"2013-12-30","-",{"$f":"Start!E81","v":"2014-01-03"}]
[21,"2014-01-06","-",{"$f":"Start!E82","v":"2014-01-10"}]
[22,"2014-01-13","-",{"$f":"Start!E83","v":"2014-01-17"}]
[23,"2014-01-20","-",{"$f":"Start!E84","v":"2014-01-24"}]
[24,"2014-01-27","-",{"$f":"Start!E85","v":"2014-01-31"}]
[25,"2014-02-03","-",{"$f":"Start!E86","v":"2014-02-07"}]
[26,"2014-02-10","-",{"$f":"Start!E87","v":"2014-02-14"}]
[27,"2014-02-17","-",{"$f":"Start!E88","v":"2014-02-21"}]
[28,"2014-02-24","-",{"$f":"Start!E89","v":"2014-02-28"},"Sportferien"]
[29,"2014-03-03","-",{"$f":"Start!E90","v":"2014-03-07"}]
[30,"2014-03-10","-",{"$f":"Start!E91","v":"2014-03-14"}]
[31,"2014-03-17","-",{"$f":"Start!E92","v":"2014-03-21"}]
[32,"2014-03-24","-",{"$f":"Start!E93","v":"2014-03-28"}]
[33,"2014-03-31","-",{"$f":"Start!E94","v":"2014-04-04"}]
[34,"2014-04-07","-",{"$f":"Start!E95","v":"2014-04-11"}]
[35,"2014-04-14","-",{"$f":"Start!E96","v":"2014-04-18"}]
[36,"2014-04-21","-",{"$f":"Start!E97","v":"2014-04-25"}]
[37,"2014-04-28","-",{"$f":"Start!E98","v":"2014-05-02"}]
[38,"2014-05-05","-",{"$f":"Start!E99","v":"2014-05-09"},"Frühlingsferien"]
[39,"2014-05-12","-",{"$f":"Start!E100","v":"2014-05-16"}]
[40,"2014-05-19","-",{"$f":"Start!E101","v":"2014-05-23"}]
[41,"2014-05-26","-",{"$f":"Start!E102","v":"2014-05-30"}]
[42,"2014-06-02","-",{"$f":"Start!E103","v":"2014-06-06"}]
[43,"2014-06-09","-",{"$f":"Start!E104","v":"2014-06-13"}]
[44,"2014-06-16","-",{"$f":"Start!E105","v":"2014-06-20"}]
[45,"2014-06-23","-",{"$f":"Start!E106","v":"2014-06-27"}]
[46,"2014-06-30","-",{"$f":"Start!E107","v":"2014-07-04"}]
[47,"2014-07-07","-",{"$f":"Start!E108","v":"2014-07-11"},"Sommerferien"]

{"sheet":"Turnen","index":17,"n_rows":49,"n_cols":9,"rows_kept":49,"cut":false,"hidden":false,"merged":[[48,4,48,8],[1,1,1,3],[0,4,0,5],[29,4,30,8],[39,4,40,8],[11,11,12,15],[9,11,9,15],[1,14,1,16],[9,4,10,8],[20,4,21,8]]}
["Turnen",null,null,null,{"$f":"Start!$D$11","v":"2013-2014"},null,"Klasse",null,{"$f":"Start!$D$12","v":"3/4"}]
["Wo.","Daten",null,null,"Tage",null,null,null,"Lehrplan Turnen"]
[1,"2013-08-19","-",{"$f":"Start!E62","v":"2013-08-23"}]
[2,"2013-08-26","-",{"$f":"Start!E63","v":"2013-08-30"}]
[3,"2013-09-02","-",{"$f":"Start!E64","v":"2013-09-06"}]
[4,"2013-09-09","-",{"$f":"Start!E65","v":"2013-09-13"}]
[5,"2013-09-16","-",{"$f":"Start!E66","v":"2013-09-20"}]
[6,"2013-09-23","-",{"$f":"Start!E67","v":"2013-09-27"}]
[7,"2013-09-30","-",{"$f":"Start!E68","v":"2013-10-04"}]
[8,"2013-10-07","-",{"$f":"Start!E69","v":"2013-10-11"},"Herbstferien"]
[9,"2013-10-14","-",{"$f":"Start!E70","v":"2013-10-18"}]
[10,"2013-10-21","-",{"$f":"Start!E71","v":"2013-10-25"}]
[11,"2013-10-28","-",{"$f":"Start!E72","v":"2013-11-01"}]
[12,"2013-11-04","-",{"$f":"Start!E73","v":"2013-11-08"}]
[13,"2013-11-11","-",{"$f":"Start!E74","v":"2013-11-15"}]
[14,"2013-11-18","-",{"$f":"Start!E75","v":"2013-11-22"}]
[15,"2013-11-25","-",{"$f":"Start!E76","v":"2013-11-29"}]
[16,"2013-12-02","-",{"$f":"Start!E77","v":"2013-12-06"}]
[17,"2013-12-09","-",{"$f":"Start!E78","v":"2013-12-13"}]
[18,"2013-12-16","-",{"$f":"Start!E79","v":"2013-12-20"}]
[19,"2013-12-23","-",{"$f":"Start!E80","v":"2013-12-27"},"Weihnachtsferien"]
[20,"2013-12-30","-",{"$f":"Start!E81","v":"2014-01-03"}]
[21,"2014-01-06","-",{"$f":"Start!E82","v":"2014-01-10"}]
[22,"2014-01-13","-",{"$f":"Start!E83","v":"2014-01-17"}]
[23,"2014-01-20","-",{"$f":"Start!E84","v":"2014-01-24"}]
[24,"2014-01-27","-",{"$f":"Start!E85","v":"2014-01-31"}]
[25,"2014-02-03","-",{"$f":"Start!E86","v":"2014-02-07"}]
[26,"2014-02-10","-",{"$f":"Start!E87","v":"2014-02-14"}]
[27,"2014-02-17","-",{"$f":"Start!E88","v":"2014-02-21"}]
[28,"2014-02-24","-",{"$f":"Start!E89","v":"2014-02-28"},"Sportferien"]
[29,"2014-03-03","-",{"$f":"Start!E90","v":"2014-03-07"}]
[30,"2014-03-10","-",{"$f":"Start!E91","v":"2014-03-14"}]
[31,"2014-03-17","-",{"$f":"Start!E92","v":"2014-03-21"}]
[32,"2014-03-24","-",{"$f":"Start!E93","v":"2014-03-28"}]
[33,"2014-03-31","-",{"$f":"Start!E94","v":"2014-04-04"}]
[34,"2014-04-07","-",{"$f":"Start!E95","v":"2014-04-11"}]
[35,"2014-04-14","-",{"$f":"Start!E96","v":"2014-04-18"}]
[36,"2014-04-21","-",{"$f":"Start!E97","v":"2014-04-25"}]
[37,"2014-04-28","-",{"$f":"Start!E98","v":"2014-05-02"}]
[38,"2014-05-05","-",{"$f":"Start!E99","v":"2014-05-09"},"Frühlingsferien"]
[39,"2014-05-12","-",{"$f":"Start!E100","v":"2014-05-16"}]
[40,"2014-05-19","-",{"$f":"Start!E101","v":"2014-05-23"}]
[41,"2014-05-26","-",{"$f":"Start!E102","v":"2014-05-30"}]
[42,"2014-06-02","-",{"$f":"Start!E103","v":"2014-06-06"}]
[43,"2014-06-09","-",{"$f":"Start!E104","v":"2014-06-13"}]
[44,"2014-06-16","-",{"$f":"Start!E105","v":"2014-06-20"}]
[45,"2014-06-23","-",{"$f":"Start!E106","v":"2014-06-27"}]
[46,"2014-06-30","-",{"$f":"Start!E107","v":"2014-07-04"}]
[47,"2014-07-07","-",{"$f":"Start!E108","v":"2014-07-11"},"Sommerferien"]

{"sheet":"Religion","index":18,"n_rows":49,"n_cols":9,"rows_kept":49,"cut":false,"hidden":false,"merged":[[48,4,48,8],[11,11,12,15],[9,11,9,15],[1,14,1,16],[1,1,1,3],[9,4,10,8],[20,4,21,8],[29,4,30,8],[39,4,40,8]]}
["Religion",null,null,null,"2005/06","Klassen","5a/6d",null,"Joachim Lurk"]
["Wo.","Daten",null,null,"Tage"]
[1,"2013-08-19","-",{"$f":"Start!E62","v":"2013-08-23"}]
[2,"2013-08-26","-",{"$f":"Start!E63","v":"2013-08-30"}]
[3,"2013-09-02","-",{"$f":"Start!E64","v":"2013-09-06"}]
[4,"2013-09-09","-",{"$f":"Start!E65","v":"2013-09-13"}]
[5,"2013-09-16","-",{"$f":"Start!E66","v":"2013-09-20"}]
[6,"2013-09-23","-",{"$f":"Start!E67","v":"2013-09-27"}]
[7,"2013-09-30","-",{"$f":"Start!E68","v":"2013-10-04"}]
[8,"2013-10-07","-",{"$f":"Start!E69","v":"2013-10-11"},"Herbstferien"]
[9,"2013-10-14","-",{"$f":"Start!E70","v":"2013-10-18"}]
[10,"2013-10-21","-",{"$f":"Start!E71","v":"2013-10-25"}]
[11,"2013-10-28","-",{"$f":"Start!E72","v":"2013-11-01"}]
[12,"2013-11-04","-",{"$f":"Start!E73","v":"2013-11-08"}]
[13,"2013-11-11","-",{"$f":"Start!E74","v":"2013-11-15"}]
[14,"2013-11-18","-",{"$f":"Start!E75","v":"2013-11-22"}]
[15,"2013-11-25","-",{"$f":"Start!E76","v":"2013-11-29"}]
[16,"2013-12-02","-",{"$f":"Start!E77","v":"2013-12-06"}]
[17,"2013-12-09","-",{"$f":"Start!E78","v":"2013-12-13"}]
[18,"2013-12-16","-",{"$f":"Start!E79","v":"2013-12-20"}]
[19,"2013-12-23","-",{"$f":"Start!E80","v":"2013-12-27"},"Weihnachtsferien"]
[20,"2013-12-30","-",{"$f":"Start!E81","v":"2014-01-03"}]
[21,"2014-01-06","-",{"$f":"Start!E82","v":"2014-01-10"}]
[22,"2014-01-13","-",{"$f":"Start!E83","v":"2014-01-17"}]
[23,"2014-01-20","-",{"$f":"Start!E84","v":"2014-01-24"}]
[24,"2014-01-27","-",{"$f":"Start!E85","v":"2014-01-31"}]
[25,"2014-02-03","-",{"$f":"Start!E86","v":"2014-02-07"}]
[26,"2014-02-10","-",{"$f":"Start!E87","v":"2014-02-14"}]
[27,"2014-02-17","-",{"$f":"Start!E88","v":"2014-02-21"}]
[28,"2014-02-24","-",{"$f":"Start!E89","v":"2014-02-28"},"Sportferien"]
[29,"2014-03-03","-",{"$f":"Start!E90","v":"2014-03-07"}]
[30,"2014-03-10","-",{"$f":"Start!E91","v":"2014-03-14"}]
[31,"2014-03-17","-",{"$f":"Start!E92","v":"2014-03-21"}]
[32,"2014-03-24","-",{"$f":"Start!E93","v":"2014-03-28"}]
[33,"2014-03-31","-",{"$f":"Start!E94","v":"2014-04-04"}]
[34,"2014-04-07","-",{"$f":"Start!E95","v":"2014-04-11"}]
[35,"2014-04-14","-",{"$f":"Start!E96","v":"2014-04-18"}]
[36,"2014-04-21","-",{"$f":"Start!E97","v":"2014-04-25"}]
[37,"2014-04-28","-",{"$f":"Start!E98","v":"2014-05-02"}]
[38,"2014-05-05","-",{"$f":"Start!E99","v":"2014-05-09"},"Frühlingsferien"]
[39,"2014-05-12","-",{"$f":"Start!E100","v":"2014-05-16"}]
[40,"2014-05-19","-",{"$f":"Start!E101","v":"2014-05-23"}]
[41,"2014-05-26","-",{"$f":"Start!E102","v":"2014-05-30"}]
[42,"2014-06-02","-",{"$f":"Start!E103","v":"2014-06-06"}]
[43,"2014-06-09","-",{"$f":"Start!E104","v":"2014-06-13"}]
[44,"2014-06-16","-",{"$f":"Start!E105","v":"2014-06-20"}]
[45,"2014-06-23","-",{"$f":"Start!E106","v":"2014-06-27"}]
[46,"2014-06-30","-",{"$f":"Start!E107","v":"2014-07-04"}]
[47,"2014-07-07","-",{"$f":"Start!E108","v":"2014-07-11"},"Sommerferien"]

{"sheet":"Fachlektion","index":19,"n_rows":49,"n_cols":9,"rows_kept":49,"cut":false,"hidden":false,"merged":[[48,4,48,8],[1,1,1,3],[0,4,0,5],[29,4,30,8],[39,4,40,8],[11,11,12,15],[9,11,9,15],[1,14,1,16],[9,4,10,8],[20,4,21,8]]}
["Fachlektion",null,null,null,{"$f":"Start!$D$11","v":"2013-2014"},null,"Klasse",null,{"$f":"Start!$D$12","v":"3/4"}]
["Wo.","Daten",null,null,"Tage"]
[1,"2013-08-19","-",{"$f":"Start!E62","v":"2013-08-23"}]
[2,"2013-08-26","-",{"$f":"Start!E63","v":"2013-08-30"}]
[3,"2013-09-02","-",{"$f":"Start!E64","v":"2013-09-06"}]
[4,"2013-09-09","-",{"$f":"Start!E65","v":"2013-09-13"}]
[5,"2013-09-16","-",{"$f":"Start!E66","v":"2013-09-20"}]
[6,"2013-09-23","-",{"$f":"Start!E67","v":"2013-09-27"}]
[7,"2013-09-30","-",{"$f":"Start!E68","v":"2013-10-04"}]
[8,"2013-10-07","-",{"$f":"Start!E69","v":"2013-10-11"},"Herbstferien"]
[9,"2013-10-14","-",{"$f":"Start!E70","v":"2013-10-18"}]
[10,"2013-10-21","-",{"$f":"Start!E71","v":"2013-10-25"}]
[11,"2013-10-28","-",{"$f":"Start!E72","v":"2013-11-01"}]
[12,"2013-11-04","-",{"$f":"Start!E73","v":"2013-11-08"}]
[13,"2013-11-11","-",{"$f":"Start!E74","v":"2013-11-15"}]
[14,"2013-11-18","-",{"$f":"Start!E75","v":"2013-11-22"}]
[15,"2013-11-25","-",{"$f":"Start!E76","v":"2013-11-29"}]
[16,"2013-12-02","-",{"$f":"Start!E77","v":"2013-12-06"}]
[17,"2013-12-09","-",{"$f":"Start!E78","v":"2013-12-13"}]
[18,"2013-12-16","-",{"$f":"Start!E79","v":"2013-12-20"}]
[19,"2013-12-23","-",{"$f":"Start!E80","v":"2013-12-27"},"Weihnachtsferien"]
[20,"2013-12-30","-",{"$f":"Start!E81","v":"2014-01-03"}]
[21,"2014-01-06","-",{"$f":"Start!E82","v":"2014-01-10"}]
[22,"2014-01-13","-",{"$f":"Start!E83","v":"2014-01-17"}]
[23,"2014-01-20","-",{"$f":"Start!E84","v":"2014-01-24"}]
[24,"2014-01-27","-",{"$f":"Start!E85","v":"2014-01-31"}]
[25,"2014-02-03","-",{"$f":"Start!E86","v":"2014-02-07"}]
[26,"2014-02-10","-",{"$f":"Start!E87","v":"2014-02-14"}]
[27,"2014-02-17","-",{"$f":"Start!E88","v":"2014-02-21"}]
[28,"2014-02-24","-",{"$f":"Start!E89","v":"2014-02-28"},"Sportferien"]
[29,"2014-03-03","-",{"$f":"Start!E90","v":"2014-03-07"}]
[30,"2014-03-10","-",{"$f":"Start!E91","v":"2014-03-14"}]
[31,"2014-03-17","-",{"$f":"Start!E92","v":"2014-03-21"}]
[32,"2014-03-24","-",{"$f":"Start!E93","v":"2014-03-28"}]
[33,"2014-03-31","-",{"$f":"Start!E94","v":"2014-04-04"}]
[34,"2014-04-07","-",{"$f":"Start!E95","v":"2014-04-11"}]
[35,"2014-04-14","-",{"$f":"Start!E96","v":"2014-04-18"}]
[36,"2014-04-21","-",{"$f":"Start!E97","v":"2014-04-25"}]
[37,"2014-04-28","-",{"$f":"Start!E98","v":"2014-05-02"}]
[38,"2014-05-05","-",{"$f":"Start!E99","v":"2014-05-09"},"Frühlingsferien"]
[39,"2014-05-12","-",{"$f":"Start!E100","v":"2014-05-16"}]
[40,"2014-05-19","-",{"$f":"Start!E101","v":"2014-05-23"}]
[41,"2014-05-26","-",{"$f":"Start!E102","v":"2014-05-30"}]
[42,"2014-06-02","-",{"$f":"Start!E103","v":"2014-06-06"}]
[43,"2014-06-09","-",{"$f":"Start!E104","v":"2014-06-13"}]
[44,"2014-06-16","-",{"$f":"Start!E105","v":"2014-06-20"}]
[45,"2014-06-23","-",{"$f":"Start!E106","v":"2014-06-27"}]
[46,"2014-06-30","-",{"$f":"Start!E107","v":"2014-07-04"}]
[47,"2014-07-07","-",{"$f":"Start!E108","v":"2014-07-11"},"Sommerferien"]

{"sheet":"M&U","index":20,"n_rows":49,"n_cols":9,"rows_kept":49,"cut":false,"hidden":false,"merged":[[48,4,48,8],[1,1,1,3],[0,4,0,5],[29,4,30,8],[39,4,40,8],[11,11,12,15],[9,11,9,15],[1,14,1,16],[9,4,10,8],[20,4,21,8]]}
["M&U",null,null,null,{"$f":"Start!$D$11","v":"2013-2014"},null,"Klasse",null,{"$f":"Start!$D$12","v":"3/4"}]
["Wo.","Daten",null,null,"Tage",null,null,null,"Lehrplan M&U"]
[1,"2013-08-19","-",{"$f":"Start!E62","v":"2013-08-23"}]
[2,"2013-08-26","-",{"$f":"Start!E63","v":"2013-08-30"}]
[3,"2013-09-02","-",{"$f":"Start!E64","v":"2013-09-06"}]
[4,"2013-09-09","-",{"$f":"Start!E65","v":"2013-09-13"}]
[5,"2013-09-16","-",{"$f":"Start!E66","v":"2013-09-20"}]
[6,"2013-09-23","-",{"$f":"Start!E67","v":"2013-09-27"}]
[7,"2013-09-30","-",{"$f":"Start!E68","v":"2013-10-04"}]
[8,"2013-10-07","-",{"$f":"Start!E69","v":"2013-10-11"},"Herbstferien"]
[9,"2013-10-14","-",{"$f":"Start!E70","v":"2013-10-18"}]
[10,"2013-10-21","-",{"$f":"Start!E71","v":"2013-10-25"}]
[11,"2013-10-28","-",{"$f":"Start!E72","v":"2013-11-01"}]
[12,"2013-11-04","-",{"$f":"Start!E73","v":"2013-11-08"}]
[13,"2013-11-11","-",{"$f":"Start!E74","v":"2013-11-15"}]
[14,"2013-11-18","-",{"$f":"Start!E75","v":"2013-11-22"}]
[15,"2013-11-25","-",{"$f":"Start!E76","v":"2013-11-29"}]
[16,"2013-12-02","-",{"$f":"Start!E77","v":"2013-12-06"}]
[17,"2013-12-09","-",{"$f":"Start!E78","v":"2013-12-13"}]
[18,"2013-12-16","-",{"$f":"Start!E79","v":"2013-12-20"}]
[19,"2013-12-23","-",{"$f":"Start!E80","v":"2013-12-27"},"Weihnachtsferien"]
[20,"2013-12-30","-",{"$f":"Start!E81","v":"2014-01-03"}]
[21,"2014-01-06","-",{"$f":"Start!E82","v":"2014-01-10"}]
[22,"2014-01-13","-",{"$f":"Start!E83","v":"2014-01-17"}]
[23,"2014-01-20","-",{"$f":"Start!E84","v":"2014-01-24"}]
[24,"2014-01-27","-",{"$f":"Start!E85","v":"2014-01-31"}]
[25,"2014-02-03","-",{"$f":"Start!E86","v":"2014-02-07"}]
[26,"2014-02-10","-",{"$f":"Start!E87","v":"2014-02-14"}]
[27,"2014-02-17","-",{"$f":"Start!E88","v":"2014-02-21"}]
[28,"2014-02-24","-",{"$f":"Start!E89","v":"2014-02-28"},"Sportferien"]
[29,"2014-03-03","-",{"$f":"Start!E90","v":"2014-03-07"}]
[30,"2014-03-10","-",{"$f":"Start!E91","v":"2014-03-14"}]
[31,"2014-03-17","-",{"$f":"Start!E92","v":"2014-03-21"}]
[32,"2014-03-24","-",{"$f":"Start!E93","v":"2014-03-28"}]
[33,"2014-03-31","-",{"$f":"Start!E94","v":"2014-04-04"}]
[34,"2014-04-07","-",{"$f":"Start!E95","v":"2014-04-11"}]
[35,"2014-04-14","-",{"$f":"Start!E96","v":"2014-04-18"}]
[36,"2014-04-21","-",{"$f":"Start!E97","v":"2014-04-25"}]
[37,"2014-04-28","-",{"$f":"Start!E98","v":"2014-05-02"}]
[38,"2014-05-05","-",{"$f":"Start!E99","v":"2014-05-09"},"Frühlingsferien"]
[39,"2014-05-12","-",{"$f":"Start!E100","v":"2014-05-16"}]
[40,"2014-05-19","-",{"$f":"Start!E101","v":"2014-05-23"}]
[41,"2014-05-26","-",{"$f":"Start!E102","v":"2014-05-30"}]
[42,"2014-06-02","-",{"$f":"Start!E103","v":"2014-06-06"}]
[43,"2014-06-09","-",{"$f":"Start!E104","v":"2014-06-13"}]
[44,"2014-06-16","-",{"$f":"Start!E105","v":"2014-06-20"}]
[45,"2014-06-23","-",{"$f":"Start!E106","v":"2014-06-27"}]
[46,"2014-06-30","-",{"$f":"Start!E107","v":"2014-07-04"}]
[47,"2014-07-07","-",{"$f":"Start!E108","v":"2014-07-11"},"Sommerferien"]

{"sheet":"Mathematik","index":21,"n_rows":49,"n_cols":9,"rows_kept":49,"cut":false,"hidden":false,"merged":[[48,4,48,8],[1,1,1,3],[0,4,0,5],[29,4,30,8],[39,4,40,8],[11,11,12,15],[9,11,9,15],[1,14,1,16],[9,4,10,8],[20,4,21,8]]}
["Mathematik",null,null,null,{"$f":"Start!$D$11","v":"2013-2014"},null,"Klasse",null,{"$f":"Start!$D$12","v":"3/4"}]
["Wo.","Daten",null,null,"Tage",null,null,null,"Lehrplan Mathematik"]
[1,"2013-08-19","-",{"$f":"Start!E62","v":"2013-08-23"}]
[2,"2013-08-26","-",{"$f":"Start!E63","v":"2013-08-30"}]
[3,"2013-09-02","-",{"$f":"Start!E64","v":"2013-09-06"}]
[4,"2013-09-09","-",{"$f":"Start!E65","v":"2013-09-13"}]
[5,"2013-09-16","-",{"$f":"Start!E66","v":"2013-09-20"}]
[6,"2013-09-23","-",{"$f":"Start!E67","v":"2013-09-27"}]
[7,"2013-09-30","-",{"$f":"Start!E68","v":"2013-10-04"}]
[8,"2013-10-07","-",{"$f":"Start!E69","v":"2013-10-11"},"Herbstferien"]
[9,"2013-10-14","-",{"$f":"Start!E70","v":"2013-10-18"}]
[10,"2013-10-21","-",{"$f":"Start!E71","v":"2013-10-25"}]
[11,"2013-10-28","-",{"$f":"Start!E72","v":"2013-11-01"}]
[12,"2013-11-04","-",{"$f":"Start!E73","v":"2013-11-08"}]
[13,"2013-11-11","-",{"$f":"Start!E74","v":"2013-11-15"}]
[14,"2013-11-18","-",{"$f":"Start!E75","v":"2013-11-22"}]
[15,"2013-11-25","-",{"$f":"Start!E76","v":"2013-11-29"}]
[16,"2013-12-02","-",{"$f":"Start!E77","v":"2013-12-06"}]
[17,"2013-12-09","-",{"$f":"Start!E78","v":"2013-12-13"}]
[18,"2013-12-16","-",{"$f":"Start!E79","v":"2013-12-20"}]
[19,"2013-12-23","-",{"$f":"Start!E80","v":"2013-12-27"},"Weihnachtsferien"]
[20,"2013-12-30","-",{"$f":"Start!E81","v":"2014-01-03"}]
[21,"2014-01-06","-",{"$f":"Start!E82","v":"2014-01-10"}]
[22,"2014-01-13","-",{"$f":"Start!E83","v":"2014-01-17"}]
[23,"2014-01-20","-",{"$f":"Start!E84","v":"2014-01-24"}]
[24,"2014-01-27","-",{"$f":"Start!E85","v":"2014-01-31"}]
[25,"2014-02-03","-",{"$f":"Start!E86","v":"2014-02-07"}]
[26,"2014-02-10","-",{"$f":"Start!E87","v":"2014-02-14"}]
[27,"2014-02-17","-",{"$f":"Start!E88","v":"2014-02-21"}]
[28,"2014-02-24","-",{"$f":"Start!E89","v":"2014-02-28"},"Sportferien"]
[29,"2014-03-03","-",{"$f":"Start!E90","v":"2014-03-07"}]
[30,"2014-03-10","-",{"$f":"Start!E91","v":"2014-03-14"}]
[31,"2014-03-17","-",{"$f":"Start!E92","v":"2014-03-21"}]
[32,"2014-03-24","-",{"$f":"Start!E93","v":"2014-03-28"}]
[33,"2014-03-31","-",{"$f":"Start!E94","v":"2014-04-04"}]
[34,"2014-04-07","-",{"$f":"Start!E95","v":"2014-04-11"}]
[35,"2014-04-14","-",{"$f":"Start!E96","v":"2014-04-18"}]
[36,"2014-04-21","-",{"$f":"Start!E97","v":"2014-04-25"}]
[37,"2014-04-28","-",{"$f":"Start!E98","v":"2014-05-02"}]
[38,"2014-05-05","-",{"$f":"Start!E99","v":"2014-05-09"},"Frühlingsferien"]
[39,"2014-05-12","-",{"$f":"Start!E100","v":"2014-05-16"}]
[40,"2014-05-19","-",{"$f":"Start!E101","v":"2014-05-23"}]
[41,"2014-05-26","-",{"$f":"Start!E102","v":"2014-05-30"}]
[42,"2014-06-02","-",{"$f":"Start!E103","v":"2014-06-06"}]
[43,"2014-06-09","-",{"$f":"Start!E104","v":"2014-06-13"}]
[44,"2014-06-16","-",{"$f":"Start!E105","v":"2014-06-20"}]
[45,"2014-06-23","-",{"$f":"Start!E106","v":"2014-06-27"}]
[46,"2014-06-30","-",{"$f":"Start!E107","v":"2014-07-04"}]
[47,"2014-07-07","-",{"$f":"Start!E108","v":"2014-07-11"},"Sommerferien"]

{"sheet":"Italienisch","index":22,"n_rows":49,"n_cols":9,"rows_kept":49,"cut":false,"hidden":false,"merged":[[48,4,48,8],[1,1,1,3],[0,4,0,5],[29,4,30,8],[39,4,40,8],[11,11,12,15],[9,11,9,15],[1,14,1,16],[9,4,10,8],[20,4,21,8]]}
["Italienisch",null,null,null,{"$f":"Start!$D$11","v":"2013-2014"},null,"Klasse",null,{"$f":"Start!$D$12","v":"3/4"}]
["Wo.","Daten",null,null,"Tage"]
[1,"2013-08-19","-",{"$f":"Start!E62","v":"2013-08-23"}]
[2,"2013-08-26","-",{"$f":"Start!E63","v":"2013-08-30"}]
[3,"2013-09-02","-",{"$f":"Start!E64","v":"2013-09-06"}]
[4,"2013-09-09","-",{"$f":"Start!E65","v":"2013-09-13"}]
[5,"2013-09-16","-",{"$f":"Start!E66","v":"2013-09-20"}]
[6,"2013-09-23","-",{"$f":"Start!E67","v":"2013-09-27"}]
[7,"2013-09-30","-",{"$f":"Start!E68","v":"2013-10-04"}]
[8,"2013-10-07","-",{"$f":"Start!E69","v":"2013-10-11"},"Herbstferien"]
[9,"2013-10-14","-",{"$f":"Start!E70","v":"2013-10-18"}]
[10,"2013-10-21","-",{"$f":"Start!E71","v":"2013-10-25"}]
[11,"2013-10-28","-",{"$f":"Start!E72","v":"2013-11-01"}]
[12,"2013-11-04","-",{"$f":"Start!E73","v":"2013-11-08"}]
[13,"2013-11-11","-",{"$f":"Start!E74","v":"2013-11-15"}]
[14,"2013-11-18","-",{"$f":"Start!E75","v":"2013-11-22"}]
[15,"2013-11-25","-",{"$f":"Start!E76","v":"2013-11-29"}]
[16,"2013-12-02","-",{"$f":"Start!E77","v":"2013-12-06"}]
[17,"2013-12-09","-",{"$f":"Start!E78","v":"2013-12-13"}]
[18,"2013-12-16","-",{"$f":"Start!E79","v":"2013-12-20"}]
[19,"2013-12-23","-",{"$f":"Start!E80","v":"2013-12-27"},"Weihnachtsferien"]
[20,"2013-12-30","-",{"$f":"Start!E81","v":"2014-01-03"}]
[21,"2014-01-06","-",{"$f":"Start!E82","v":"2014-01-10"}]
[22,"2014-01-13","-",{"$f":"Start!E83","v":"2014-01-17"}]
[23,"2014-01-20","-",{"$f":"Start!E84","v":"2014-01-24"}]
[24,"2014-01-27","-",{"$f":"Start!E85","v":"2014-01-31"}]
[25,"2014-02-03","-",{"$f":"Start!E86","v":"2014-02-07"}]
[26,"2014-02-10","-",{"$f":"Start!E87","v":"2014-02-14"}]
[27,"2014-02-17","-",{"$f":"Start!E88","v":"2014-02-21"}]
[28,"2014-02-24","-",{"$f":"Start!E89","v":"2014-02-28"},"Sportferien"]
[29,"2014-03-03","-",{"$f":"Start!E90","v":"2014-03-07"}]
[30,"2014-03-10","-",{"$f":"Start!E91","v":"2014-03-14"}]
[31,"2014-03-17","-",{"$f":"Start!E92","v":"2014-03-21"}]
[32,"2014-03-24","-",{"$f":"Start!E93","v":"2014-03-28"}]
[33,"2014-03-31","-",{"$f":"Start!E94","v":"2014-04-04"}]
[34,"2014-04-07","-",{"$f":"Start!E95","v":"2014-04-11"}]
[35,"2014-04-14","-",{"$f":"Start!E96","v":"2014-04-18"}]
[36,"2014-04-21","-",{"$f":"Start!E97","v":"2014-04-25"}]
[37,"2014-04-28","-",{"$f":"Start!E98","v":"2014-05-02"}]
[38,"2014-05-05","-",{"$f":"Start!E99","v":"2014-05-09"},"Frühlingsferien"]
[39,"2014-05-12","-",{"$f":"Start!E100","v":"2014-05-16"}]
[40,"2014-05-19","-",{"$f":"Start!E101","v":"2014-05-23"}]
[41,"2014-05-26","-",{"$f":"Start!E102","v":"2014-05-30"}]
[42,"2014-06-02","-",{"$f":"Start!E103","v":"2014-06-06"}]
[43,"2014-06-09","-",{"$f":"Start!E104","v":"2014-06-13"}]
[44,"2014-06-16","-",{"$f":"Start!E105","v":"2014-06-20"}]
[45,"2014-06-23","-",{"$f":"Start!E106","v":"2014-06-27"}]
[46,"2014-06-30","-",{"$f":"Start!E107","v":"2014-07-04"}]
[47,"2014-07-07","-",{"$f":"Start!E108","v":"2014-07-11"},"Sommerferien"]

{"sheet":"Französisch","index":23,"n_rows":49,"n_cols":9,"rows_kept":49,"cut":false,"hidden":false,"merged":[[48,4,48,8],[1,1,1,3],[0,4,0,5],[29,4,30,8],[39,4,40,8],[11,11,12,15],[9,11,9,15],[1,14,1,16],[9,4,10,8],[20,4,21,8]]}
["Französisch",null,null,null,{"$f":"Start!$D$11","v":"2013-2014"},null,"Klasse",null,{"$f":"Start!$D$12","v":"3/4"}]
["Wo.","Daten",null,null,"Tage"]
[1,"2013-08-19","-",{"$f":"Start!E62","v":"2013-08-23"}]
[2,"2013-08-26","-",{"$f":"Start!E63","v":"2013-08-30"}]
[3,"2013-09-02","-",{"$f":"Start!E64","v":"2013-09-06"}]
[4,"2013-09-09","-",{"$f":"Start!E65","v":"2013-09-13"}]
[5,"2013-09-16","-",{"$f":"Start!E66","v":"2013-09-20"}]
[6,"2013-09-23","-",{"$f":"Start!E67","v":"2013-09-27"}]
[7,"2013-09-30","-",{"$f":"Start!E68","v":"2013-10-04"}]
[8,"2013-10-07","-",{"$f":"Start!E69","v":"2013-10-11"},"Herbstferien"]
[9,"2013-10-14","-",{"$f":"Start!E70","v":"2013-10-18"}]
[10,"2013-10-21","-",{"$f":"Start!E71","v":"2013-10-25"}]
[11,"2013-10-28","-",{"$f":"Start!E72","v":"2013-11-01"}]
[12,"2013-11-04","-",{"$f":"Start!E73","v":"2013-11-08"}]
[13,"2013-11-11","-",{"$f":"Start!E74","v":"2013-11-15"}]
[14,"2013-11-18","-",{"$f":"Start!E75","v":"2013-11-22"}]
[15,"2013-11-25","-",{"$f":"Start!E76","v":"2013-11-29"}]
[16,"2013-12-02","-",{"$f":"Start!E77","v":"2013-12-06"}]
[17,"2013-12-09","-",{"$f":"Start!E78","v":"2013-12-13"}]
[18,"2013-12-16","-",{"$f":"Start!E79","v":"2013-12-20"}]
[19,"2013-12-23","-",{"$f":"Start!E80","v":"2013-12-27"},"Weihnachtsferien"]
[20,"2013-12-30","-",{"$f":"Start!E81","v":"2014-01-03"}]
[21,"2014-01-06","-",{"$f":"Start!E82","v":"2014-01-10"}]
[22,"2014-01-13","-",{"$f":"Start!E83","v":"2014-01-17"}]
[23,"2014-01-20","-",{"$f":"Start!E84","v":"2014-01-24"}]
[24,"2014-01-27","-",{"$f":"Start!E85","v":"2014-01-31"}]
[25,"2014-02-03","-",{"$f":"Start!E86","v":"2014-02-07"}]
[26,"2014-02-10","-",{"$f":"Start!E87","v":"2014-02-14"}]
[27,"2014-02-17","-",{"$f":"Start!E88","v":"2014-02-21"}]
[28,"2014-02-24","-",{"$f":"Start!E89","v":"2014-02-28"},"Sportferien"]
[29,"2014-03-03","-",{"$f":"Start!E90","v":"2014-03-07"}]
[30,"2014-03-10","-",{"$f":"Start!E91","v":"2014-03-14"}]
[31,"2014-03-17","-",{"$f":"Start!E92","v":"2014-03-21"}]
[32,"2014-03-24","-",{"$f":"Start!E93","v":"2014-03-28"}]
[33,"2014-03-31","-",{"$f":"Start!E94","v":"2014-04-04"}]
[34,"2014-04-07","-",{"$f":"Start!E95","v":"2014-04-11"}]
[35,"2014-04-14","-",{"$f":"Start!E96","v":"2014-04-18"}]
[36,"2014-04-21","-",{"$f":"Start!E97","v":"2014-04-25"}]
[37,"2014-04-28","-",{"$f":"Start!E98","v":"2014-05-02"}]
[38,"2014-05-05","-",{"$f":"Start!E99","v":"2014-05-09"},"Frühlingsferien"]
[39,"2014-05-12","-",{"$f":"Start!E100","v":"2014-05-16"}]
[40,"2014-05-19","-",{"$f":"Start!E101","v":"2014-05-23"}]
[41,"2014-05-26","-",{"$f":"Start!E102","v":"2014-05-30"}]
[42,"2014-06-02","-",{"$f":"Start!E103","v":"2014-06-06"}]
[43,"2014-06-09","-",{"$f":"Start!E104","v":"2014-06-13"}]
[44,"2014-06-16","-",{"$f":"Start!E105","v":"2014-06-20"}]
[45,"2014-06-23","-",{"$f":"Start!E106","v":"2014-06-27"}]
[46,"2014-06-30","-",{"$f":"Start!E107","v":"2014-07-04"}]
[47,"2014-07-07","-",{"$f":"Start!E108","v":"2014-07-11"},"Sommerferien"]

{"sheet":"Englisch","index":24,"n_rows":49,"n_cols":9,"rows_kept":49,"cut":false,"hidden":false,"merged":[[48,4,48,8],[1,1,1,3],[0,4,0,5],[29,4,30,8],[39,4,40,8],[11,11,12,15],[9,11,9,15],[1,14,1,16],[9,4,10,8],[20,4,21,8]]}
["Englisch",null,null,null,{"$f":"Start!$D$11","v":"2013-2014"},null,"Klasse",null,{"$f":"Start!$D$12","v":"3/4"}]
["Wo.","Daten",null,null,"Tage",null,null,null,"Lehrplan Englisch"]
[1,"2013-08-19","-",{"$f":"Start!E62","v":"2013-08-23"}]
[2,"2013-08-26","-",{"$f":"Start!E63","v":"2013-08-30"}]
[3,"2013-09-02","-",{"$f":"Start!E64","v":"2013-09-06"}]
[4,"2013-09-09","-",{"$f":"Start!E65","v":"2013-09-13"}]
[5,"2013-09-16","-",{"$f":"Start!E66","v":"2013-09-20"}]
[6,"2013-09-23","-",{"$f":"Start!E67","v":"2013-09-27"}]
[7,"2013-09-30","-",{"$f":"Start!E68","v":"2013-10-04"}]
[8,"2013-10-07","-",{"$f":"Start!E69","v":"2013-10-11"},"Herbstferien"]
[9,"2013-10-14","-",{"$f":"Start!E70","v":"2013-10-18"}]
[10,"2013-10-21","-",{"$f":"Start!E71","v":"2013-10-25"}]
[11,"2013-10-28","-",{"$f":"Start!E72","v":"2013-11-01"}]
[12,"2013-11-04","-",{"$f":"Start!E73","v":"2013-11-08"}]
[13,"2013-11-11","-",{"$f":"Start!E74","v":"2013-11-15"}]
[14,"2013-11-18","-",{"$f":"Start!E75","v":"2013-11-22"}]
[15,"2013-11-25","-",{"$f":"Start!E76","v":"2013-11-29"}]
[16,"2013-12-02","-",{"$f":"Start!E77","v":"2013-12-06"}]
[17,"2013-12-09","-",{"$f":"Start!E78","v":"2013-12-13"}]
[18,"2013-12-16","-",{"$f":"Start!E79","v":"2013-12-20"}]
[19,"2013-12-23","-",{"$f":"Start!E80","v":"2013-12-27"},"Weihnachtsferien"]
[20,"2013-12-30","-",{"$f":"Start!E81","v":"2014-01-03"}]
[21,"2014-01-06","-",{"$f":"Start!E82","v":"2014-01-10"}]
[22,"2014-01-13","-",{"$f":"Start!E83","v":"2014-01-17"}]
[23,"2014-01-20","-",{"$f":"Start!E84","v":"2014-01-24"}]
[24,"2014-01-27","-",{"$f":"Start!E85","v":"2014-01-31"}]
[25,"2014-02-03","-",{"$f":"Start!E86","v":"2014-02-07"}]
[26,"2014-02-10","-",{"$f":"Start!E87","v":"2014-02-14"}]
[27,"2014-02-17","-",{"$f":"Start!E88","v":"2014-02-21"}]
[28,"2014-02-24","-",{"$f":"Start!E89","v":"2014-02-28"},"Sportferien"]
[29,"2014-03-03","-",{"$f":"Start!E90","v":"2014-03-07"}]
[30,"2014-03-10","-",{"$f":"Start!E91","v":"2014-03-14"}]
[31,"2014-03-17","-",{"$f":"Start!E92","v":"2014-03-21"}]
[32,"2014-03-24","-",{"$f":"Start!E93","v":"2014-03-28"}]
[33,"2014-03-31","-",{"$f":"Start!E94","v":"2014-04-04"}]
[34,"2014-04-07","-",{"$f":"Start!E95","v":"2014-04-11"}]
[35,"2014-04-14","-",{"$f":"Start!E96","v":"2014-04-18"}]
[36,"2014-04-21","-",{"$f":"Start!E97","v":"2014-04-25"}]
[37,"2014-04-28","-",{"$f":"Start!E98","v":"2014-05-02"}]
[38,"2014-05-05","-",{"$f":"Start!E99","v":"2014-05-09"},"Frühlingsferien"]
[39,"2014-05-12","-",{"$f":"Start!E100","v":"2014-05-16"}]
[40,"2014-05-19","-",{"$f":"Start!E101","v":"2014-05-23"}]
[41,"2014-05-26","-",{"$f":"Start!E102","v":"2014-05-30"}]
[42,"2014-06-02","-",{"$f":"Start!E103","v":"2014-06-06"}]
[43,"2014-06-09","-",{"$f":"Start!E104","v":"2014-06-13"}]
[44,"2014-06-16","-",{"$f":"Start!E105","v":"2014-06-20"}]
[45,"2014-06-23","-",{"$f":"Start!E106","v":"2014-06-27"}]
[46,"2014-06-30","-",{"$f":"Start!E107","v":"2014-07-04"}]
[47,"2014-07-07","-",{"$f":"Start!E108","v":"2014-07-11"},"Sommerferien"]

{"sheet":"Deutsch","index":25,"n_rows":49,"n_cols":9,"rows_kept":49,"cut":false,"hidden":false,"merged":[[48,4,48,8],[1,1,1,3],[0,4,0,5],[29,4,30,8],[39,4,40,8],[11,11,12,15],[9,11,9,15],[1,14,1,16],[9,4,10,8],[20,4,21,8]]}
["Deutsch",null,null,null,{"$f":"Start!$D$11","v":"2013-2014"},null,"Klasse",null,{"$f":"Start!$D$12","v":"3/4"}]
["Wo.","Daten",null,null,"Tage",null,null,null,"Lehrplan Deutsch"]
[1,"2013-08-19","-",{"$f":"Start!E62","v":"2013-08-23"}]
[2,"2013-08-26","-",{"$f":"Start!E63","v":"2013-08-30"}]
[3,"2013-09-02","-",{"$f":"Start!E64","v":"2013-09-06"}]
[4,"2013-09-09","-",{"$f":"Start!E65","v":"2013-09-13"}]
[5,"2013-09-16","-",{"$f":"Start!E66","v":"2013-09-20"}]
[6,"2013-09-23","-",{"$f":"Start!E67","v":"2013-09-27"}]
[7,"2013-09-30","-",{"$f":"Start!E68","v":"2013-10-04"}]
[8,"2013-10-07","-",{"$f":"Start!E69","v":"2013-10-11"},"Herbstferien"]
[9,"2013-10-14","-",{"$f":"Start!E70","v":"2013-10-18"}]
[10,"2013-10-21","-",{"$f":"Start!E71","v":"2013-10-25"}]
[11,"2013-10-28","-",{"$f":"Start!E72","v":"2013-11-01"}]
[12,"2013-11-04","-",{"$f":"Start!E73","v":"2013-11-08"}]
[13,"2013-11-11","-",{"$f":"Start!E74","v":"2013-11-15"}]
[14,"2013-11-18","-",{"$f":"Start!E75","v":"2013-11-22"}]
[15,"2013-11-25","-",{"$f":"Start!E76","v":"2013-11-29"}]
[16,"2013-12-02","-",{"$f":"Start!E77","v":"2013-12-06"}]
[17,"2013-12-09","-",{"$f":"Start!E78","v":"2013-12-13"}]
[18,"2013-12-16","-",{"$f":"Start!E79","v":"2013-12-20"}]
[19,"2013-12-23","-",{"$f":"Start!E80","v":"2013-12-27"},"Weihnachtsferien"]
[20,"2013-12-30","-",{"$f":"Start!E81","v":"2014-01-03"}]
[21,"2014-01-06","-",{"$f":"Start!E82","v":"2014-01-10"}]
[22,"2014-01-13","-",{"$f":"Start!E83","v":"2014-01-17"}]
[23,"2014-01-20","-",{"$f":"Start!E84","v":"2014-01-24"}]
[24,"2014-01-27","-",{"$f":"Start!E85","v":"2014-01-31"}]
[25,"2014-02-03","-",{"$f":"Start!E86","v":"2014-02-07"}]
[26,"2014-02-10","-",{"$f":"Start!E87","v":"2014-02-14"}]
[27,"2014-02-17","-",{"$f":"Start!E88","v":"2014-02-21"}]
[28,"2014-02-24","-",{"$f":"Start!E89","v":"2014-02-28"},"Sportferien"]
[29,"2014-03-03","-",{"$f":"Start!E90","v":"2014-03-07"}]
[30,"2014-03-10","-",{"$f":"Start!E91","v":"2014-03-14"}]
[31,"2014-03-17","-",{"$f":"Start!E92","v":"2014-03-21"}]
[32,"2014-03-24","-",{"$f":"Start!E93","v":"2014-03-28"}]
[33,"2014-03-31","-",{"$f":"Start!E94","v":"2014-04-04"}]
[34,"2014-04-07","-",{"$f":"Start!E95","v":"2014-04-11"}]
[35,"2014-04-14","-",{"$f":"Start!E96","v":"2014-04-18"}]
[36,"2014-04-21","-",{"$f":"Start!E97","v":"2014-04-25"}]
[37,"2014-04-28","-",{"$f":"Start!E98","v":"2014-05-02"}]
[38,"2014-05-05","-",{"$f":"Start!E99","v":"2014-05-09"},"Frühlingsferien"]
[39,"2014-05-12","-",{"$f":"Start!E100","v":"2014-05-16"}]
[40,"2014-05-19","-",{"$f":"Start!E101","v":"2014-05-23"}]
[41,"2014-05-26","-",{"$f":"Start!E102","v":"2014-05-30"}]
[42,"2014-06-02","-",{"$f":"Start!E103","v":"2014-06-06"}]
[43,"2014-06-09","-",{"$f":"Start!E104","v":"2014-06-13"}]
[44,"2014-06-16","-",{"$f":"Start!E105","v":"2014-06-20"}]
[45,"2014-06-23","-",{"$f":"Start!E106","v":"2014-06-27"}]
[46,"2014-06-30","-",{"$f":"Start!E107","v":"2014-07-04"}]
[47,"2014-07-07","-",{"$f":"Start!E108","v":"2014-07-11"},"Sommerferien"]

{"sheet":"Stundenplan","index":26,"n_rows":13,"n_cols":6,"rows_kept":13,"cut":false,"hidden":false,"merged":[[0,0,0,1],[8,1,8,5]]}
["Stundenplan",null,{"$f":"Start!$D$11","v":"2013-2014"},null,{"$f":"\"Klasse\"","v":"Klasse"},{"$f":"Start!$D$12","v":"3/4"}]
[]
["Zeit","Montag","Dienstag","Mittwoch","Donnerstag","Freitag"]
["07.50","Probe 1","Probe 11","Probe 21","Probe 31","Probe 41"]
["08.20","Probe 2","Probe 12","Probe 22","Probe 32","Probe 42"]
["09.05","Probe 3","Probe 13","Probe 23","Probe 33","Probe 43"]
["10.10","Probe 4","Probe 14","Probe 24","Probe 34","Probe 44"]
["10.55","Probe 5","Probe 15","Probe 25","Probe 35","Probe 45"]
["11.45","Mittagspause"]
["13.20","Probe 6","Probe 16","Probe 26","Probe 36","Probe 46"]
["14.05","Probe 7","Probe 17","Probe 27","Probe 37","Probe 47"]
["15.00","Probe 8","Probe 18","Probe 28","Probe 38","Probe 48"]
[null,"Notizen","Notizen","Notizen","Notizen","Notizen"]

{"sheet":"Wo 1","index":27,"n_rows":35,"n_cols":10,"rows_kept":35,"cut":false,"hidden":false,"merged":[[0,8,0,9],[2,0,2,1],[2,2,2,3],[2,4,2,5],[2,6,2,7],[2,8,2,9],[0,6,0,7],[0,3,0,5],[3,8,3,9],[4,0,4,1],[4,2,4,3],[4,4,4,5],[4,6,4,7],[4,8,4,9],[3,0,3,1],[3,2,3,3],[3,4,3,5],[3,6,3,7],[5,8,5,9],[6,0,6,1],[6,2,6,3],[6,4,6,5],[6,6,6,7],[8,8,8,9],[8,0,8,1],[8,2,8,3],[8,4,8,5],[8,6,8,7],[5,0,5,1],[5,2,5,3],[5,4,5,5],[5,6,5,7],[6,8,6,9],[7,0,7,1],[7,2,7,3],[7,4,7,5],[7,6,7,7],[7,8,7,9],[9,8,9,9],[14,0,14,1],[14,2,14,3],[14,4,14,5],[14,6,14,7],[14,8,14,9],[9,0,9,1],[9,2,9,3],[9,4,9,5],[9,6,9,7],[12,4,12,5],[10,6,10,7],[11,6,11,7],[12,6,12,7],[18,6,18,7],[17,0,17,1],[17,2,17,3],[17,4,17,5],[17,6,17,7],[17,8,17,9],[13,0,13,1],[13,2,13,3],[13,4,13,5],[13,6,13,7],[15,8,15,9],[16,0,16,1],[16,2,16,3],[16,4,16,5],[16,6,16,7],[16,8,16,9],[15,0,15,1],[15,2,15,3],[15,4,15,5],[15,6,15,7],[20,6,20,7],[21,8,21,9],[21,0,21,1],[21,2,21,3],[21,4,21,5],[21,6,21,7],[19,0,19,1],[19,2,19,3],[19,4,19,5],[19,6,19,7],[19,8,19,9],[28,8,28,9],[22,0,22,1],[22,2,22,3],[22,4,22,5],[22,6,22,7],[26,0,26,1],[26,2,26,3],[26,4,26,5],[26,6,26,7],[24,0,24,1],[24,2,24,3],[24,4,24,5],[24,6,24,7],[22,8,22,9],[23,0,23,1],[23,2,23,3],[23,4,23,5],[25,8,25,9],[27,8,27,9],[25,6,25,7],[28,6,28,7],[37,0,37,1],[37,2,37,3],[36,2,36,3],[37,4,37,5],[36,4,36,5],[35,0,35,1],[35,2,35,3],[35,4,35,5],[10,0,10,1],[11,0,11,1],[12,0,12,1],[12,2,12,3],[11,2,11,3],[10,2,10,3],[31,0,31,1],[31,2,31,3],[31,4,31,5],[30,0,30,1],[32,0,32,1],[32,2,32,3],[32,4,32,5],[29,0,29,1],[29,2,29,3],[29,4,29,5],[36,0,36,1],[34,0,34,1],[34,2,34,3],[34,4,34,5],[33,0,33,1],[33,2,33,3],[33,4,33,5],[10,4,10,5],[11,4,11,5],[25,0,25,1],[25,2,25,3],[25,4,25,5],[20,0,20,1],[20,2,20,3],[20,4,20,5],[18,0,18,1],[18,2,18,3],[18,4,18,5],[28,0,28,1],[28,2,28,3],[28,4,28,5],[31,6,31,7],[32,6,32,7],[29,6,29,7],[27,0,27,1],[27,2,27,3],[27,4,27,5],[27,6,27,7],[30,2,30,3],[30,4,30,5],[30,6,30,7],[37,8,37,9],[36,8,36,9],[37,6,37,7],[36,6,36,7],[35,8,35,9],[35,6,35,7],[10,8,10,9],[11,8,11,9],[12,8,12,9],[31,8,31,9],[29,8,29,9],[32,8,32,9],[30,8,30,9],[26,8,26,9],[23,6,23,7],[23,8,23,9],[24,8,24,9],[20,8,20,9],[18,8,18,9],[13,8,13,9],[33,8,33,9],[34,6,34,7],[34,8,34,9],[33,6,33,7]]}
["Wochenplan für die",null,{"$f":"'Daten Jahr'!A3","v":1},"Woche des Schuljahres",null,null,{"$f":"Stundenplan!C1","v":"2013-2014"},null,{"$f":"Stundenplan!$F$1","v":"3/4"}]
["Mo:",{"$f":"Start!F62","v":"2013-08-19"},"Di:",{"$f":"B2+1","v":"2013-08-20"},"Mi:",{"$f":"D2+1","v":"2013-08-21"},"Do:",{"$f":"F2+1","v":"2013-08-22"},"Fr:",{"$f":"H2+1","v":"2013-08-23"}]
[{"$f":"Stundenplan!$B$4","v":"Probe 1"},null,{"$f":"Stundenplan!$C$4","v":"Probe 11"},null,{"$f":"Stundenplan!$D$4","v":"Probe 21"},null,{"$f":"Stundenplan!$E$4","v":"Probe 31"},null,{"$f":"Stundenplan!$F$4","v":"Probe 41"}]
[]
[]
[]
[{"$f":"Stundenplan!$B$5","v":"Probe 2"},null,{"$f":"Stundenplan!$C$5","v":"Probe 12"},null,{"$f":"Stundenplan!$D$5","v":"Probe 22"},null,{"$f":"Stundenplan!$E$5","v":"Probe 32"},null,{"$f":"Stundenplan!$F$5","v":"Probe 42"}]
[]
[]
[]
[{"$f":"Stundenplan!$B$6","v":"Probe 3"},null,{"$f":"Stundenplan!$C$6","v":"Probe 13"},null,{"$f":"Stundenplan!$D$6","v":"Probe 23"},null,{"$f":"Stundenplan!$E$6","v":"Probe 33"},null,{"$f":"Stundenplan!$F$6","v":"Probe 43"}]
[]
[]
[]
[{"$f":"Stundenplan!$B$7","v":"Probe 4"},null,{"$f":"Stundenplan!$C$7","v":"Probe 14"},null,{"$f":"Stundenplan!$D$7","v":"Probe 24"},null,{"$f":"Stundenplan!$E$7","v":"Probe 34"},null,{"$f":"Stundenplan!$F$7","v":"Probe 44"}]
[]
[]
[]
[{"$f":"Stundenplan!$B$8","v":"Probe 5"},null,{"$f":"Stundenplan!$C$8","v":"Probe 15"},null,{"$f":"Stundenplan!$D$8","v":"Probe 25"},null,{"$f":"Stundenplan!$E$8","v":"Probe 35"},null,{"$f":"Stundenplan!$F$8","v":"Probe 45"}]
[]
[]
[]
[{"$f":"Stundenplan!$B$10","v":"Probe 6"},null,{"$f":"Stundenplan!$C$10","v":"Probe 16"},null,{"$f":"Stundenplan!$D$10","v":"Probe 26"},null,{"$f":"Stundenplan!$E$10","v":"Probe 36"},null,{"$f":"Stundenplan!$F$10","v":"Probe 46"}]
[]
[]
[]
[{"$f":"Stundenplan!$B$11","v":"Probe 7"},null,{"$f":"Stundenplan!$C$11","v":"Probe 17"},null,{"$f":"Stundenplan!$D$11","v":"Probe 27"},null,{"$f":"Stundenplan!$E$11","v":"Probe 37"},null,{"$f":"Stundenplan!$F$11","v":"Probe 47"}]
[]
[]
[]
[{"$f":"Stundenplan!$B$12","v":"Probe 8"},null,{"$f":"Stundenplan!$C$12","v":"Probe 18"},null,{"$f":"Stundenplan!$D$12","v":"Probe 28"},null,{"$f":"Stundenplan!$E$12","v":"Probe 38"},null,{"$f":"Stundenplan!$F$12","v":"Probe 48"}]
[]
[]
[]
[{"$f":"Stundenplan!$B$13","v":"Notizen"},null,{"$f":"Stundenplan!$C$13","v":"Notizen"},null,{"$f":"Stundenplan!$D$13","v":"Notizen"},null,{"$f":"Stundenplan!$E$13","v":"Notizen"},null,{"$f":"Stundenplan!$F$13","v":"Notizen"}]

{"sheet":"Wo 2","index":28,"n_rows":35,"n_cols":10,"rows_kept":35,"cut":false,"hidden":false,"merged":[[35,0,35,1],[35,2,35,3],[35,4,35,5],[35,6,35,7],[33,8,33,9],[34,0,34,1],[34,2,34,3],[34,4,34,5],[34,6,34,7],[34,8,34,9],[33,0,33,1],[33,2,33,3],[33,4,33,5],[33,6,33,7],[35,8,35,9],[32,0,32,1],[32,2,32,3],[32,4,32,5],[31,0,31,1],[31,2,31,3],[31,4,31,5],[31,6,31,7],[31,8,31,9],[30,0,30,1],[30,2,30,3],[30,4,30,5],[32,6,32,7],[30,8,30,9],[29,0,29,1],[29,2,29,3],[29,4,29,5],[29,6,29,7],[27,8,27,9],[28,0,28,1],[28,2,28,3],[28,4,28,5],[28,6,28,7],[29,8,29,9],[28,8,28,9],[25,2,25,3],[25,4,25,5],[25,6,25,7],[24,8,24,9],[24,0,24,1],[24,2,24,3],[24,4,24,5],[24,6,24,7],[27,0,27,1],[27,2,27,3],[27,4,27,5],[27,6,27,7],[25,8,25,9],[26,0,26,1],[26,2,26,3],[26,4,26,5],[26,6,26,7],[25,0,25,1],[26,8,26,9],[23,0,23,1],[23,2,23,3],[23,4,23,5],[23,6,23,7],[23,8,23,9],[22,0,22,1],[22,2,22,3],[22,4,22,5],[22,6,22,7],[22,8,22,9],[2,0,2,1],[2,2,2,3],[2,4,2,5],[2,6,2,7],[2,8,2,9],[13,0,13,1],[13,2,13,3],[13,4,13,5],[13,6,13,7],[6,8,6,9],[7,0,7,1],[7,2,7,3],[7,4,7,5],[7,6,7,7],[7,8,7,9],[9,0,9,1],[9,2,9,3],[9,4,9,5],[9,6,9,7],[13,8,13,9],[8,8,8,9],[8,0,8,1],[8,2,8,3],[8,4,8,5],[36,0,36,1],[37,0,37,1],[37,2,37,3],[36,2,36,3],[37,4,37,5],[36,4,36,5],[37,6,37,7],[36,6,36,7],[15,4,15,5],[19,0,19,1],[19,2,19,3],[19,4,19,5],[19,6,19,7],[18,0,18,1],[18,2,18,3],[18,4,18,5],[18,6,18,7],[21,0,21,1],[21,2,21,3],[21,4,21,5],[21,6,21,7],[20,0,20,1],[20,2,20,3],[20,4,20,5],[3,0,3,1],[3,2,3,3],[3,4,3,5],[3,6,3,7],[16,0,16,1],[16,2,16,3],[16,4,16,5],[16,6,16,7],[15,0,15,1],[15,2,15,3],[5,0,5,1],[5,2,5,3],[5,4,5,5],[5,6,5,7],[4,0,4,1],[4,2,4,3],[4,4,4,5],[4,6,4,7],[6,0,6,1],[6,2,6,3],[6,4,6,5],[6,6,6,7],[14,0,14,1],[14,2,14,3],[17,0,17,1],[17,2,17,3],[17,4,17,5],[17,6,17,7],[10,0,10,1],[11,0,11,1],[12,0,12,1],[12,2,12,3],[11,2,11,3],[14,4,14,5],[14,6,14,7],[10,2,10,3],[10,4,10,5],[11,4,11,5],[0,6,0,7],[0,3,0,5],[10,8,10,9],[11,8,11,9],[15,6,15,7],[5,8,5,9],[3,8,3,9],[4,8,4,9],[0,8,0,9],[14,8,14,9],[8,6,8,7],[9,8,9,9],[12,8,12,9],[12,4,12,5],[10,6,10,7],[11,6,11,7],[12,6,12,7],[20,6,20,7],[30,6,30,7],[32,8,32,9],[21,8,21,9],[37,8,37,9],[36,8,36,9],[15,8,15,9],[16,8,16,9],[17,8,17,9],[19,8,19,9],[18,8,18,9],[20,8,20,9]]}
["Wochenplan für die",null,{"$f":"'Daten Jahr'!A4","v":2},"Woche des Schuljahres",null,null,{"$f":"Stundenplan!C1","v":"2013-2014"},null,{"$f":"Stundenplan!$F$1","v":"3/4"}]
["Mo:",{"$f":"Start!F63","v":"2013-08-26"},"Di:",{"$f":"B2+1","v":"2013-08-27"},"Mi:",{"$f":"D2+1","v":"2013-08-28"},"Do:",{"$f":"F2+1","v":"2013-08-29"},"Fr:",{"$f":"H2+1","v":"2013-08-30"}]
[{"$f":"Stundenplan!$B$4","v":"Probe 1"},null,{"$f":"Stundenplan!$C$4","v":"Probe 11"},null,{"$f":"Stundenplan!$D$4","v":"Probe 21"},null,{"$f":"Stundenplan!$E$4","v":"Probe 31"},null,{"$f":"Stundenplan!$F$4","v":"Probe 41"}]
[]
[]
[]
[{"$f":"Stundenplan!$B$5","v":"Probe 2"},null,{"$f":"Stundenplan!$C$5","v":"Probe 12"},null,{"$f":"Stundenplan!$D$5","v":"Probe 22"},null,{"$f":"Stundenplan!$E$5","v":"Probe 32"},null,{"$f":"Stundenplan!$F$5","v":"Probe 42"}]
[]
[]
[]
[{"$f":"Stundenplan!$B$6","v":"Probe 3"},null,{"$f":"Stundenplan!$C$6","v":"Probe 13"},null,{"$f":"Stundenplan!$D$6","v":"Probe 23"},null,{"$f":"Stundenplan!$E$6","v":"Probe 33"},null,{"$f":"Stundenplan!$F$6","v":"Probe 43"}]
[]
[]
[]
[{"$f":"Stundenplan!$B$7","v":"Probe 4"},null,{"$f":"Stundenplan!$C$7","v":"Probe 14"},null,{"$f":"Stundenplan!$D$7","v":"Probe 24"},null,{"$f":"Stundenplan!$E$7","v":"Probe 34"},null,{"$f":"Stundenplan!$F$7","v":"Probe 44"}]
[]
[]
[]
[{"$f":"Stundenplan!$B$8","v":"Probe 5"},null,{"$f":"Stundenplan!$C$8","v":"Probe 15"},null,{"$f":"Stundenplan!$D$8","v":"Probe 25"},null,{"$f":"Stundenplan!$E$8","v":"Probe 35"},null,{"$f":"Stundenplan!$F$8","v":"Probe 45"}]
[]
[]
[]
[{"$f":"Stundenplan!$B$10","v":"Probe 6"},null,{"$f":"Stundenplan!$C$10","v":"Probe 16"},null,{"$f":"Stundenplan!$D$10","v":"Probe 26"},null,{"$f":"Stundenplan!$E$10","v":"Probe 36"},null,{"$f":"Stundenplan!$F$10","v":"Probe 46"}]
[]
[]
[]
[{"$f":"Stundenplan!$B$11","v":"Probe 7"},null,{"$f":"Stundenplan!$C$11","v":"Probe 17"},null,{"$f":"Stundenplan!$D$11","v":"Probe 27"},null,{"$f":"Stundenplan!$E$11","v":"Probe 37"},null,{"$f":"Stundenplan!$F$11","v":"Probe 47"}]
[]
[]
[]
[{"$f":"Stundenplan!$B$12","v":"Probe 8"},null,{"$f":"Stundenplan!$C$12","v":"Probe 18"},null,{"$f":"Stundenplan!$D$12","v":"Probe 28"},null,{"$f":"Stundenplan!$E$12","v":"Probe 38"},null,{"$f":"Stundenplan!$F$12","v":"Probe 48"}]
[]
[]
[]
[{"$f":"Stundenplan!$B$13","v":"Notizen"},null,{"$f":"Stundenplan!$C$13","v":"Notizen"},null,{"$f":"Stundenplan!$D$13","v":"Notizen"},null,{"$f":"Stundenplan!$E$13","v":"Notizen"},null,{"$f":"Stundenplan!$F$13","v":"Notizen"}]

{"sheet":"Wo 3","index":29,"n_rows":35,"n_cols":10,"rows_kept":35,"cut":false,"hidden":false,"merged":[[0,8,0,9],[2,0,2,1],[2,2,2,3],[2,4,2,5],[2,6,2,7],[2,8,2,9],[0,6,0,7],[0,3,0,5],[3,8,3,9],[4,0,4,1],[4,2,4,3],[4,4,4,5],[4,6,4,7],[4,8,4,9],[3,0,3,1],[3,2,3,3],[3,4,3,5],[3,6,3,7],[5,8,5,9],[6,0,6,1],[6,2,6,3],[6,4,6,5],[6,6,6,7],[8,8,8,9],[8,0,8,1],[8,2,8,3],[8,4,8,5],[8,6,8,7],[5,0,5,1],[5,2,5,3],[5,4,5,5],[5,6,5,7],[6,8,6,9],[7,0,7,1],[7,2,7,3],[7,4,7,5],[7,6,7,7],[7,8,7,9],[9,8,9,9],[14,0,14,1],[14,2,14,3],[14,4,14,5],[14,6,14,7],[14,8,14,9],[9,0,9,1],[9,2,9,3],[9,4,9,5],[9,6,9,7],[12,4,12,5],[10,6,10,7],[11,6,11,7],[12,6,12,7],[18,6,18,7],[17,0,17,1],[17,2,17,3],[17,4,17,5],[17,6,17,7],[17,8,17,9],[13,0,13,1],[13,2,13,3],[13,4,13,5],[13,6,13,7],[15,8,15,9],[16,0,16,1],[16,2,16,3],[16,4,16,5],[16,6,16,7],[16,8,16,9],[15,0,15,1],[15,2,15,3],[15,4,15,5],[15,6,15,7],[20,6,20,7],[21,8,21,9],[21,0,21,1],[21,2,21,3],[21,4,21,5],[21,6,21,7],[19,0,19,1],[19,2,19,3],[19,4,19,5],[19,6,19,7],[19,8,19,9],[28,8,28,9],[22,0,22,1],[22,2,22,3],[22,4,22,5],[22,6,22,7],[26,0,26,1],[26,2,26,3],[26,4,26,5],[26,6,26,7],[24,0,24,1],[24,2,24,3],[24,4,24,5],[24,6,24,7],[22,8,22,9],[23,0,23,1],[23,2,23,3],[23,4,23,5],[25,8,25,9],[27,8,27,9],[25,6,25,7],[28,6,28,7],[37,0,37,1],[37,2,37,3],[36,2,36,3],[37,4,37,5],[36,4,36,5],[35,0,35,1],[35,2,35,3],[35,4,35,5],[10,0,10,1],[11,0,11,1],[12,0,12,1],[12,2,12,3],[11,2,11,3],[10,2,10,3],[31,0,31,1],[31,2,31,3],[31,4,31,5],[30,0,30,1],[32,0,32,1],[32,2,32,3],[32,4,32,5],[29,0,29,1],[29,2,29,3],[29,4,29,5],[36,0,36,1],[34,0,34,1],[34,2,34,3],[34,4,34,5],[33,0,33,1],[33,2,33,3],[33,4,33,5],[10,4,10,5],[11,4,11,5],[25,0,25,1],[25,2,25,3],[25,4,25,5],[20,0,20,1],[20,2,20,3],[20,4,20,5],[18,0,18,1],[18,2,18,3],[18,4,18,5],[28,0,28,1],[28,2,28,3],[28,4,28,5],[31,6,31,7],[32,6,32,7],[29,6,29,7],[27,0,27,1],[27,2,27,3],[27,4,27,5],[27,6,27,7],[30,2,30,3],[30,4,30,5],[30,6,30,7],[37,8,37,9],[36,8,36,9],[37,6,37,7],[36,6,36,7],[35,8,35,9],[35,6,35,7],[10,8,10,9],[11,8,11,9],[12,8,12,9],[31,8,31,9],[29,8,29,9],[32,8,32,9],[30,8,30,9],[26,8,26,9],[23,6,23,7],[23,8,23,9],[24,8,24,9],[20,8,20,9],[18,8,18,9],[13,8,13,9],[33,8,33,9],[34,6,34,7],[34,8,34,9],[33,6,33,7]]}
["Wochenplan für die",null,{"$f":"'Daten Jahr'!A5","v":3},"Woche des Schuljahres",null,null,{"$f":"Stundenplan!C1","v":"2013-2014"},null,{"$f":"Stundenplan!$F$1","v":"3/4"}]
["Mo:",{"$f":"Start!F64","v":"2013-09-02"},"Di:",{"$f":"B2+1","v":"2013-09-03"},"Mi:",{"$f":"D2+1","v":"2013-09-04"},"Do:",{"$f":"F2+1","v":"2013-09-05"},"Fr:",{"$f":"H2+1","v":"2013-09-06"}]
[{"$f":"Stundenplan!$B$4","v":"Probe 1"},null,{"$f":"Stundenplan!$C$4","v":"Probe 11"},null,{"$f":"Stundenplan!$D$4","v":"Probe 21"},null,{"$f":"Stundenplan!$E$4","v":"Probe 31"},null,{"$f":"Stundenplan!$F$4","v":"Probe 41"}]
[]
[]
[]
[{"$f":"Stundenplan!$B$5","v":"Probe 2"},null,{"$f":"Stundenplan!$C$5","v":"Probe 12"},null,{"$f":"Stundenplan!$D$5","v":"Probe 22"},null,{"$f":"Stundenplan!$E$5","v":"Probe 32"},null,{"$f":"Stundenplan!$F$5","v":"Probe 42"}]
[]
[]
[]
[{"$f":"Stundenplan!$B$6","v":"Probe 3"},null,{"$f":"Stundenplan!$C$6","v":"Probe 13"},null,{"$f":"Stundenplan!$D$6","v":"Probe 23"},null,{"$f":"Stundenplan!$E$6","v":"Probe 33"},null,{"$f":"Stundenplan!$F$6","v":"Probe 43"}]
[]
[]
[]
[{"$f":"Stundenplan!$B$7","v":"Probe 4"},null,{"$f":"Stundenplan!$C$7","v":"Probe 14"},null,{"$f":"Stundenplan!$D$7","v":"Probe 24"},null,{"$f":"Stundenplan!$E$7","v":"Probe 34"},null,{"$f":"Stundenplan!$F$7","v":"Probe 44"}]
[]
[]
[]
[{"$f":"Stundenplan!$B$8","v":"Probe 5"},null,{"$f":"Stundenplan!$C$8","v":"Probe 15"},null,{"$f":"Stundenplan!$D$8","v":"Probe 25"},null,{"$f":"Stundenplan!$E$8","v":"Probe 35"},null,{"$f":"Stundenplan!$F$8","v":"Probe 45"}]
[]
[]
[]
[{"$f":"Stundenplan!$B$10","v":"Probe 6"},null,{"$f":"Stundenplan!$C$10","v":"Probe 16"},null,{"$f":"Stundenplan!$D$10","v":"Probe 26"},null,{"$f":"Stundenplan!$E$10","v":"Probe 36"},null,{"$f":"Stundenplan!$F$10","v":"Probe 46"}]
[]
[]
[]
[{"$f":"Stundenplan!$B$11","v":"Probe 7"},null,{"$f":"Stundenplan!$C$11","v":"Probe 17"},null,{"$f":"Stundenplan!$D$11","v":"Probe 27"},null,{"$f":"Stundenplan!$E$11","v":"Probe 37"},null,{"$f":"Stundenplan!$F$11","v":"Probe 47"}]
[]
[]
[]
[{"$f":"Stundenplan!$B$12","v":"Probe 8"},null,{"$f":"Stundenplan!$C$12","v":"Probe 18"},null,{"$f":"Stundenplan!$D$12","v":"Probe 28"},null,{"$f":"Stundenplan!$E$12","v":"Probe 38"},null,{"$f":"Stundenplan!$F$12","v":"Probe 48"}]
[]
[]
[]
[{"$f":"Stundenplan!$B$13","v":"Notizen"},null,{"$f":"Stundenplan!$C$13","v":"Notizen"},null,{"$f":"Stundenplan!$D$13","v":"Notizen"},null,{"$f":"Stundenplan!$E$13","v":"Notizen"},null,{"$f":"Stundenplan!$F$13","v":"Notizen"}]

{"sheet":"Wo 4","index":30,"n_rows":35,"n_cols":10,"rows_kept":35,"cut":false,"hidden":false,"merged":[[35,0,35,1],[35,2,35,3],[35,4,35,5],[35,6,35,7],[33,8,33,9],[34,0,34,1],[34,2,34,3],[34,4,34,5],[34,6,34,7],[34,8,34,9],[33,0,33,1],[33,2,33,3],[33,4,33,5],[33,6,33,7],[35,8,35,9],[32,0,32,1],[32,2,32,3],[32,4,32,5],[31,0,31,1],[31,2,31,3],[31,4,31,5],[31,6,31,7],[31,8,31,9],[30,0,30,1],[30,2,30,3],[30,4,30,5],[32,6,32,7],[30,8,30,9],[29,0,29,1],[29,2,29,3],[29,4,29,5],[29,6,29,7],[27,8,27,9],[28,0,28,1],[28,2,28,3],[28,4,28,5],[28,6,28,7],[29,8,29,9],[28,8,28,9],[25,2,25,3],[25,4,25,5],[25,6,25,7],[24,8,24,9],[24,0,24,1],[24,2,24,3],[24,4,24,5],[24,6,24,7],[27,0,27,1],[27,2,27,3],[27,4,27,5],[27,6,27,7],[25,8,25,9],[26,0,26,1],[26,2,26,3],[26,4,26,5],[26,6,26,7],[25,0,25,1],[26,8,26,9],[23,0,23,1],[23,2,23,3],[23,4,23,5],[23,6,23,7],[23,8,23,9],[22,0,22,1],[22,2,22,3],[22,4,22,5],[22,6,22,7],[22,8,22,9],[2,0,2,1],[2,2,2,3],[2,4,2,5],[2,6,2,7],[2,8,2,9],[13,0,13,1],[13,2,13,3],[13,4,13,5],[13,6,13,7],[6,8,6,9],[7,0,7,1],[7,2,7,3],[7,4,7,5],[7,6,7,7],[7,8,7,9],[9,0,9,1],[9,2,9,3],[9,4,9,5],[9,6,9,7],[13,8,13,9],[8,8,8,9],[8,0,8,1],[8,2,8,3],[8,4,8,5],[36,0,36,1],[37,0,37,1],[37,2,37,3],[36,2,36,3],[37,4,37,5],[36,4,36,5],[37,6,37,7],[36,6,36,7],[15,4,15,5],[19,0,19,1],[19,2,19,3],[19,4,19,5],[19,6,19,7],[18,0,18,1],[18,2,18,3],[18,4,18,5],[18,6,18,7],[21,0,21,1],[21,2,21,3],[21,4,21,5],[21,6,21,7],[20,0,20,1],[20,2,20,3],[20,4,20,5],[3,0,3,1],[3,2,3,3],[3,4,3,5],[3,6,3,7],[16,0,16,1],[16,2,16,3],[16,4,16,5],[16,6,16,7],[15,0,15,1],[15,2,15,3],[5,0,5,1],[5,2,5,3],[5,4,5,5],[5,6,5,7],[4,0,4,1],[4,2,4,3],[4,4,4,5],[4,6,4,7],[6,0,6,1],[6,2,6,3],[6,4,6,5],[6,6,6,7],[14,0,14,1],[14,2,14,3],[17,0,17,1],[17,2,17,3],[17,4,17,5],[17,6,17,7],[10,0,10,1],[11,0,11,1],[12,0,12,1],[12,2,12,3],[11,2,11,3],[14,4,14,5],[14,6,14,7],[10,2,10,3],[10,4,10,5],[11,4,11,5],[0,6,0,7],[0,3,0,5],[10,8,10,9],[11,8,11,9],[15,6,15,7],[5,8,5,9],[3,8,3,9],[4,8,4,9],[0,8,0,9],[14,8,14,9],[8,6,8,7],[9,8,9,9],[12,8,12,9],[12,4,12,5],[10,6,10,7],[11,6,11,7],[12,6,12,7],[20,6,20,7],[30,6,30,7],[32,8,32,9],[21,8,21,9],[37,8,37,9],[36,8,36,9],[15,8,15,9],[16,8,16,9],[17,8,17,9],[19,8,19,9],[18,8,18,9],[20,8,20,9]]}
["Wochenplan für die",null,{"$f":"'Daten Jahr'!A6","v":4},"Woche des Schuljahres",null,null,{"$f":"Stundenplan!C1","v":"2013-2014"},null,{"$f":"Stundenplan!$F$1","v":"3/4"}]
["Mo:",{"$f":"Start!F65","v":"2013-09-09"},"Di:",{"$f":"B2+1","v":"2013-09-10"},"Mi:",{"$f":"D2+1","v":"2013-09-11"},"Do:",{"$f":"F2+1","v":"2013-09-12"},"Fr:",{"$f":"H2+1","v":"2013-09-13"}]
[{"$f":"Stundenplan!$B$4","v":"Probe 1"},null,{"$f":"Stundenplan!$C$4","v":"Probe 11"},null,{"$f":"Stundenplan!$D$4","v":"Probe 21"},null,{"$f":"Stundenplan!$E$4","v":"Probe 31"},null,{"$f":"Stundenplan!$F$4","v":"Probe 41"}]
[]
[]
[]
[{"$f":"Stundenplan!$B$5","v":"Probe 2"},null,{"$f":"Stundenplan!$C$5","v":"Probe 12"},null,{"$f":"Stundenplan!$D$5","v":"Probe 22"},null,{"$f":"Stundenplan!$E$5","v":"Probe 32"},null,{"$f":"Stundenplan!$F$5","v":"Probe 42"}]
[]
[]
[]
[{"$f":"Stundenplan!$B$6","v":"Probe 3"},null,{"$f":"Stundenplan!$C$6","v":"Probe 13"},null,{"$f":"Stundenplan!$D$6","v":"Probe 23"},null,{"$f":"Stundenplan!$E$6","v":"Probe 33"},null,{"$f":"Stundenplan!$F$6","v":"Probe 43"}]
[]
[]
[]
[{"$f":"Stundenplan!$B$7","v":"Probe 4"},null,{"$f":"Stundenplan!$C$7","v":"Probe 14"},null,{"$f":"Stundenplan!$D$7","v":"Probe 24"},null,{"$f":"Stundenplan!$E$7","v":"Probe 34"},null,{"$f":"Stundenplan!$F$7","v":"Probe 44"}]
[]
[]
[]
[{"$f":"Stundenplan!$B$8","v":"Probe 5"},null,{"$f":"Stundenplan!$C$8","v":"Probe 15"},null,{"$f":"Stundenplan!$D$8","v":"Probe 25"},null,{"$f":"Stundenplan!$E$8","v":"Probe 35"},null,{"$f":"Stundenplan!$F$8","v":"Probe 45"}]
[]
[]
[]
[{"$f":"Stundenplan!$B$10","v":"Probe 6"},null,{"$f":"Stundenplan!$C$10","v":"Probe 16"},null,{"$f":"Stundenplan!$D$10","v":"Probe 26"},null,{"$f":"Stundenplan!$E$10","v":"Probe 36"},null,{"$f":"Stundenplan!$F$10","v":"Probe 46"}]
[]
[]
[]
[{"$f":"Stundenplan!$B$11","v":"Probe 7"},null,{"$f":"Stundenplan!$C$11","v":"Probe 17"},null,{"$f":"Stundenplan!$D$11","v":"Probe 27"},null,{"$f":"Stundenplan!$E$11","v":"Probe 37"},null,{"$f":"Stundenplan!$F$11","v":"Probe 47"}]
[]
[]
[]
[{"$f":"Stundenplan!$B$12","v":"Probe 8"},null,{"$f":"Stundenplan!$C$12","v":"Probe 18"},null,{"$f":"Stundenplan!$D$12","v":"Probe 28"},null,{"$f":"Stundenplan!$E$12","v":"Probe 38"},null,{"$f":"Stundenplan!$F$12","v":"Probe 48"}]
[]
[]
[]
[{"$f":"Stundenplan!$B$13","v":"Notizen"},null,{"$f":"Stundenplan!$C$13","v":"Notizen"},null,{"$f":"Stundenplan!$D$13","v":"Notizen"},null,{"$f":"Stundenplan!$E$13","v":"Notizen"},null,{"$f":"Stundenplan!$F$13","v":"Notizen"}]

{"sheet":"Wo 5","index":31,"n_rows":35,"n_cols":10,"rows_kept":35,"cut":false,"hidden":false,"merged":[[0,8,0,9],[2,0,2,1],[2,2,2,3],[2,4,2,5],[2,6,2,7],[2,8,2,9],[0,6,0,7],[0,3,0,5],[3,8,3,9],[4,0,4,1],[4,2,4,3],[4,4,4,5],[4,6,4,7],[4,8,4,9],[3,0,3,1],[3,2,3,3],[3,4,3,5],[3,6,3,7],[5,8,5,9],[6,0,6,1],[6,2,6,3],[6,4,6,5],[6,6,6,7],[8,8,8,9],[8,0,8,1],[8,2,8,3],[8,4,8,5],[8,6,8,7],[5,0,5,1],[5,2,5,3],[5,4,5,5],[5,6,5,7],[6,8,6,9],[7,0,7,1],[7,2,7,3],[7,4,7,5],[7,6,7,7],[7,8,7,9],[9,8,9,9],[14,0,14,1],[14,2,14,3],[14,4,14,5],[14,6,14,7],[14,8,14,9],[9,0,9,1],[9,2,9,3],[9,4,9,5],[9,6,9,7],[12,4,12,5],[10,6,10,7],[11,6,11,7],[12,6,12,7],[18,6,18,7],[17,0,17,1],[17,2,17,3],[17,4,17,5],[17,6,17,7],[17,8,17,9],[13,0,13,1],[13,2,13,3],[13,4,13,5],[13,6,13,7],[15,8,15,9],[16,0,16,1],[16,2,16,3],[16,4,16,5],[16,6,16,7],[16,8,16,9],[15,0,15,1],[15,2,15,3],[15,4,15,5],[15,6,15,7],[20,6,20,7],[21,8,21,9],[21,0,21,1],[21,2,21,3],[21,4,21,5],[21,6,21,7],[19,0,19,1],[19,2,19,3],[19,4,19,5],[19,6,19,7],[19,8,19,9],[28,8,28,9],[22,0,22,1],[22,2,22,3],[22,4,22,5],[22,6,22,7],[26,0,26,1],[26,2,26,3],[26,4,26,5],[26,6,26,7],[24,0,24,1],[24,2,24,3],[24,4,24,5],[24,6,24,7],[22,8,22,9],[23,0,23,1],[23,2,23,3],[23,4,23,5],[25,8,25,9],[27,8,27,9],[25,6,25,7],[28,6,28,7],[37,0,37,1],[37,2,37,3],[36,2,36,3],[37,4,37,5],[36,4,36,5],[35,0,35,1],[35,2,35,3],[35,4,35,5],[10,0,10,1],[11,0,11,1],[12,0,12,1],[12,2,12,3],[11,2,11,3],[10,2,10,3],[31,0,31,1],[31,2,31,3],[31,4,31,5],[30,0,30,1],[32,0,32,1],[32,2,32,3],[32,4,32,5],[29,0,29,1],[29,2,29,3],[29,4,29,5],[36,0,36,1],[34,0,34,1],[34,2,34,3],[34,4,34,5],[33,0,33,1],[33,2,33,3],[33,4,33,5],[10,4,10,5],[11,4,11,5],[25,0,25,1],[25,2,25,3],[25,4,25,5],[20,0,20,1],[20,2,20,3],[20,4,20,5],[18,0,18,1],[18,2,18,3],[18,4,18,5],[28,0,28,1],[28,2,28,3],[28,4,28,5],[31,6,31,7],[32,6,32,7],[29,6,29,7],[27,0,27,1],[27,2,27,3],[27,4,27,5],[27,6,27,7],[30,2,30,3],[30,4,30,5],[30,6,30,7],[37,8,37,9],[36,8,36,9],[37,6,37,7],[36,6,36,7],[35,8,35,9],[35,6,35,7],[10,8,10,9],[11,8,11,9],[12,8,12,9],[31,8,31,9],[29,8,29,9],[32,8,32,9],[30,8,30,9],[26,8,26,9],[23,6,23,7],[23,8,23,9],[24,8,24,9],[20,8,20,9],[18,8,18,9],[13,8,13,9],[33,8,33,9],[34,6,34,7],[34,8,34,9],[33,6,33,7]]}
["Wochenplan für die",null,{"$f":"'Daten Jahr'!A7","v":5},"Woche des Schuljahres",null,null,{"$f":"Stundenplan!C1","v":"2013-2014"},null,{"$f":"Stundenplan!$F$1","v":"3/4"}]
["Mo:",{"$f":"Start!F66","v":"2013-09-16"},"Di:",{"$f":"B2+1","v":"2013-09-17"},"Mi:",{"$f":"D2+1","v":"2013-09-18"},"Do:",{"$f":"F2+1","v":"2013-09-19"},"Fr:",{"$f":"H2+1","v":"2013-09-20"}]
[{"$f":"Stundenplan!$B$4","v":"Probe 1"},null,{"$f":"Stundenplan!$C$4","v":"Probe 11"},null,{"$f":"Stundenplan!$D$4","v":"Probe 21"},null,{"$f":"Stundenplan!$E$4","v":"Probe 31"},null,{"$f":"Stundenplan!$F$4","v":"Probe 41"}]
[]
[]
[]
[{"$f":"Stundenplan!$B$5","v":"Probe 2"},null,{"$f":"Stundenplan!$C$5","v":"Probe 12"},null,{"$f":"Stundenplan!$D$5","v":"Probe 22"},null,{"$f":"Stundenplan!$E$5","v":"Probe 32"},null,{"$f":"Stundenplan!$F$5","v":"Probe 42"}]
[]
[]
[]
[{"$f":"Stundenplan!$B$6","v":"Probe 3"},null,{"$f":"Stundenplan!$C$6","v":"Probe 13"},null,{"$f":"Stundenplan!$D$6","v":"Probe 23"},null,{"$f":"Stundenplan!$E$6","v":"Probe 33"},null,{"$f":"Stundenplan!$F$6","v":"Probe 43"}]
[]
[]
[]
[{"$f":"Stundenplan!$B$7","v":"Probe 4"},null,{"$f":"Stundenplan!$C$7","v":"Probe 14"},null,{"$f":"Stundenplan!$D$7","v":"Probe 24"},null,{"$f":"Stundenplan!$E$7","v":"Probe 34"},null,{"$f":"Stundenplan!$F$7","v":"Probe 44"}]
[]
[]
[]
[{"$f":"Stundenplan!$B$8","v":"Probe 5"},null,{"$f":"Stundenplan!$C$8","v":"Probe 15"},null,{"$f":"Stundenplan!$D$8","v":"Probe 25"},null,{"$f":"Stundenplan!$E$8","v":"Probe 35"},null,{"$f":"Stundenplan!$F$8","v":"Probe 45"}]
[]
[]
[]
[{"$f":"Stundenplan!$B$10","v":"Probe 6"},null,{"$f":"Stundenplan!$C$10","v":"Probe 16"},null,{"$f":"Stundenplan!$D$10","v":"Probe 26"},null,{"$f":"Stundenplan!$E$10","v":"Probe 36"},null,{"$f":"Stundenplan!$F$10","v":"Probe 46"}]
[]
[]
[]
[{"$f":"Stundenplan!$B$11","v":"Probe 7"},null,{"$f":"Stundenplan!$C$11","v":"Probe 17"},null,{"$f":"Stundenplan!$D$11","v":"Probe 27"},null,{"$f":"Stundenplan!$E$11","v":"Probe 37"},null,{"$f":"Stundenplan!$F$11","v":"Probe 47"}]
[]
[]
[]
[{"$f":"Stundenplan!$B$12","v":"Probe 8"},null,{"$f":"Stundenplan!$C$12","v":"Probe 18"},null,{"$f":"Stundenplan!$D$12","v":"Probe 28"},null,{"$f":"Stundenplan!$E$12","v":"Probe 38"},null,{"$f":"Stundenplan!$F$12","v":"Probe 48"}]
[]
[]
[]
[{"$f":"Stundenplan!$B$13","v":"Notizen"},null,{"$f":"Stundenplan!$C$13","v":"Notizen"},null,{"$f":"Stundenplan!$D$13","v":"Notizen"},null,{"$f":"Stundenplan!$E$13","v":"Notizen"},null,{"$f":"Stundenplan!$F$13","v":"Notizen"}]

{"sheet":"Wo 6","index":32,"n_rows":35,"n_cols":10,"rows_kept":35,"cut":false,"hidden":false,"merged":[[35,0,35,1],[35,2,35,3],[35,4,35,5],[35,6,35,7],[33,8,33,9],[34,0,34,1],[34,2,34,3],[34,4,34,5],[34,6,34,7],[34,8,34,9],[33,0,33,1],[33,2,33,3],[33,4,33,5],[33,6,33,7],[35,8,35,9],[32,0,32,1],[32,2,32,3],[32,4,32,5],[31,0,31,1],[31,2,31,3],[31,4,31,5],[31,6,31,7],[31,8,31,9],[30,0,30,1],[30,2,30,3],[30,4,30,5],[32,6,32,7],[30,8,30,9],[29,0,29,1],[29,2,29,3],[29,4,29,5],[29,6,29,7],[27,8,27,9],[28,0,28,1],[28,2,28,3],[28,4,28,5],[28,6,28,7],[29,8,29,9],[28,8,28,9],[25,2,25,3],[25,4,25,5],[25,6,25,7],[24,8,24,9],[24,0,24,1],[24,2,24,3],[24,4,24,5],[24,6,24,7],[27,0,27,1],[27,2,27,3],[27,4,27,5],[27,6,27,7],[25,8,25,9],[26,0,26,1],[26,2,26,3],[26,4,26,5],[26,6,26,7],[25,0,25,1],[26,8,26,9],[23,0,23,1],[23,2,23,3],[23,4,23,5],[23,6,23,7],[23,8,23,9],[22,0,22,1],[22,2,22,3],[22,4,22,5],[22,6,22,7],[22,8,22,9],[2,0,2,1],[2,2,2,3],[2,4,2,5],[2,6,2,7],[2,8,2,9],[13,0,13,1],[13,2,13,3],[13,4,13,5],[13,6,13,7],[6,8,6,9],[7,0,7,1],[7,2,7,3],[7,4,7,5],[7,6,7,7],[7,8,7,9],[9,0,9,1],[9,2,9,3],[9,4,9,5],[9,6,9,7],[13,8,13,9],[8,8,8,9],[8,0,8,1],[8,2,8,3],[8,4,8,5],[36,0,36,1],[37,0,37,1],[37,2,37,3],[36,2,36,3],[37,4,37,5],[36,4,36,5],[37,6,37,7],[36,6,36,7],[15,4,15,5],[19,0,19,1],[19,2,19,3],[19,4,19,5],[19,6,19,7],[18,0,18,1],[18,2,18,3],[18,4,18,5],[18,6,18,7],[21,0,21,1],[21,2,21,3],[21,4,21,5],[21,6,21,7],[20,0,20,1],[20,2,20,3],[20,4,20,5],[3,0,3,1],[3,2,3,3],[3,4,3,5],[3,6,3,7],[16,0,16,1],[16,2,16,3],[16,4,16,5],[16,6,16,7],[15,0,15,1],[15,2,15,3],[5,0,5,1],[5,2,5,3],[5,4,5,5],[5,6,5,7],[4,0,4,1],[4,2,4,3],[4,4,4,5],[4,6,4,7],[6,0,6,1],[6,2,6,3],[6,4,6,5],[6,6,6,7],[14,0,14,1],[14,2,14,3],[17,0,17,1],[17,2,17,3],[17,4,17,5],[17,6,17,7],[10,0,10,1],[11,0,11,1],[12,0,12,1],[12,2,12,3],[11,2,11,3],[14,4,14,5],[14,6,14,7],[10,2,10,3],[10,4,10,5],[11,4,11,5],[0,6,0,7],[0,3,0,5],[10,8,10,9],[11,8,11,9],[15,6,15,7],[5,8,5,9],[3,8,3,9],[4,8,4,9],[0,8,0,9],[14,8,14,9],[8,6,8,7],[9,8,9,9],[12,8,12,9],[12,4,12,5],[10,6,10,7],[11,6,11,7],[12,6,12,7],[20,6,20,7],[30,6,30,7],[32,8,32,9],[21,8,21,9],[37,8,37,9],[36,8,36,9],[15,8,15,9],[16,8,16,9],[17,8,17,9],[19,8,19,9],[18,8,18,9],[20,8,20,9]]}
["Wochenplan für die",null,{"$f":"'Daten Jahr'!A8","v":6},"Woche des Schuljahres",null,null,{"$f":"Stundenplan!C1","v":"2013-2014"},null,{"$f":"Stundenplan!$F$1","v":"3/4"}]
["Mo:",{"$f":"Start!F67","v":"2013-09-23"},"Di:",{"$f":"B2+1","v":"2013-09-24"},"Mi:",{"$f":"D2+1","v":"2013-09-25"},"Do:",{"$f":"F2+1","v":"2013-09-26"},"Fr:",{"$f":"H2+1","v":"2013-09-27"}]
[{"$f":"Stundenplan!$B$4","v":"Probe 1"},null,{"$f":"Stundenplan!$C$4","v":"Probe 11"},null,{"$f":"Stundenplan!$D$4","v":"Probe 21"},null,{"$f":"Stundenplan!$E$4","v":"Probe 31"},null,{"$f":"Stundenplan!$F$4","v":"Probe 41"}]
[]
[]
[]
[{"$f":"Stundenplan!$B$5","v":"Probe 2"},null,{"$f":"Stundenplan!$C$5","v":"Probe 12"},null,{"$f":"Stundenplan!$D$5","v":"Probe 22"},null,{"$f":"Stundenplan!$E$5","v":"Probe 32"},null,{"$f":"Stundenplan!$F$5","v":"Probe 42"}]
[]
[]
[]
[{"$f":"Stundenplan!$B$6","v":"Probe 3"},null,{"$f":"Stundenplan!$C$6","v":"Probe 13"},null,{"$f":"Stundenplan!$D$6","v":"Probe 23"},null,{"$f":"Stundenplan!$E$6","v":"Probe 33"},null,{"$f":"Stundenplan!$F$6","v":"Probe 43"}]
[]
[]
[]
[{"$f":"Stundenplan!$B$7","v":"Probe 4"},null,{"$f":"Stundenplan!$C$7","v":"Probe 14"},null,{"$f":"Stundenplan!$D$7","v":"Probe 24"},null,{"$f":"Stundenplan!$E$7","v":"Probe 34"},null,{"$f":"Stundenplan!$F$7","v":"Probe 44"}]
[]
[]
[]
[{"$f":"Stundenplan!$B$8","v":"Probe 5"},null,{"$f":"Stundenplan!$C$8","v":"Probe 15"},null,{"$f":"Stundenplan!$D$8","v":"Probe 25"},null,{"$f":"Stundenplan!$E$8","v":"Probe 35"},null,{"$f":"Stundenplan!$F$8","v":"Probe 45"}]
[]
[]
[]
[{"$f":"Stundenplan!$B$10","v":"Probe 6"},null,{"$f":"Stundenplan!$C$10","v":"Probe 16"},null,{"$f":"Stundenplan!$D$10","v":"Probe 26"},null,{"$f":"Stundenplan!$E$10","v":"Probe 36"},null,{"$f":"Stundenplan!$F$10","v":"Probe 46"}]
[]
[]
[]
[{"$f":"Stundenplan!$B$11","v":"Probe 7"},null,{"$f":"Stundenplan!$C$11","v":"Probe 17"},null,{"$f":"Stundenplan!$D$11","v":"Probe 27"},null,{"$f":"Stundenplan!$E$11","v":"Probe 37"},null,{"$f":"Stundenplan!$F$11","v":"Probe 47"}]
[]
[]
[]
[{"$f":"Stundenplan!$B$12","v":"Probe 8"},null,{"$f":"Stundenplan!$C$12","v":"Probe 18"},null,{"$f":"Stundenplan!$D$12","v":"Probe 28"},null,{"$f":"Stundenplan!$E$12","v":"Probe 38"},null,{"$f":"Stundenplan!$F$12","v":"Probe 48"}]
[]
[]
[]
[{"$f":"Stundenplan!$B$13","v":"Notizen"},null,{"$f":"Stundenplan!$C$13","v":"Notizen"},null,{"$f":"Stundenplan!$D$13","v":"Notizen"},null,{"$f":"Stundenplan!$E$13","v":"Notizen"},null,{"$f":"Stundenplan!$F$13","v":"Notizen"}]

{"sheet":"Wo 7","index":33,"n_rows":35,"n_cols":10,"rows_kept":35,"cut":false,"hidden":false,"merged":[[0,8,0,9],[2,0,2,1],[2,2,2,3],[2,4,2,5],[2,6,2,7],[2,8,2,9],[0,6,0,7],[0,3,0,5],[3,8,3,9],[4,0,4,1],[4,2,4,3],[4,4,4,5],[4,6,4,7],[4,8,4,9],[3,0,3,1],[3,2,3,3],[3,4,3,5],[3,6,3,7],[5,8,5,9],[6,0,6,1],[6,2,6,3],[6,4,6,5],[6,6,6,7],[8,8,8,9],[8,0,8,1],[8,2,8,3],[8,4,8,5],[8,6,8,7],[5,0,5,1],[5,2,5,3],[5,4,5,5],[5,6,5,7],[6,8,6,9],[7,0,7,1],[7,2,7,3],[7,4,7,5],[7,6,7,7],[7,8,7,9],[9,8,9,9],[14,0,14,1],[14,2,14,3],[14,4,14,5],[14,6,14,7],[14,8,14,9],[9,0,9,1],[9,2,9,3],[9,4,9,5],[9,6,9,7],[12,4,12,5],[10,6,10,7],[11,6,11,7],[12,6,12,7],[18,6,18,7],[17,0,17,1],[17,2,17,3],[17,4,17,5],[17,6,17,7],[17,8,17,9],[13,0,13,1],[13,2,13,3],[13,4,13,5],[13,6,13,7],[15,8,15,9],[16,0,16,1],[16,2,16,3],[16,4,16,5],[16,6,16,7],[16,8,16,9],[15,0,15,1],[15,2,15,3],[15,4,15,5],[15,6,15,7],[20,6,20,7],[21,8,21,9],[21,0,21,1],[21,2,21,3],[21,4,21,5],[21,6,21,7],[19,0,19,1],[19,2,19,3],[19,4,19,5],[19,6,19,7],[19,8,19,9],[28,8,28,9],[22,0,22,1],[22,2,22,3],[22,4,22,5],[22,6,22,7],[26,0,26,1],[26,2,26,3],[26,4,26,5],[26,6,26,7],[24,0,24,1],[24,2,24,3],[24,4,24,5],[24,6,24,7],[22,8,22,9],[23,0,23,1],[23,2,23,3],[23,4,23,5],[25,8,25,9],[27,8,27,9],[25,6,25,7],[28,6,28,7],[37,0,37,1],[37,2,37,3],[36,2,36,3],[37,4,37,5],[36,4,36,5],[35,0,35,1],[35,2,35,3],[35,4,35,5],[10,0,10,1],[11,0,11,1],[12,0,12,1],[12,2,12,3],[11,2,11,3],[10,2,10,3],[31,0,31,1],[31,2,31,3],[31,4,31,5],[30,0,30,1],[32,0,32,1],[32,2,32,3],[32,4,32,5],[29,0,29,1],[29,2,29,3],[29,4,29,5],[36,0,36,1],[34,0,34,1],[34,2,34,3],[34,4,34,5],[33,0,33,1],[33,2,33,3],[33,4,33,5],[10,4,10,5],[11,4,11,5],[25,0,25,1],[25,2,25,3],[25,4,25,5],[20,0,20,1],[20,2,20,3],[20,4,20,5],[18,0,18,1],[18,2,18,3],[18,4,18,5],[28,0,28,1],[28,2,28,3],[28,4,28,5],[31,6,31,7],[32,6,32,7],[29,6,29,7],[27,0,27,1],[27,2,27,3],[27,4,27,5],[27,6,27,7],[30,2,30,3],[30,4,30,5],[30,6,30,7],[37,8,37,9],[36,8,36,9],[37,6,37,7],[36,6,36,7],[35,8,35,9],[35,6,35,7],[10,8,10,9],[11,8,11,9],[12,8,12,9],[31,8,31,9],[29,8,29,9],[32,8,32,9],[30,8,30,9],[26,8,26,9],[23,6,23,7],[23,8,23,9],[24,8,24,9],[20,8,20,9],[18,8,18,9],[13,8,13,9],[33,8,33,9],[34,6,34,7],[34,8,34,9],[33,6,33,7]]}
["Wochenplan für die",null,{"$f":"'Daten Jahr'!A9","v":7},"Woche des Schuljahres",null,null,{"$f":"Stundenplan!C1","v":"2013-2014"},null,{"$f":"Stundenplan!$F$1","v":"3/4"}]
["Mo:",{"$f":"Start!F68","v":"2013-09-30"},"Di:",{"$f":"B2+1","v":"2013-10-01"},"Mi:",{"$f":"D2+1","v":"2013-10-02"},"Do:",{"$f":"F2+1","v":"2013-10-03"},"Fr:",{"$f":"H2+1","v":"2013-10-04"}]
[{"$f":"Stundenplan!$B$4","v":"Probe 1"},null,{"$f":"Stundenplan!$C$4","v":"Probe 11"},null,{"$f":"Stundenplan!$D$4","v":"Probe 21"},null,{"$f":"Stundenplan!$E$4","v":"Probe 31"},null,{"$f":"Stundenplan!$F$4","v":"Probe 41"}]
[]
[]
[]
[{"$f":"Stundenplan!$B$5","v":"Probe 2"},null,{"$f":"Stundenplan!$C$5","v":"Probe 12"},null,{"$f":"Stundenplan!$D$5","v":"Probe 22"},null,{"$f":"Stundenplan!$E$5","v":"Probe 32"},null,{"$f":"Stundenplan!$F$5","v":"Probe 42"}]
[]
[]
[]
[{"$f":"Stundenplan!$B$6","v":"Probe 3"},null,{"$f":"Stundenplan!$C$6","v":"Probe 13"},null,{"$f":"Stundenplan!$D$6","v":"Probe 23"},null,{"$f":"Stundenplan!$E$6","v":"Probe 33"},null,{"$f":"Stundenplan!$F$6","v":"Probe 43"}]
[]
[]
[]
[{"$f":"Stundenplan!$B$7","v":"Probe 4"},null,{"$f":"Stundenplan!$C$7","v":"Probe 14"},null,{"$f":"Stundenplan!$D$7","v":"Probe 24"},null,{"$f":"Stundenplan!$E$7","v":"Probe 34"},null,{"$f":"Stundenplan!$F$7","v":"Probe 44"}]
[]
[]
[]
[{"$f":"Stundenplan!$B$8","v":"Probe 5"},null,{"$f":"Stundenplan!$C$8","v":"Probe 15"},null,{"$f":"Stundenplan!$D$8","v":"Probe 25"},null,{"$f":"Stundenplan!$E$8","v":"Probe 35"},null,{"$f":"Stundenplan!$F$8","v":"Probe 45"}]
[]
[]
[]
[{"$f":"Stundenplan!$B$10","v":"Probe 6"},null,{"$f":"Stundenplan!$C$10","v":"Probe 16"},null,{"$f":"Stundenplan!$D$10","v":"Probe 26"},null,{"$f":"Stundenplan!$E$10","v":"Probe 36"},null,{"$f":"Stundenplan!$F$10","v":"Probe 46"}]
[]
[]
[]
[{"$f":"Stundenplan!$B$11","v":"Probe 7"},null,{"$f":"Stundenplan!$C$11","v":"Probe 17"},null,{"$f":"Stundenplan!$D$11","v":"Probe 27"},null,{"$f":"Stundenplan!$E$11","v":"Probe 37"},null,{"$f":"Stundenplan!$F$11","v":"Probe 47"}]
[]
[]
[]
[{"$f":"Stundenplan!$B$12","v":"Probe 8"},null,{"$f":"Stundenplan!$C$12","v":"Probe 18"},null,{"$f":"Stundenplan!$D$12","v":"Probe 28"},null,{"$f":"Stundenplan!$E$12","v":"Probe 38"},null,{"$f":"Stundenplan!$F$12","v":"Probe 48"}]
[]
[]
[]
[{"$f":"Stundenplan!$B$13","v":"Notizen"},null,{"$f":"Stundenplan!$C$13","v":"Notizen"},null,{"$f":"Stundenplan!$D$13","v":"Notizen"},null,{"$f":"Stundenplan!$E$13","v":"Notizen"},null,{"$f":"Stundenplan!$F$13","v":"Notizen"}]

{"sheet":"Wo 8","index":34,"n_rows":35,"n_cols":10,"rows_kept":35,"cut":false,"hidden":false,"merged":[[35,0,35,1],[35,2,35,3],[35,4,35,5],[35,6,35,7],[33,8,33,9],[34,0,34,1],[34,2,34,3],[34,4,34,5],[34,6,34,7],[34,8,34,9],[33,0,33,1],[33,2,33,3],[33,4,33,5],[33,6,33,7],[35,8,35,9],[32,0,32,1],[32,2,32,3],[32,4,32,5],[31,0,31,1],[31,2,31,3],[31,4,31,5],[31,6,31,7],[31,8,31,9],[30,0,30,1],[30,2,30,3],[30,4,30,5],[32,6,32,7],[30,8,30,9],[29,0,29,1],[29,2,29,3],[29,4,29,5],[29,6,29,7],[27,8,27,9],[28,0,28,1],[28,2,28,3],[28,4,28,5],[28,6,28,7],[29,8,29,9],[28,8,28,9],[25,2,25,3],[25,4,25,5],[25,6,25,7],[24,8,24,9],[24,0,24,1],[24,2,24,3],[24,4,24,5],[24,6,24,7],[27,0,27,1],[27,2,27,3],[27,4,27,5],[27,6,27,7],[25,8,25,9],[26,0,26,1],[26,2,26,3],[26,4,26,5],[26,6,26,7],[25,0,25,1],[26,8,26,9],[23,0,23,1],[23,2,23,3],[23,4,23,5],[23,6,23,7],[23,8,23,9],[22,0,22,1],[22,2,22,3],[22,4,22,5],[22,6,22,7],[22,8,22,9],[2,0,2,1],[2,2,2,3],[2,4,2,5],[2,6,2,7],[2,8,2,9],[13,0,13,1],[13,2,13,3],[13,4,13,5],[13,6,13,7],[6,8,6,9],[7,0,7,1],[7,2,7,3],[7,4,7,5],[7,6,7,7],[7,8,7,9],[9,0,9,1],[9,2,9,3],[9,4,9,5],[9,6,9,7],[13,8,13,9],[8,8,8,9],[8,0,8,1],[8,2,8,3],[8,4,8,5],[36,0,36,1],[37,0,37,1],[37,2,37,3],[36,2,36,3],[37,4,37,5],[36,4,36,5],[37,6,37,7],[36,6,36,7],[15,4,15,5],[19,0,19,1],[19,2,19,3],[19,4,19,5],[19,6,19,7],[18,0,18,1],[18,2,18,3],[18,4,18,5],[18,6,18,7],[21,0,21,1],[21,2,21,3],[21,4,21,5],[21,6,21,7],[20,0,20,1],[20,2,20,3],[20,4,20,5],[3,0,3,1],[3,2,3,3],[3,4,3,5],[3,6,3,7],[16,0,16,1],[16,2,16,3],[16,4,16,5],[16,6,16,7],[15,0,15,1],[15,2,15,3],[5,0,5,1],[5,2,5,3],[5,4,5,5],[5,6,5,7],[4,0,4,1],[4,2,4,3],[4,4,4,5],[4,6,4,7],[6,0,6,1],[6,2,6,3],[6,4,6,5],[6,6,6,7],[14,0,14,1],[14,2,14,3],[17,0,17,1],[17,2,17,3],[17,4,17,5],[17,6,17,7],[10,0,10,1],[11,0,11,1],[12,0,12,1],[12,2,12,3],[11,2,11,3],[14,4,14,5],[14,6,14,7],[10,2,10,3],[10,4,10,5],[11,4,11,5],[0,6,0,7],[0,3,0,5],[10,8,10,9],[11,8,11,9],[15,6,15,7],[5,8,5,9],[3,8,3,9],[4,8,4,9],[0,8,0,9],[14,8,14,9],[8,6,8,7],[9,8,9,9],[12,8,12,9],[12,4,12,5],[10,6,10,7],[11,6,11,7],[12,6,12,7],[20,6,20,7],[30,6,30,7],[32,8,32,9],[21,8,21,9],[37,8,37,9],[36,8,36,9],[15,8,15,9],[16,8,16,9],[17,8,17,9],[19,8,19,9],[18,8,18,9],[20,8,20,9]]}
["Wochenplan für die",null,{"$f":"'Daten Jahr'!A10","v":8},"Woche des Schuljahres",null,null,{"$f":"Stundenplan!C1","v":"2013-2014"},null,{"$f":"Stundenplan!$F$1","v":"3/4"}]
["Mo:",{"$f":"Start!F71","v":"2013-10-21"},"Di:",{"$f":"B2+1","v":"2013-10-22"},"Mi:",{"$f":"D2+1","v":"2013-10-23"},"Do:",{"$f":"F2+1","v":"2013-10-24"},"Fr:",{"$f":"H2+1","v":"2013-10-25"}]
[{"$f":"Stundenplan!$B$4","v":"Probe 1"},null,{"$f":"Stundenplan!$C$4","v":"Probe 11"},null,{"$f":"Stundenplan!$D$4","v":"Probe 21"},null,{"$f":"Stundenplan!$E$4","v":"Probe 31"},null,{"$f":"Stundenplan!$F$4","v":"Probe 41"}]
[]
[]
[]
[{"$f":"Stundenplan!$B$5","v":"Probe 2"},null,{"$f":"Stundenplan!$C$5","v":"Probe 12"},null,{"$f":"Stundenplan!$D$5","v":"Probe 22"},null,{"$f":"Stundenplan!$E$5","v":"Probe 32"},null,{"$f":"Stundenplan!$F$5","v":"Probe 42"}]
[]
[]
[]
[{"$f":"Stundenplan!$B$6","v":"Probe 3"},null,{"$f":"Stundenplan!$C$6","v":"Probe 13"},null,{"$f":"Stundenplan!$D$6","v":"Probe 23"},null,{"$f":"Stundenplan!$E$6","v":"Probe 33"},null,{"$f":"Stundenplan!$F$6","v":"Probe 43"}]
[]
[]
[]
[{"$f":"Stundenplan!$B$7","v":"Probe 4"},null,{"$f":"Stundenplan!$C$7","v":"Probe 14"},null,{"$f":"Stundenplan!$D$7","v":"Probe 24"},null,{"$f":"Stundenplan!$E$7","v":"Probe 34"},null,{"$f":"Stundenplan!$F$7","v":"Probe 44"}]
[]
[]
[]
[{"$f":"Stundenplan!$B$8","v":"Probe 5"},null,{"$f":"Stundenplan!$C$8","v":"Probe 15"},null,{"$f":"Stundenplan!$D$8","v":"Probe 25"},null,{"$f":"Stundenplan!$E$8","v":"Probe 35"},null,{"$f":"Stundenplan!$F$8","v":"Probe 45"}]
[]
[]
[]
[{"$f":"Stundenplan!$B$10","v":"Probe 6"},null,{"$f":"Stundenplan!$C$10","v":"Probe 16"},null,{"$f":"Stundenplan!$D$10","v":"Probe 26"},null,{"$f":"Stundenplan!$E$10","v":"Probe 36"},null,{"$f":"Stundenplan!$F$10","v":"Probe 46"}]
[]
[]
[]
[{"$f":"Stundenplan!$B$11","v":"Probe 7"},null,{"$f":"Stundenplan!$C$11","v":"Probe 17"},null,{"$f":"Stundenplan!$D$11","v":"Probe 27"},null,{"$f":"Stundenplan!$E$11","v":"Probe 37"},null,{"$f":"Stundenplan!$F$11","v":"Probe 47"}]
[]
[]
[]
[{"$f":"Stundenplan!$B$12","v":"Probe 8"},null,{"$f":"Stundenplan!$C$12","v":"Probe 18"},null,{"$f":"Stundenplan!$D$12","v":"Probe 28"},null,{"$f":"Stundenplan!$E$12","v":"Probe 38"},null,{"$f":"Stundenplan!$F$12","v":"Probe 48"}]
[]
[]
[]
[{"$f":"Stundenplan!$B$13","v":"Notizen"},null,{"$f":"Stundenplan!$C$13","v":"Notizen"},null,{"$f":"Stundenplan!$D$13","v":"Notizen"},null,{"$f":"Stundenplan!$E$13","v":"Notizen"},null,{"$f":"Stundenplan!$F$13","v":"Notizen"}]

{"sheet":"Wo 9","index":35,"n_rows":35,"n_cols":10,"rows_kept":35,"cut":false,"hidden":false,"merged":[[0,8,0,9],[2,0,2,1],[2,2,2,3],[2,4,2,5],[2,6,2,7],[2,8,2,9],[0,6,0,7],[0,3,0,5],[3,8,3,9],[4,0,4,1],[4,2,4,3],[4,4,4,5],[4,6,4,7],[4,8,4,9],[3,0,3,1],[3,2,3,3],[3,4,3,5],[3,6,3,7],[5,8,5,9],[6,0,6,1],[6,2,6,3],[6,4,6,5],[6,6,6,7],[8,8,8,9],[8,0,8,1],[8,2,8,3],[8,4,8,5],[8,6,8,7],[5,0,5,1],[5,2,5,3],[5,4,5,5],[5,6,5,7],[6,8,6,9],[7,0,7,1],[7,2,7,3],[7,4,7,5],[7,6,7,7],[7,8,7,9],[9,8,9,9],[14,0,14,1],[14,2,14,3],[14,4,14,5],[14,6,14,7],[14,8,14,9],[9,0,9,1],[9,2,9,3],[9,4,9,5],[9,6,9,7],[12,4,12,5],[10,6,10,7],[11,6,11,7],[12,6,12,7],[18,6,18,7],[17,0,17,1],[17,2,17,3],[17,4,17,5],[17,6,17,7],[17,8,17,9],[13,0,13,1],[13,2,13,3],[13,4,13,5],[13,6,13,7],[15,8,15,9],[16,0,16,1],[16,2,16,3],[16,4,16,5],[16,6,16,7],[16,8,16,9],[15,0,15,1],[15,2,15,3],[15,4,15,5],[15,6,15,7],[20,6,20,7],[21,8,21,9],[21,0,21,1],[21,2,21,3],[21,4,21,5],[21,6,21,7],[19,0,19,1],[19,2,19,3],[19,4,19,5],[19,6,19,7],[19,8,19,9],[28,8,28,9],[22,0,22,1],[22,2,22,3],[22,4,22,5],[22,6,22,7],[26,0,26,1],[26,2,26,3],[26,4,26,5],[26,6,26,7],[24,0,24,1],[24,2,24,3],[24,4,24,5],[24,6,24,7],[22,8,22,9],[23,0,23,1],[23,2,23,3],[23,4,23,5],[25,8,25,9],[27,8,27,9],[25,6,25,7],[28,6,28,7],[37,0,37,1],[37,2,37,3],[36,2,36,3],[37,4,37,5],[36,4,36,5],[35,0,35,1],[35,2,35,3],[35,4,35,5],[10,0,10,1],[11,0,11,1],[12,0,12,1],[12,2,12,3],[11,2,11,3],[10,2,10,3],[31,0,31,1],[31,2,31,3],[31,4,31,5],[30,0,30,1],[32,0,32,1],[32,2,32,3],[32,4,32,5],[29,0,29,1],[29,2,29,3],[29,4,29,5],[36,0,36,1],[34,0,34,1],[34,2,34,3],[34,4,34,5],[33,0,33,1],[33,2,33,3],[33,4,33,5],[10,4,10,5],[11,4,11,5],[25,0,25,1],[25,2,25,3],[25,4,25,5],[20,0,20,1],[20,2,20,3],[20,4,20,5],[18,0,18,1],[18,2,18,3],[18,4,18,5],[28,0,28,1],[28,2,28,3],[28,4,28,5],[31,6,31,7],[32,6,32,7],[29,6,29,7],[27,0,27,1],[27,2,27,3],[27,4,27,5],[27,6,27,7],[30,2,30,3],[30,4,30,5],[30,6,30,7],[37,8,37,9],[36,8,36,9],[37,6,37,7],[36,6,36,7],[35,8,35,9],[35,6,35,7],[10,8,10,9],[11,8,11,9],[12,8,12,9],[31,8,31,9],[29,8,29,9],[32,8,32,9],[30,8,30,9],[26,8,26,9],[23,6,23,7],[23,8,23,9],[24,8,24,9],[20,8,20,9],[18,8,18,9],[13,8,13,9],[33,8,33,9],[34,6,34,7],[34,8,34,9],[33,6,33,7]]}
["Wochenplan für die",null,{"$f":"'Daten Jahr'!A11","v":9},"Woche des Schuljahres",null,null,{"$f":"Stundenplan!C1","v":"2013-2014"},null,{"$f":"Stundenplan!$F$1","v":"3/4"}]
["Mo:",{"$f":"Start!F72","v":"2013-10-28"},"Di:",{"$f":"B2+1","v":"2013-10-29"},"Mi:",{"$f":"D2+1","v":"2013-10-30"},"Do:",{"$f":"F2+1","v":"2013-10-31"},"Fr:",{"$f":"H2+1","v":"2013-11-01"}]
[{"$f":"Stundenplan!$B$4","v":"Probe 1"},null,{"$f":"Stundenplan!$C$4","v":"Probe 11"},null,{"$f":"Stundenplan!$D$4","v":"Probe 21"},null,{"$f":"Stundenplan!$E$4","v":"Probe 31"},null,{"$f":"Stundenplan!$F$4","v":"Probe 41"}]
[]
[]
[]
[{"$f":"Stundenplan!$B$5","v":"Probe 2"},null,{"$f":"Stundenplan!$C$5","v":"Probe 12"},null,{"$f":"Stundenplan!$D$5","v":"Probe 22"},null,{"$f":"Stundenplan!$E$5","v":"Probe 32"},null,{"$f":"Stundenplan!$F$5","v":"Probe 42"}]
[]
[]
[]
[{"$f":"Stundenplan!$B$6","v":"Probe 3"},null,{"$f":"Stundenplan!$C$6","v":"Probe 13"},null,{"$f":"Stundenplan!$D$6","v":"Probe 23"},null,{"$f":"Stundenplan!$E$6","v":"Probe 33"},null,{"$f":"Stundenplan!$F$6","v":"Probe 43"}]
[]
[]
[]
[{"$f":"Stundenplan!$B$7","v":"Probe 4"},null,{"$f":"Stundenplan!$C$7","v":"Probe 14"},null,{"$f":"Stundenplan!$D$7","v":"Probe 24"},null,{"$f":"Stundenplan!$E$7","v":"Probe 34"},null,{"$f":"Stundenplan!$F$7","v":"Probe 44"}]
[]
[]
[]
[{"$f":"Stundenplan!$B$8","v":"Probe 5"},null,{"$f":"Stundenplan!$C$8","v":"Probe 15"},null,{"$f":"Stundenplan!$D$8","v":"Probe 25"},null,{"$f":"Stundenplan!$E$8","v":"Probe 35"},null,{"$f":"Stundenplan!$F$8","v":"Probe 45"}]
[]
[]
[]
[{"$f":"Stundenplan!$B$10","v":"Probe 6"},null,{"$f":"Stundenplan!$C$10","v":"Probe 16"},null,{"$f":"Stundenplan!$D$10","v":"Probe 26"},null,{"$f":"Stundenplan!$E$10","v":"Probe 36"},null,{"$f":"Stundenplan!$F$10","v":"Probe 46"}]
[]
[]
[]
[{"$f":"Stundenplan!$B$11","v":"Probe 7"},null,{"$f":"Stundenplan!$C$11","v":"Probe 17"},null,{"$f":"Stundenplan!$D$11","v":"Probe 27"},null,{"$f":"Stundenplan!$E$11","v":"Probe 37"},null,{"$f":"Stundenplan!$F$11","v":"Probe 47"}]
[]
[]
[]
[{"$f":"Stundenplan!$B$12","v":"Probe 8"},null,{"$f":"Stundenplan!$C$12","v":"Probe 18"},null,{"$f":"Stundenplan!$D$12","v":"Probe 28"},null,{"$f":"Stundenplan!$E$12","v":"Probe 38"},null,{"$f":"Stundenplan!$F$12","v":"Probe 48"}]
[]
[]
[]
[{"$f":"Stundenplan!$B$13","v":"Notizen"},null,{"$f":"Stundenplan!$C$13","v":"Notizen"},null,{"$f":"Stundenplan!$D$13","v":"Notizen"},null,{"$f":"Stundenplan!$E$13","v":"Notizen"},null,{"$f":"Stundenplan!$F$13","v":"Notizen"}]

{"sheet":"Wo 10","index":36,"n_rows":35,"n_cols":10,"rows_kept":35,"cut":false,"hidden":false,"merged":[[35,0,35,1],[35,2,35,3],[35,4,35,5],[35,6,35,7],[33,8,33,9],[34,0,34,1],[34,2,34,3],[34,4,34,5],[34,6,34,7],[34,8,34,9],[33,0,33,1],[33,2,33,3],[33,4,33,5],[33,6,33,7],[35,8,35,9],[32,0,32,1],[32,2,32,3],[32,4,32,5],[31,0,31,1],[31,2,31,3],[31,4,31,5],[31,6,31,7],[31,8,31,9],[30,0,30,1],[30,2,30,3],[30,4,30,5],[32,6,32,7],[30,8,30,9],[29,0,29,1],[29,2,29,3],[29,4,29,5],[29,6,29,7],[27,8,27,9],[28,0,28,1],[28,2,28,3],[28,4,28,5],[28,6,28,7],[29,8,29,9],[28,8,28,9],[25,2,25,3],[25,4,25,5],[25,6,25,7],[24,8,24,9],[24,0,24,1],[24,2,24,3],[24,4,24,5],[24,6,24,7],[27,0,27,1],[27,2,27,3],[27,4,27,5],[27,6,27,7],[25,8,25,9],[26,0,26,1],[26,2,26,3],[26,4,26,5],[26,6,26,7],[25,0,25,1],[26,8,26,9],[23,0,23,1],[23,2,23,3],[23,4,23,5],[23,6,23,7],[23,8,23,9],[22,0,22,1],[22,2,22,3],[22,4,22,5],[22,6,22,7],[22,8,22,9],[2,0,2,1],[2,2,2,3],[2,4,2,5],[2,6,2,7],[2,8,2,9],[13,0,13,1],[13,2,13,3],[13,4,13,5],[13,6,13,7],[6,8,6,9],[7,0,7,1],[7,2,7,3],[7,4,7,5],[7,6,7,7],[7,8,7,9],[9,0,9,1],[9,2,9,3],[9,4,9,5],[9,6,9,7],[13,8,13,9],[8,8,8,9],[8,0,8,1],[8,2,8,3],[8,4,8,5],[36,0,36,1],[37,0,37,1],[37,2,37,3],[36,2,36,3],[37,4,37,5],[36,4,36,5],[37,6,37,7],[36,6,36,7],[15,4,15,5],[19,0,19,1],[19,2,19,3],[19,4,19,5],[19,6,19,7],[18,0,18,1],[18,2,18,3],[18,4,18,5],[18,6,18,7],[21,0,21,1],[21,2,21,3],[21,4,21,5],[21,6,21,7],[20,0,20,1],[20,2,20,3],[20,4,20,5],[3,0,3,1],[3,2,3,3],[3,4,3,5],[3,6,3,7],[16,0,16,1],[16,2,16,3],[16,4,16,5],[16,6,16,7],[15,0,15,1],[15,2,15,3],[5,0,5,1],[5,2,5,3],[5,4,5,5],[5,6,5,7],[4,0,4,1],[4,2,4,3],[4,4,4,5],[4,6,4,7],[6,0,6,1],[6,2,6,3],[6,4,6,5],[6,6,6,7],[14,0,14,1],[14,2,14,3],[17,0,17,1],[17,2,17,3],[17,4,17,5],[17,6,17,7],[10,0,10,1],[11,0,11,1],[12,0,12,1],[12,2,12,3],[11,2,11,3],[14,4,14,5],[14,6,14,7],[10,2,10,3],[10,4,10,5],[11,4,11,5],[0,6,0,7],[0,3,0,5],[10,8,10,9],[11,8,11,9],[15,6,15,7],[5,8,5,9],[3,8,3,9],[4,8,4,9],[0,8,0,9],[14,8,14,9],[8,6,8,7],[9,8,9,9],[12,8,12,9],[12,4,12,5],[10,6,10,7],[11,6,11,7],[12,6,12,7],[20,6,20,7],[30,6,30,7],[32,8,32,9],[21,8,21,9],[37,8,37,9],[36,8,36,9],[15,8,15,9],[16,8,16,9],[17,8,17,9],[19,8,19,9],[18,8,18,9],[20,8,20,9]]}
["Wochenplan für die",null,{"$f":"'Daten Jahr'!A12","v":10},"Woche des Schuljahres",null,null,{"$f":"Stundenplan!C1","v":"2013-2014"},null,{"$f":"Stundenplan!$F$1","v":"3/4"}]
["Mo:",{"$f":"Start!F73","v":"2013-11-04"},"Di:",{"$f":"B2+1","v":"2013-11-05"},"Mi:",{"$f":"D2+1","v":"2013-11-06"},"Do:",{"$f":"F2+1","v":"2013-11-07"},"Fr:",{"$f":"H2+1","v":"2013-11-08"}]
[{"$f":"Stundenplan!$B$4","v":"Probe 1"},null,{"$f":"Stundenplan!$C$4","v":"Probe 11"},null,{"$f":"Stundenplan!$D$4","v":"Probe 21"},null,{"$f":"Stundenplan!$E$4","v":"Probe 31"},null,{"$f":"Stundenplan!$F$4","v":"Probe 41"}]
[]
[]
[]
[{"$f":"Stundenplan!$B$5","v":"Probe 2"},null,{"$f":"Stundenplan!$C$5","v":"Probe 12"},null,{"$f":"Stundenplan!$D$5","v":"Probe 22"},null,{"$f":"Stundenplan!$E$5","v":"Probe 32"},null,{"$f":"Stundenplan!$F$5","v":"Probe 42"}]
[]
[]
[]
[{"$f":"Stundenplan!$B$6","v":"Probe 3"},null,{"$f":"Stundenplan!$C$6","v":"Probe 13"},null,{"$f":"Stundenplan!$D$6","v":"Probe 23"},null,{"$f":"Stundenplan!$E$6","v":"Probe 33"},null,{"$f":"Stundenplan!$F$6","v":"Probe 43"}]
[]
[]
[]
[{"$f":"Stundenplan!$B$7","v":"Probe 4"},null,{"$f":"Stundenplan!$C$7","v":"Probe 14"},null,{"$f":"Stundenplan!$D$7","v":"Probe 24"},null,{"$f":"Stundenplan!$E$7","v":"Probe 34"},null,{"$f":"Stundenplan!$F$7","v":"Probe 44"}]
[]
[]
[]
[{"$f":"Stundenplan!$B$8","v":"Probe 5"},null,{"$f":"Stundenplan!$C$8","v":"Probe 15"},null,{"$f":"Stundenplan!$D$8","v":"Probe 25"},null,{"$f":"Stundenplan!$E$8","v":"Probe 35"},null,{"$f":"Stundenplan!$F$8","v":"Probe 45"}]
[]
[]
[]
[{"$f":"Stundenplan!$B$10","v":"Probe 6"},null,{"$f":"Stundenplan!$C$10","v":"Probe 16"},null,{"$f":"Stundenplan!$D$10","v":"Probe 26"},null,{"$f":"Stundenplan!$E$10","v":"Probe 36"},null,{"$f":"Stundenplan!$F$10","v":"Probe 46"}]
[]
[]
[]
[{"$f":"Stundenplan!$B$11","v":"Probe 7"},null,{"$f":"Stundenplan!$C$11","v":"Probe 17"},null,{"$f":"Stundenplan!$D$11","v":"Probe 27"},null,{"$f":"Stundenplan!$E$11","v":"Probe 37"},null,{"$f":"Stundenplan!$F$11","v":"Probe 47"}]
[]
[]
[]
[{"$f":"Stundenplan!$B$12","v":"Probe 8"},null,{"$f":"Stundenplan!$C$12","v":"Probe 18"},null,{"$f":"Stundenplan!$D$12","v":"Probe 28"},null,{"$f":"Stundenplan!$E$12","v":"Probe 38"},null,{"$f":"Stundenplan!$F$12","v":"Probe 48"}]
[]
[]
[]
[{"$f":"Stundenplan!$B$13","v":"Notizen"},null,{"$f":"Stundenplan!$C$13","v":"Notizen"},null,{"$f":"Stundenplan!$D$13","v":"Notizen"},null,{"$f":"Stundenplan!$E$13","v":"Notizen"},null,{"$f":"Stundenplan!$F$13","v":"Notizen"}]

{"sheet":"Wo 11","index":37,"n_rows":35,"n_cols":10,"rows_kept":35,"cut":false,"hidden":false,"merged":[[0,8,0,9],[2,0,2,1],[2,2,2,3],[2,4,2,5],[2,6,2,7],[2,8,2,9],[0,6,0,7],[0,3,0,5],[3,8,3,9],[4,0,4,1],[4,2,4,3],[4,4,4,5],[4,6,4,7],[4,8,4,9],[3,0,3,1],[3,2,3,3],[3,4,3,5],[3,6,3,7],[5,8,5,9],[6,0,6,1],[6,2,6,3],[6,4,6,5],[6,6,6,7],[8,8,8,9],[8,0,8,1],[8,2,8,3],[8,4,8,5],[8,6,8,7],[5,0,5,1],[5,2,5,3],[5,4,5,5],[5,6,5,7],[6,8,6,9],[7,0,7,1],[7,2,7,3],[7,4,7,5],[7,6,7,7],[7,8,7,9],[9,8,9,9],[14,0,14,1],[14,2,14,3],[14,4,14,5],[14,6,14,7],[14,8,14,9],[9,0,9,1],[9,2,9,3],[9,4,9,5],[9,6,9,7],[12,4,12,5],[10,6,10,7],[11,6,11,7],[12,6,12,7],[18,6,18,7],[17,0,17,1],[17,2,17,3],[17,4,17,5],[17,6,17,7],[17,8,17,9],[13,0,13,1],[13,2,13,3],[13,4,13,5],[13,6,13,7],[15,8,15,9],[16,0,16,1],[16,2,16,3],[16,4,16,5],[16,6,16,7],[16,8,16,9],[15,0,15,1],[15,2,15,3],[15,4,15,5],[15,6,15,7],[20,6,20,7],[21,8,21,9],[21,0,21,1],[21,2,21,3],[21,4,21,5],[21,6,21,7],[19,0,19,1],[19,2,19,3],[19,4,19,5],[19,6,19,7],[19,8,19,9],[28,8,28,9],[22,0,22,1],[22,2,22,3],[22,4,22,5],[22,6,22,7],[26,0,26,1],[26,2,26,3],[26,4,26,5],[26,6,26,7],[24,0,24,1],[24,2,24,3],[24,4,24,5],[24,6,24,7],[22,8,22,9],[23,0,23,1],[23,2,23,3],[23,4,23,5],[25,8,25,9],[27,8,27,9],[25,6,25,7],[28,6,28,7],[37,0,37,1],[37,2,37,3],[36,2,36,3],[37,4,37,5],[36,4,36,5],[35,0,35,1],[35,2,35,3],[35,4,35,5],[10,0,10,1],[11,0,11,1],[12,0,12,1],[12,2,12,3],[11,2,11,3],[10,2,10,3],[31,0,31,1],[31,2,31,3],[31,4,31,5],[30,0,30,1],[32,0,32,1],[32,2,32,3],[32,4,32,5],[29,0,29,1],[29,2,29,3],[29,4,29,5],[36,0,36,1],[34,0,34,1],[34,2,34,3],[34,4,34,5],[33,0,33,1],[33,2,33,3],[33,4,33,5],[10,4,10,5],[11,4,11,5],[25,0,25,1],[25,2,25,3],[25,4,25,5],[20,0,20,1],[20,2,20,3],[20,4,20,5],[18,0,18,1],[18,2,18,3],[18,4,18,5],[28,0,28,1],[28,2,28,3],[28,4,28,5],[31,6,31,7],[32,6,32,7],[29,6,29,7],[27,0,27,1],[27,2,27,3],[27,4,27,5],[27,6,27,7],[30,2,30,3],[30,4,30,5],[30,6,30,7],[37,8,37,9],[36,8,36,9],[37,6,37,7],[36,6,36,7],[35,8,35,9],[35,6,35,7],[10,8,10,9],[11,8,11,9],[12,8,12,9],[31,8,31,9],[29,8,29,9],[32,8,32,9],[30,8,30,9],[26,8,26,9],[23,6,23,7],[23,8,23,9],[24,8,24,9],[20,8,20,9],[18,8,18,9],[13,8,13,9],[33,8,33,9],[34,6,34,7],[34,8,34,9],[33,6,33,7]]}
["Wochenplan für die",null,{"$f":"'Daten Jahr'!A13","v":11},"Woche des Schuljahres",null,null,{"$f":"Stundenplan!C1","v":"2013-2014"},null,{"$f":"Stundenplan!$F$1","v":"3/4"}]
["Mo:",{"$f":"Start!F74","v":"2013-11-11"},"Di:",{"$f":"B2+1","v":"2013-11-12"},"Mi:",{"$f":"D2+1","v":"2013-11-13"},"Do:",{"$f":"F2+1","v":"2013-11-14"},"Fr:",{"$f":"H2+1","v":"2013-11-15"}]
[{"$f":"Stundenplan!$B$4","v":"Probe 1"},null,{"$f":"Stundenplan!$C$4","v":"Probe 11"},null,{"$f":"Stundenplan!$D$4","v":"Probe 21"},null,{"$f":"Stundenplan!$E$4","v":"Probe 31"},null,{"$f":"Stundenplan!$F$4","v":"Probe 41"}]
[]
[]
[]
[{"$f":"Stundenplan!$B$5","v":"Probe 2"},null,{"$f":"Stundenplan!$C$5","v":"Probe 12"},null,{"$f":"Stundenplan!$D$5","v":"Probe 22"},null,{"$f":"Stundenplan!$E$5","v":"Probe 32"},null,{"$f":"Stundenplan!$F$5","v":"Probe 42"}]
[]
[]
[]
[{"$f":"Stundenplan!$B$6","v":"Probe 3"},null,{"$f":"Stundenplan!$C$6","v":"Probe 13"},null,{"$f":"Stundenplan!$D$6","v":"Probe 23"},null,{"$f":"Stundenplan!$E$6","v":"Probe 33"},null,{"$f":"Stundenplan!$F$6","v":"Probe 43"}]
[]
[]
[]
[{"$f":"Stundenplan!$B$7","v":"Probe 4"},null,{"$f":"Stundenplan!$C$7","v":"Probe 14"},null,{"$f":"Stundenplan!$D$7","v":"Probe 24"},null,{"$f":"Stundenplan!$E$7","v":"Probe 34"},null,{"$f":"Stundenplan!$F$7","v":"Probe 44"}]
[]
[]
[]
[{"$f":"Stundenplan!$B$8","v":"Probe 5"},null,{"$f":"Stundenplan!$C$8","v":"Probe 15"},null,{"$f":"Stundenplan!$D$8","v":"Probe 25"},null,{"$f":"Stundenplan!$E$8","v":"Probe 35"},null,{"$f":"Stundenplan!$F$8","v":"Probe 45"}]
[]
[]
[]
[{"$f":"Stundenplan!$B$10","v":"Probe 6"},null,{"$f":"Stundenplan!$C$10","v":"Probe 16"},null,{"$f":"Stundenplan!$D$10","v":"Probe 26"},null,{"$f":"Stundenplan!$E$10","v":"Probe 36"},null,{"$f":"Stundenplan!$F$10","v":"Probe 46"}]
[]
[]
[]
[{"$f":"Stundenplan!$B$11","v":"Probe 7"},null,{"$f":"Stundenplan!$C$11","v":"Probe 17"},null,{"$f":"Stundenplan!$D$11","v":"Probe 27"},null,{"$f":"Stundenplan!$E$11","v":"Probe 37"},null,{"$f":"Stundenplan!$F$11","v":"Probe 47"}]
[]
[]
[]
[{"$f":"Stundenplan!$B$12","v":"Probe 8"},null,{"$f":"Stundenplan!$C$12","v":"Probe 18"},null,{"$f":"Stundenplan!$D$12","v":"Probe 28"},null,{"$f":"Stundenplan!$E$12","v":"Probe 38"},null,{"$f":"Stundenplan!$F$12","v":"Probe 48"}]
[]
[]
[]
[{"$f":"Stundenplan!$B$13","v":"Notizen"},null,{"$f":"Stundenplan!$C$13","v":"Notizen"},null,{"$f":"Stundenplan!$D$13","v":"Notizen"},null,{"$f":"Stundenplan!$E$13","v":"Notizen"},null,{"$f":"Stundenplan!$F$13","v":"Notizen"}]

{"sheet":"Wo 12","index":38,"n_rows":35,"n_cols":10,"rows_kept":35,"cut":false,"hidden":false,"merged":[[35,0,35,1],[35,2,35,3],[35,4,35,5],[35,6,35,7],[33,8,33,9],[34,0,34,1],[34,2,34,3],[34,4,34,5],[34,6,34,7],[34,8,34,9],[33,0,33,1],[33,2,33,3],[33,4,33,5],[33,6,33,7],[35,8,35,9],[32,0,32,1],[32,2,32,3],[32,4,32,5],[31,0,31,1],[31,2,31,3],[31,4,31,5],[31,6,31,7],[31,8,31,9],[30,0,30,1],[30,2,30,3],[30,4,30,5],[32,6,32,7],[30,8,30,9],[29,0,29,1],[29,2,29,3],[29,4,29,5],[29,6,29,7],[27,8,27,9],[28,0,28,1],[28,2,28,3],[28,4,28,5],[28,6,28,7],[29,8,29,9],[28,8,28,9],[25,2,25,3],[25,4,25,5],[25,6,25,7],[24,8,24,9],[24,0,24,1],[24,2,24,3],[24,4,24,5],[24,6,24,7],[27,0,27,1],[27,2,27,3],[27,4,27,5],[27,6,27,7],[25,8,25,9],[26,0,26,1],[26,2,26,3],[26,4,26,5],[26,6,26,7],[25,0,25,1],[26,8,26,9],[23,0,23,1],[23,2,23,3],[23,4,23,5],[23,6,23,7],[23,8,23,9],[22,0,22,1],[22,2,22,3],[22,4,22,5],[22,6,22,7],[22,8,22,9],[2,0,2,1],[2,2,2,3],[2,4,2,5],[2,6,2,7],[2,8,2,9],[13,0,13,1],[13,2,13,3],[13,4,13,5],[13,6,13,7],[6,8,6,9],[7,0,7,1],[7,2,7,3],[7,4,7,5],[7,6,7,7],[7,8,7,9],[9,0,9,1],[9,2,9,3],[9,4,9,5],[9,6,9,7],[13,8,13,9],[8,8,8,9],[8,0,8,1],[8,2,8,3],[8,4,8,5],[36,0,36,1],[37,0,37,1],[37,2,37,3],[36,2,36,3],[37,4,37,5],[36,4,36,5],[37,6,37,7],[36,6,36,7],[15,4,15,5],[19,0,19,1],[19,2,19,3],[19,4,19,5],[19,6,19,7],[18,0,18,1],[18,2,18,3],[18,4,18,5],[18,6,18,7],[21,0,21,1],[21,2,21,3],[21,4,21,5],[21,6,21,7],[20,0,20,1],[20,2,20,3],[20,4,20,5],[3,0,3,1],[3,2,3,3],[3,4,3,5],[3,6,3,7],[16,0,16,1],[16,2,16,3],[16,4,16,5],[16,6,16,7],[15,0,15,1],[15,2,15,3],[5,0,5,1],[5,2,5,3],[5,4,5,5],[5,6,5,7],[4,0,4,1],[4,2,4,3],[4,4,4,5],[4,6,4,7],[6,0,6,1],[6,2,6,3],[6,4,6,5],[6,6,6,7],[14,0,14,1],[14,2,14,3],[17,0,17,1],[17,2,17,3],[17,4,17,5],[17,6,17,7],[10,0,10,1],[11,0,11,1],[12,0,12,1],[12,2,12,3],[11,2,11,3],[14,4,14,5],[14,6,14,7],[10,2,10,3],[10,4,10,5],[11,4,11,5],[0,6,0,7],[0,3,0,5],[10,8,10,9],[11,8,11,9],[15,6,15,7],[5,8,5,9],[3,8,3,9],[4,8,4,9],[0,8,0,9],[14,8,14,9],[8,6,8,7],[9,8,9,9],[12,8,12,9],[12,4,12,5],[10,6,10,7],[11,6,11,7],[12,6,12,7],[20,6,20,7],[30,6,30,7],[32,8,32,9],[21,8,21,9],[37,8,37,9],[36,8,36,9],[15,8,15,9],[16,8,16,9],[17,8,17,9],[19,8,19,9],[18,8,18,9],[20,8,20,9]]}
["Wochenplan für die",null,{"$f":"'Daten Jahr'!A14","v":12},"Woche des Schuljahres",null,null,{"$f":"Stundenplan!C1","v":"2013-2014"},null,{"$f":"Stundenplan!$F$1","v":"3/4"}]
["Mo:",{"$f":"Start!F75","v":"2013-11-18"},"Di:",{"$f":"B2+1","v":"2013-11-19"},"Mi:",{"$f":"D2+1","v":"2013-11-20"},"Do:",{"$f":"F2+1","v":"2013-11-21"},"Fr:",{"$f":"H2+1","v":"2013-11-22"}]
[{"$f":"Stundenplan!$B$4","v":"Probe 1"},null,{"$f":"Stundenplan!$C$4","v":"Probe 11"},null,{"$f":"Stundenplan!$D$4","v":"Probe 21"},null,{"$f":"Stundenplan!$E$4","v":"Probe 31"},null,{"$f":"Stundenplan!$F$4","v":"Probe 41"}]
[]
[]
[]
[{"$f":"Stundenplan!$B$5","v":"Probe 2"},null,{"$f":"Stundenplan!$C$5","v":"Probe 12"},null,{"$f":"Stundenplan!$D$5","v":"Probe 22"},null,{"$f":"Stundenplan!$E$5","v":"Probe 32"},null,{"$f":"Stundenplan!$F$5","v":"Probe 42"}]
[]
[]
[]
[{"$f":"Stundenplan!$B$6","v":"Probe 3"},null,{"$f":"Stundenplan!$C$6","v":"Probe 13"},null,{"$f":"Stundenplan!$D$6","v":"Probe 23"},null,{"$f":"Stundenplan!$E$6","v":"Probe 33"},null,{"$f":"Stundenplan!$F$6","v":"Probe 43"}]
[]
[]
[]
[{"$f":"Stundenplan!$B$7","v":"Probe 4"},null,{"$f":"Stundenplan!$C$7","v":"Probe 14"},null,{"$f":"Stundenplan!$D$7","v":"Probe 24"},null,{"$f":"Stundenplan!$E$7","v":"Probe 34"},null,{"$f":"Stundenplan!$F$7","v":"Probe 44"}]
[]
[]
[]
[{"$f":"Stundenplan!$B$8","v":"Probe 5"},null,{"$f":"Stundenplan!$C$8","v":"Probe 15"},null,{"$f":"Stundenplan!$D$8","v":"Probe 25"},null,{"$f":"Stundenplan!$E$8","v":"Probe 35"},null,{"$f":"Stundenplan!$F$8","v":"Probe 45"}]
[]
[]
[]
[{"$f":"Stundenplan!$B$10","v":"Probe 6"},null,{"$f":"Stundenplan!$C$10","v":"Probe 16"},null,{"$f":"Stundenplan!$D$10","v":"Probe 26"},null,{"$f":"Stundenplan!$E$10","v":"Probe 36"},null,{"$f":"Stundenplan!$F$10","v":"Probe 46"}]
[]
[]
[]
[{"$f":"Stundenplan!$B$11","v":"Probe 7"},null,{"$f":"Stundenplan!$C$11","v":"Probe 17"},null,{"$f":"Stundenplan!$D$11","v":"Probe 27"},null,{"$f":"Stundenplan!$E$11","v":"Probe 37"},null,{"$f":"Stundenplan!$F$11","v":"Probe 47"}]
[]
[]
[]
[{"$f":"Stundenplan!$B$12","v":"Probe 8"},null,{"$f":"Stundenplan!$C$12","v":"Probe 18"},null,{"$f":"Stundenplan!$D$12","v":"Probe 28"},null,{"$f":"Stundenplan!$E$12","v":"Probe 38"},null,{"$f":"Stundenplan!$F$12","v":"Probe 48"}]
[]
[]
[]
[{"$f":"Stundenplan!$B$13","v":"Notizen"},null,{"$f":"Stundenplan!$C$13","v":"Notizen"},null,{"$f":"Stundenplan!$D$13","v":"Notizen"},null,{"$f":"Stundenplan!$E$13","v":"Notizen"},null,{"$f":"Stundenplan!$F$13","v":"Notizen"}]

{"sheet":"Wo 13","index":39,"n_rows":35,"n_cols":10,"rows_kept":35,"cut":false,"hidden":false,"merged":[[0,8,0,9],[2,0,2,1],[2,2,2,3],[2,4,2,5],[2,6,2,7],[2,8,2,9],[0,6,0,7],[0,3,0,5],[3,8,3,9],[4,0,4,1],[4,2,4,3],[4,4,4,5],[4,6,4,7],[4,8,4,9],[3,0,3,1],[3,2,3,3],[3,4,3,5],[3,6,3,7],[5,8,5,9],[6,0,6,1],[6,2,6,3],[6,4,6,5],[6,6,6,7],[8,8,8,9],[8,0,8,1],[8,2,8,3],[8,4,8,5],[8,6,8,7],[5,0,5,1],[5,2,5,3],[5,4,5,5],[5,6,5,7],[6,8,6,9],[7,0,7,1],[7,2,7,3],[7,4,7,5],[7,6,7,7],[7,8,7,9],[9,8,9,9],[14,0,14,1],[14,2,14,3],[14,4,14,5],[14,6,14,7],[14,8,14,9],[9,0,9,1],[9,2,9,3],[9,4,9,5],[9,6,9,7],[12,4,12,5],[10,6,10,7],[11,6,11,7],[12,6,12,7],[18,6,18,7],[17,0,17,1],[17,2,17,3],[17,4,17,5],[17,6,17,7],[17,8,17,9],[13,0,13,1],[13,2,13,3],[13,4,13,5],[13,6,13,7],[15,8,15,9],[16,0,16,1],[16,2,16,3],[16,4,16,5],[16,6,16,7],[16,8,16,9],[15,0,15,1],[15,2,15,3],[15,4,15,5],[15,6,15,7],[20,6,20,7],[21,8,21,9],[21,0,21,1],[21,2,21,3],[21,4,21,5],[21,6,21,7],[19,0,19,1],[19,2,19,3],[19,4,19,5],[19,6,19,7],[19,8,19,9],[28,8,28,9],[22,0,22,1],[22,2,22,3],[22,4,22,5],[22,6,22,7],[26,0,26,1],[26,2,26,3],[26,4,26,5],[26,6,26,7],[24,0,24,1],[24,2,24,3],[24,4,24,5],[24,6,24,7],[22,8,22,9],[23,0,23,1],[23,2,23,3],[23,4,23,5],[25,8,25,9],[27,8,27,9],[25,6,25,7],[28,6,28,7],[37,0,37,1],[37,2,37,3],[36,2,36,3],[37,4,37,5],[36,4,36,5],[35,0,35,1],[35,2,35,3],[35,4,35,5],[10,0,10,1],[11,0,11,1],[12,0,12,1],[12,2,12,3],[11,2,11,3],[10,2,10,3],[31,0,31,1],[31,2,31,3],[31,4,31,5],[30,0,30,1],[32,0,32,1],[32,2,32,3],[32,4,32,5],[29,0,29,1],[29,2,29,3],[29,4,29,5],[36,0,36,1],[34,0,34,1],[34,2,34,3],[34,4,34,5],[33,0,33,1],[33,2,33,3],[33,4,33,5],[10,4,10,5],[11,4,11,5],[25,0,25,1],[25,2,25,3],[25,4,25,5],[20,0,20,1],[20,2,20,3],[20,4,20,5],[18,0,18,1],[18,2,18,3],[18,4,18,5],[28,0,28,1],[28,2,28,3],[28,4,28,5],[31,6,31,7],[32,6,32,7],[29,6,29,7],[27,0,27,1],[27,2,27,3],[27,4,27,5],[27,6,27,7],[30,2,30,3],[30,4,30,5],[30,6,30,7],[37,8,37,9],[36,8,36,9],[37,6,37,7],[36,6,36,7],[35,8,35,9],[35,6,35,7],[10,8,10,9],[11,8,11,9],[12,8,12,9],[31,8,31,9],[29,8,29,9],[32,8,32,9],[30,8,30,9],[26,8,26,9],[23,6,23,7],[23,8,23,9],[24,8,24,9],[20,8,20,9],[18,8,18,9],[13,8,13,9],[33,8,33,9],[34,6,34,7],[34,8,34,9],[33,6,33,7]]}
["Wochenplan für die",null,{"$f":"'Daten Jahr'!A15","v":13},"Woche des Schuljahres",null,null,{"$f":"Stundenplan!C1","v":"2013-2014"},null,{"$f":"Stundenplan!$F$1","v":"3/4"}]
["Mo:",{"$f":"Start!F76","v":"2013-11-25"},"Di:",{"$f":"B2+1","v":"2013-11-26"},"Mi:",{"$f":"D2+1","v":"2013-11-27"},"Do:",{"$f":"F2+1","v":"2013-11-28"},"Fr:",{"$f":"H2+1","v":"2013-11-29"}]
[{"$f":"Stundenplan!$B$4","v":"Probe 1"},null,{"$f":"Stundenplan!$C$4","v":"Probe 11"},null,{"$f":"Stundenplan!$D$4","v":"Probe 21"},null,{"$f":"Stundenplan!$E$4","v":"Probe 31"},null,{"$f":"Stundenplan!$F$4","v":"Probe 41"}]
[]
[]
[]
[{"$f":"Stundenplan!$B$5","v":"Probe 2"},null,{"$f":"Stundenplan!$C$5","v":"Probe 12"},null,{"$f":"Stundenplan!$D$5","v":"Probe 22"},null,{"$f":"Stundenplan!$E$5","v":"Probe 32"},null,{"$f":"Stundenplan!$F$5","v":"Probe 42"}]
[]
[]
[]
[{"$f":"Stundenplan!$B$6","v":"Probe 3"},null,{"$f":"Stundenplan!$C$6","v":"Probe 13"},null,{"$f":"Stundenplan!$D$6","v":"Probe 23"},null,{"$f":"Stundenplan!$E$6","v":"Probe 33"},null,{"$f":"Stundenplan!$F$6","v":"Probe 43"}]
[]
[]
[]
[{"$f":"Stundenplan!$B$7","v":"Probe 4"},null,{"$f":"Stundenplan!$C$7","v":"Probe 14"},null,{"$f":"Stundenplan!$D$7","v":"Probe 24"},null,{"$f":"Stundenplan!$E$7","v":"Probe 34"},null,{"$f":"Stundenplan!$F$7","v":"Probe 44"}]
[]
[]
[]
[{"$f":"Stundenplan!$B$8","v":"Probe 5"},null,{"$f":"Stundenplan!$C$8","v":"Probe 15"},null,{"$f":"Stundenplan!$D$8","v":"Probe 25"},null,{"$f":"Stundenplan!$E$8","v":"Probe 35"},null,{"$f":"Stundenplan!$F$8","v":"Probe 45"}]
[]
[]
[]
[{"$f":"Stundenplan!$B$10","v":"Probe 6"},null,{"$f":"Stundenplan!$C$10","v":"Probe 16"},null,{"$f":"Stundenplan!$D$10","v":"Probe 26"},null,{"$f":"Stundenplan!$E$10","v":"Probe 36"},null,{"$f":"Stundenplan!$F$10","v":"Probe 46"}]
[]
[]
[]
[{"$f":"Stundenplan!$B$11","v":"Probe 7"},null,{"$f":"Stundenplan!$C$11","v":"Probe 17"},null,{"$f":"Stundenplan!$D$11","v":"Probe 27"},null,{"$f":"Stundenplan!$E$11","v":"Probe 37"},null,{"$f":"Stundenplan!$F$11","v":"Probe 47"}]
[]
[]
[]
[{"$f":"Stundenplan!$B$12","v":"Probe 8"},null,{"$f":"Stundenplan!$C$12","v":"Probe 18"},null,{"$f":"Stundenplan!$D$12","v":"Probe 28"},null,{"$f":"Stundenplan!$E$12","v":"Probe 38"},null,{"$f":"Stundenplan!$F$12","v":"Probe 48"}]
[]
[]
[]
[{"$f":"Stundenplan!$B$13","v":"Notizen"},null,{"$f":"Stundenplan!$C$13","v":"Notizen"},null,{"$f":"Stundenplan!$D$13","v":"Notizen"},null,{"$f":"Stundenplan!$E$13","v":"Notizen"},null,{"$f":"Stundenplan!$F$13","v":"Notizen"}]

{"sheet":"Wo 14","index":40,"n_rows":35,"n_cols":10,"rows_kept":35,"cut":false,"hidden":false,"merged":[[35,0,35,1],[35,2,35,3],[35,4,35,5],[35,6,35,7],[33,8,33,9],[34,0,34,1],[34,2,34,3],[34,4,34,5],[34,6,34,7],[34,8,34,9],[33,0,33,1],[33,2,33,3],[33,4,33,5],[33,6,33,7],[35,8,35,9],[32,0,32,1],[32,2,32,3],[32,4,32,5],[31,0,31,1],[31,2,31,3],[31,4,31,5],[31,6,31,7],[31,8,31,9],[30,0,30,1],[30,2,30,3],[30,4,30,5],[32,6,32,7],[30,8,30,9],[29,0,29,1],[29,2,29,3],[29,4,29,5],[29,6,29,7],[27,8,27,9],[28,0,28,1],[28,2,28,3],[28,4,28,5],[28,6,28,7],[29,8,29,9],[28,8,28,9],[25,2,25,3],[25,4,25,5],[25,6,25,7],[24,8,24,9],[24,0,24,1],[24,2,24,3],[24,4,24,5],[24,6,24,7],[27,0,27,1],[27,2,27,3],[27,4,27,5],[27,6,27,7],[25,8,25,9],[26,0,26,1],[26,2,26,3],[26,4,26,5],[26,6,26,7],[25,0,25,1],[26,8,26,9],[23,0,23,1],[23,2,23,3],[23,4,23,5],[23,6,23,7],[23,8,23,9],[22,0,22,1],[22,2,22,3],[22,4,22,5],[22,6,22,7],[22,8,22,9],[2,0,2,1],[2,2,2,3],[2,4,2,5],[2,6,2,7],[2,8,2,9],[13,0,13,1],[13,2,13,3],[13,4,13,5],[13,6,13,7],[6,8,6,9],[7,0,7,1],[7,2,7,3],[7,4,7,5],[7,6,7,7],[7,8,7,9],[9,0,9,1],[9,2,9,3],[9,4,9,5],[9,6,9,7],[13,8,13,9],[8,8,8,9],[8,0,8,1],[8,2,8,3],[8,4,8,5],[36,0,36,1],[37,0,37,1],[37,2,37,3],[36,2,36,3],[37,4,37,5],[36,4,36,5],[37,6,37,7],[36,6,36,7],[15,4,15,5],[19,0,19,1],[19,2,19,3],[19,4,19,5],[19,6,19,7],[18,0,18,1],[18,2,18,3],[18,4,18,5],[18,6,18,7],[21,0,21,1],[21,2,21,3],[21,4,21,5],[21,6,21,7],[20,0,20,1],[20,2,20,3],[20,4,20,5],[3,0,3,1],[3,2,3,3],[3,4,3,5],[3,6,3,7],[16,0,16,1],[16,2,16,3],[16,4,16,5],[16,6,16,7],[15,0,15,1],[15,2,15,3],[5,0,5,1],[5,2,5,3],[5,4,5,5],[5,6,5,7],[4,0,4,1],[4,2,4,3],[4,4,4,5],[4,6,4,7],[6,0,6,1],[6,2,6,3],[6,4,6,5],[6,6,6,7],[14,0,14,1],[14,2,14,3],[17,0,17,1],[17,2,17,3],[17,4,17,5],[17,6,17,7],[10,0,10,1],[11,0,11,1],[12,0,12,1],[12,2,12,3],[11,2,11,3],[14,4,14,5],[14,6,14,7],[10,2,10,3],[10,4,10,5],[11,4,11,5],[0,6,0,7],[0,3,0,5],[10,8,10,9],[11,8,11,9],[15,6,15,7],[5,8,5,9],[3,8,3,9],[4,8,4,9],[0,8,0,9],[14,8,14,9],[8,6,8,7],[9,8,9,9],[12,8,12,9],[12,4,12,5],[10,6,10,7],[11,6,11,7],[12,6,12,7],[20,6,20,7],[30,6,30,7],[32,8,32,9],[21,8,21,9],[37,8,37,9],[36,8,36,9],[15,8,15,9],[16,8,16,9],[17,8,17,9],[19,8,19,9],[18,8,18,9],[20,8,20,9]]}
["Wochenplan für die",null,{"$f":"'Daten Jahr'!A16","v":14},"Woche des Schuljahres",null,null,{"$f":"Stundenplan!C1","v":"2013-2014"},null,{"$f":"Stundenplan!$F$1","v":"3/4"}]
["Mo:",{"$f":"Start!F77","v":"2013-12-02"},"Di:",{"$f":"B2+1","v":"2013-12-03"},"Mi:",{"$f":"D2+1","v":"2013-12-04"},"Do:",{"$f":"F2+1","v":"2013-12-05"},"Fr:",{"$f":"H2+1","v":"2013-12-06"}]
[{"$f":"Stundenplan!$B$4","v":"Probe 1"},null,{"$f":"Stundenplan!$C$4","v":"Probe 11"},null,{"$f":"Stundenplan!$D$4","v":"Probe 21"},null,{"$f":"Stundenplan!$E$4","v":"Probe 31"},null,{"$f":"Stundenplan!$F$4","v":"Probe 41"}]
[]
[]
[]
[{"$f":"Stundenplan!$B$5","v":"Probe 2"},null,{"$f":"Stundenplan!$C$5","v":"Probe 12"},null,{"$f":"Stundenplan!$D$5","v":"Probe 22"},null,{"$f":"Stundenplan!$E$5","v":"Probe 32"},null,{"$f":"Stundenplan!$F$5","v":"Probe 42"}]
[]
[]
[]
[{"$f":"Stundenplan!$B$6","v":"Probe 3"},null,{"$f":"Stundenplan!$C$6","v":"Probe 13"},null,{"$f":"Stundenplan!$D$6","v":"Probe 23"},null,{"$f":"Stundenplan!$E$6","v":"Probe 33"},null,{"$f":"Stundenplan!$F$6","v":"Probe 43"}]
[]
[]
[]
[{"$f":"Stundenplan!$B$7","v":"Probe 4"},null,{"$f":"Stundenplan!$C$7","v":"Probe 14"},null,{"$f":"Stundenplan!$D$7","v":"Probe 24"},null,{"$f":"Stundenplan!$E$7","v":"Probe 34"},null,{"$f":"Stundenplan!$F$7","v":"Probe 44"}]
[]
[]
[]
[{"$f":"Stundenplan!$B$8","v":"Probe 5"},null,{"$f":"Stundenplan!$C$8","v":"Probe 15"},null,{"$f":"Stundenplan!$D$8","v":"Probe 25"},null,{"$f":"Stundenplan!$E$8","v":"Probe 35"},null,{"$f":"Stundenplan!$F$8","v":"Probe 45"}]
[]
[]
[]
[{"$f":"Stundenplan!$B$10","v":"Probe 6"},null,{"$f":"Stundenplan!$C$10","v":"Probe 16"},null,{"$f":"Stundenplan!$D$10","v":"Probe 26"},null,{"$f":"Stundenplan!$E$10","v":"Probe 36"},null,{"$f":"Stundenplan!$F$10","v":"Probe 46"}]
[]
[]
[]
[{"$f":"Stundenplan!$B$11","v":"Probe 7"},null,{"$f":"Stundenplan!$C$11","v":"Probe 17"},null,{"$f":"Stundenplan!$D$11","v":"Probe 27"},null,{"$f":"Stundenplan!$E$11","v":"Probe 37"},null,{"$f":"Stundenplan!$F$11","v":"Probe 47"}]
[]
[]
[]
[{"$f":"Stundenplan!$B$12","v":"Probe 8"},null,{"$f":"Stundenplan!$C$12","v":"Probe 18"},null,{"$f":"Stundenplan!$D$12","v":"Probe 28"},null,{"$f":"Stundenplan!$E$12","v":"Probe 38"},null,{"$f":"Stundenplan!$F$12","v":"Probe 48"}]
[]
[]
[]
[{"$f":"Stundenplan!$B$13","v":"Notizen"},null,{"$f":"Stundenplan!$C$13","v":"Notizen"},null,{"$f":"Stundenplan!$D$13","v":"Notizen"},null,{"$f":"Stundenplan!$E$13","v":"Notizen"},null,{"$f":"Stundenplan!$F$13","v":"Notizen"}]

{"sheet":"Wo 15","index":41,"n_rows":35,"n_cols":10,"rows_kept":35,"cut":false,"hidden":false,"merged":[[0,8,0,9],[2,0,2,1],[2,2,2,3],[2,4,2,5],[2,6,2,7],[2,8,2,9],[0,6,0,7],[0,3,0,5],[3,8,3,9],[4,0,4,1],[4,2,4,3],[4,4,4,5],[4,6,4,7],[4,8,4,9],[3,0,3,1],[3,2,3,3],[3,4,3,5],[3,6,3,7],[5,8,5,9],[6,0,6,1],[6,2,6,3],[6,4,6,5],[6,6,6,7],[8,8,8,9],[8,0,8,1],[8,2,8,3],[8,4,8,5],[8,6,8,7],[5,0,5,1],[5,2,5,3],[5,4,5,5],[5,6,5,7],[6,8,6,9],[7,0,7,1],[7,2,7,3],[7,4,7,5],[7,6,7,7],[7,8,7,9],[9,8,9,9],[14,0,14,1],[14,2,14,3],[14,4,14,5],[14,6,14,7],[14,8,14,9],[9,0,9,1],[9,2,9,3],[9,4,9,5],[9,6,9,7],[12,4,12,5],[10,6,10,7],[11,6,11,7],[12,6,12,7],[18,6,18,7],[17,0,17,1],[17,2,17,3],[17,4,17,5],[17,6,17,7],[17,8,17,9],[13,0,13,1],[13,2,13,3],[13,4,13,5],[13,6,13,7],[15,8,15,9],[16,0,16,1],[16,2,16,3],[16,4,16,5],[16,6,16,7],[16,8,16,9],[15,0,15,1],[15,2,15,3],[15,4,15,5],[15,6,15,7],[20,6,20,7],[21,8,21,9],[21,0,21,1],[21,2,21,3],[21,4,21,5],[21,6,21,7],[19,0,19,1],[19,2,19,3],[19,4,19,5],[19,6,19,7],[19,8,19,9],[28,8,28,9],[22,0,22,1],[22,2,22,3],[22,4,22,5],[22,6,22,7],[26,0,26,1],[26,2,26,3],[26,4,26,5],[26,6,26,7],[24,0,24,1],[24,2,24,3],[24,4,24,5],[24,6,24,7],[22,8,22,9],[23,0,23,1],[23,2,23,3],[23,4,23,5],[25,8,25,9],[27,8,27,9],[25,6,25,7],[28,6,28,7],[37,0,37,1],[37,2,37,3],[36,2,36,3],[37,4,37,5],[36,4,36,5],[35,0,35,1],[35,2,35,3],[35,4,35,5],[10,0,10,1],[11,0,11,1],[12,0,12,1],[12,2,12,3],[11,2,11,3],[10,2,10,3],[31,0,31,1],[31,2,31,3],[31,4,31,5],[30,0,30,1],[32,0,32,1],[32,2,32,3],[32,4,32,5],[29,0,29,1],[29,2,29,3],[29,4,29,5],[36,0,36,1],[34,0,34,1],[34,2,34,3],[34,4,34,5],[33,0,33,1],[33,2,33,3],[33,4,33,5],[10,4,10,5],[11,4,11,5],[25,0,25,1],[25,2,25,3],[25,4,25,5],[20,0,20,1],[20,2,20,3],[20,4,20,5],[18,0,18,1],[18,2,18,3],[18,4,18,5],[28,0,28,1],[28,2,28,3],[28,4,28,5],[31,6,31,7],[32,6,32,7],[29,6,29,7],[27,0,27,1],[27,2,27,3],[27,4,27,5],[27,6,27,7],[30,2,30,3],[30,4,30,5],[30,6,30,7],[37,8,37,9],[36,8,36,9],[37,6,37,7],[36,6,36,7],[35,8,35,9],[35,6,35,7],[10,8,10,9],[11,8,11,9],[12,8,12,9],[31,8,31,9],[29,8,29,9],[32,8,32,9],[30,8,30,9],[26,8,26,9],[23,6,23,7],[23,8,23,9],[24,8,24,9],[20,8,20,9],[18,8,18,9],[13,8,13,9],[33,8,33,9],[34,6,34,7],[34,8,34,9],[33,6,33,7]]}
["Wochenplan für die",null,{"$f":"'Daten Jahr'!A17","v":15},"Woche des Schuljahres",null,null,{"$f":"Stundenplan!C1","v":"2013-2014"},null,{"$f":"Stundenplan!$F$1","v":"3/4"}]
["Mo:",{"$f":"Start!F78","v":"2013-12-09"},"Di:",{"$f":"B2+1","v":"2013-12-10"},"Mi:",{"$f":"D2+1","v":"2013-12-11"},"Do:",{"$f":"F2+1","v":"2013-12-12"},"Fr:",{"$f":"H2+1","v":"2013-12-13"}]
[{"$f":"Stundenplan!$B$4","v":"Probe 1"},null,{"$f":"Stundenplan!$C$4","v":"Probe 11"},null,{"$f":"Stundenplan!$D$4","v":"Probe 21"},null,{"$f":"Stundenplan!$E$4","v":"Probe 31"},null,{"$f":"Stundenplan!$F$4","v":"Probe 41"}]
[]
[]
[]
[{"$f":"Stundenplan!$B$5","v":"Probe 2"},null,{"$f":"Stundenplan!$C$5","v":"Probe 12"},null,{"$f":"Stundenplan!$D$5","v":"Probe 22"},null,{"$f":"Stundenplan!$E$5","v":"Probe 32"},null,{"$f":"Stundenplan!$F$5","v":"Probe 42"}]
[]
[]
[]
[{"$f":"Stundenplan!$B$6","v":"Probe 3"},null,{"$f":"Stundenplan!$C$6","v":"Probe 13"},null,{"$f":"Stundenplan!$D$6","v":"Probe 23"},null,{"$f":"Stundenplan!$E$6","v":"Probe 33"},null,{"$f":"Stundenplan!$F$6","v":"Probe 43"}]
[]
[]
[]
[{"$f":"Stundenplan!$B$7","v":"Probe 4"},null,{"$f":"Stundenplan!$C$7","v":"Probe 14"},null,{"$f":"Stundenplan!$D$7","v":"Probe 24"},null,{"$f":"Stundenplan!$E$7","v":"Probe 34"},null,{"$f":"Stundenplan!$F$7","v":"Probe 44"}]
[]
[]
[]
[{"$f":"Stundenplan!$B$8","v":"Probe 5"},null,{"$f":"Stundenplan!$C$8","v":"Probe 15"},null,{"$f":"Stundenplan!$D$8","v":"Probe 25"},null,{"$f":"Stundenplan!$E$8","v":"Probe 35"},null,{"$f":"Stundenplan!$F$8","v":"Probe 45"}]
[]
[]
[]
[{"$f":"Stundenplan!$B$10","v":"Probe 6"},null,{"$f":"Stundenplan!$C$10","v":"Probe 16"},null,{"$f":"Stundenplan!$D$10","v":"Probe 26"},null,{"$f":"Stundenplan!$E$10","v":"Probe 36"},null,{"$f":"Stundenplan!$F$10","v":"Probe 46"}]
[]
[]
[]
[{"$f":"Stundenplan!$B$11","v":"Probe 7"},null,{"$f":"Stundenplan!$C$11","v":"Probe 17"},null,{"$f":"Stundenplan!$D$11","v":"Probe 27"},null,{"$f":"Stundenplan!$E$11","v":"Probe 37"},null,{"$f":"Stundenplan!$F$11","v":"Probe 47"}]
[]
[]
[]
[{"$f":"Stundenplan!$B$12","v":"Probe 8"},null,{"$f":"Stundenplan!$C$12","v":"Probe 18"},null,{"$f":"Stundenplan!$D$12","v":"Probe 28"},null,{"$f":"Stundenplan!$E$12","v":"Probe 38"},null,{"$f":"Stundenplan!$F$12","v":"Probe 48"}]
[]
[]
[]
[{"$f":"Stundenplan!$B$13","v":"Notizen"},null,{"$f":"Stundenplan!$C$13","v":"Notizen"},null,{"$f":"Stundenplan!$D$13","v":"Notizen"},null,{"$f":"Stundenplan!$E$13","v":"Notizen"},null,{"$f":"Stundenplan!$F$13","v":"Notizen"}]

{"sheet":"Wo 16","index":42,"n_rows":35,"n_cols":10,"rows_kept":35,"cut":false,"hidden":false,"merged":[[35,0,35,1],[35,2,35,3],[35,4,35,5],[35,6,35,7],[33,8,33,9],[34,0,34,1],[34,2,34,3],[34,4,34,5],[34,6,34,7],[34,8,34,9],[33,0,33,1],[33,2,33,3],[33,4,33,5],[33,6,33,7],[35,8,35,9],[32,0,32,1],[32,2,32,3],[32,4,32,5],[31,0,31,1],[31,2,31,3],[31,4,31,5],[31,6,31,7],[31,8,31,9],[30,0,30,1],[30,2,30,3],[30,4,30,5],[32,6,32,7],[30,8,30,9],[29,0,29,1],[29,2,29,3],[29,4,29,5],[29,6,29,7],[27,8,27,9],[28,0,28,1],[28,2,28,3],[28,4,28,5],[28,6,28,7],[29,8,29,9],[28,8,28,9],[25,2,25,3],[25,4,25,5],[25,6,25,7],[24,8,24,9],[24,0,24,1],[24,2,24,3],[24,4,24,5],[24,6,24,7],[27,0,27,1],[27,2,27,3],[27,4,27,5],[27,6,27,7],[25,8,25,9],[26,0,26,1],[26,2,26,3],[26,4,26,5],[26,6,26,7],[25,0,25,1],[26,8,26,9],[23,0,23,1],[23,2,23,3],[23,4,23,5],[23,6,23,7],[23,8,23,9],[22,0,22,1],[22,2,22,3],[22,4,22,5],[22,6,22,7],[22,8,22,9],[2,0,2,1],[2,2,2,3],[2,4,2,5],[2,6,2,7],[2,8,2,9],[13,0,13,1],[13,2,13,3],[13,4,13,5],[13,6,13,7],[6,8,6,9],[7,0,7,1],[7,2,7,3],[7,4,7,5],[7,6,7,7],[7,8,7,9],[9,0,9,1],[9,2,9,3],[9,4,9,5],[9,6,9,7],[13,8,13,9],[8,8,8,9],[8,0,8,1],[8,2,8,3],[8,4,8,5],[36,0,36,1],[37,0,37,1],[37,2,37,3],[36,2,36,3],[37,4,37,5],[36,4,36,5],[37,6,37,7],[36,6,36,7],[15,4,15,5],[19,0,19,1],[19,2,19,3],[19,4,19,5],[19,6,19,7],[18,0,18,1],[18,2,18,3],[18,4,18,5],[18,6,18,7],[21,0,21,1],[21,2,21,3],[21,4,21,5],[21,6,21,7],[20,0,20,1],[20,2,20,3],[20,4,20,5],[3,0,3,1],[3,2,3,3],[3,4,3,5],[3,6,3,7],[16,0,16,1],[16,2,16,3],[16,4,16,5],[16,6,16,7],[15,0,15,1],[15,2,15,3],[5,0,5,1],[5,2,5,3],[5,4,5,5],[5,6,5,7],[4,0,4,1],[4,2,4,3],[4,4,4,5],[4,6,4,7],[6,0,6,1],[6,2,6,3],[6,4,6,5],[6,6,6,7],[14,0,14,1],[14,2,14,3],[17,0,17,1],[17,2,17,3],[17,4,17,5],[17,6,17,7],[10,0,10,1],[11,0,11,1],[12,0,12,1],[12,2,12,3],[11,2,11,3],[14,4,14,5],[14,6,14,7],[10,2,10,3],[10,4,10,5],[11,4,11,5],[0,6,0,7],[0,3,0,5],[10,8,10,9],[11,8,11,9],[15,6,15,7],[5,8,5,9],[3,8,3,9],[4,8,4,9],[0,8,0,9],[14,8,14,9],[8,6,8,7],[9,8,9,9],[12,8,12,9],[12,4,12,5],[10,6,10,7],[11,6,11,7],[12,6,12,7],[20,6,20,7],[30,6,30,7],[32,8,32,9],[21,8,21,9],[37,8,37,9],[36,8,36,9],[15,8,15,9],[16,8,16,9],[17,8,17,9],[19,8,19,9],[18,8,18,9],[20,8,20,9]]}
["Wochenplan für die",null,{"$f":"'Daten Jahr'!A18","v":16},"Woche des Schuljahres",null,null,{"$f":"Stundenplan!C1","v":"2013-2014"},null,{"$f":"Stundenplan!$F$1","v":"3/4"}]
["Mo:",{"$f":"Start!F79","v":"2013-12-16"},"Di:",{"$f":"B2+1","v":"2013-12-17"},"Mi:",{"$f":"D2+1","v":"2013-12-18"},"Do:",{"$f":"F2+1","v":"2013-12-19"},"Fr:",{"$f":"H2+1","v":"2013-12-20"}]
[{"$f":"Stundenplan!$B$4","v":"Probe 1"},null,{"$f":"Stundenplan!$C$4","v":"Probe 11"},null,{"$f":"Stundenplan!$D$4","v":"Probe 21"},null,{"$f":"Stundenplan!$E$4","v":"Probe 31"},null,{"$f":"Stundenplan!$F$4","v":"Probe 41"}]
[]
[]
[]
[{"$f":"Stundenplan!$B$5","v":"Probe 2"},null,{"$f":"Stundenplan!$C$5","v":"Probe 12"},null,{"$f":"Stundenplan!$D$5","v":"Probe 22"},null,{"$f":"Stundenplan!$E$5","v":"Probe 32"},null,{"$f":"Stundenplan!$F$5","v":"Probe 42"}]
[]
[]
[]
[{"$f":"Stundenplan!$B$6","v":"Probe 3"},null,{"$f":"Stundenplan!$C$6","v":"Probe 13"},null,{"$f":"Stundenplan!$D$6","v":"Probe 23"},null,{"$f":"Stundenplan!$E$6","v":"Probe 33"},null,{"$f":"Stundenplan!$F$6","v":"Probe 43"}]
[]
[]
[]
[{"$f":"Stundenplan!$B$7","v":"Probe 4"},null,{"$f":"Stundenplan!$C$7","v":"Probe 14"},null,{"$f":"Stundenplan!$D$7","v":"Probe 24"},null,{"$f":"Stundenplan!$E$7","v":"Probe 34"},null,{"$f":"Stundenplan!$F$7","v":"Probe 44"}]
[]
[]
[]
[{"$f":"Stundenplan!$B$8","v":"Probe 5"},null,{"$f":"Stundenplan!$C$8","v":"Probe 15"},null,{"$f":"Stundenplan!$D$8","v":"Probe 25"},null,{"$f":"Stundenplan!$E$8","v":"Probe 35"},null,{"$f":"Stundenplan!$F$8","v":"Probe 45"}]
[]
[]
[]
[{"$f":"Stundenplan!$B$10","v":"Probe 6"},null,{"$f":"Stundenplan!$C$10","v":"Probe 16"},null,{"$f":"Stundenplan!$D$10","v":"Probe 26"},null,{"$f":"Stundenplan!$E$10","v":"Probe 36"},null,{"$f":"Stundenplan!$F$10","v":"Probe 46"}]
[]
[]
[]
[{"$f":"Stundenplan!$B$11","v":"Probe 7"},null,{"$f":"Stundenplan!$C$11","v":"Probe 17"},null,{"$f":"Stundenplan!$D$11","v":"Probe 27"},null,{"$f":"Stundenplan!$E$11","v":"Probe 37"},null,{"$f":"Stundenplan!$F$11","v":"Probe 47"}]
[]
[]
[]
[{"$f":"Stundenplan!$B$12","v":"Probe 8"},null,{"$f":"Stundenplan!$C$12","v":"Probe 18"},null,{"$f":"Stundenplan!$D$12","v":"Probe 28"},null,{"$f":"Stundenplan!$E$12","v":"Probe 38"},null,{"$f":"Stundenplan!$F$12","v":"Probe 48"}]
[]
[]
[]
[{"$f":"Stundenplan!$B$13","v":"Notizen"},null,{"$f":"Stundenplan!$C$13","v":"Notizen"},null,{"$f":"Stundenplan!$D$13","v":"Notizen"},null,{"$f":"Stundenplan!$E$13","v":"Notizen"},null,{"$f":"Stundenplan!$F$13","v":"Notizen"}]

{"sheet":"Wo 17","index":43,"n_rows":35,"n_cols":10,"rows_kept":35,"cut":false,"hidden":false,"merged":[[0,8,0,9],[2,0,2,1],[2,2,2,3],[2,4,2,5],[2,6,2,7],[2,8,2,9],[0,6,0,7],[0,3,0,5],[3,8,3,9],[4,0,4,1],[4,2,4,3],[4,4,4,5],[4,6,4,7],[4,8,4,9],[3,0,3,1],[3,2,3,3],[3,4,3,5],[3,6,3,7],[5,8,5,9],[6,0,6,1],[6,2,6,3],[6,4,6,5],[6,6,6,7],[8,8,8,9],[8,0,8,1],[8,2,8,3],[8,4,8,5],[8,6,8,7],[5,0,5,1],[5,2,5,3],[5,4,5,5],[5,6,5,7],[6,8,6,9],[7,0,7,1],[7,2,7,3],[7,4,7,5],[7,6,7,7],[7,8,7,9],[9,8,9,9],[14,0,14,1],[14,2,14,3],[14,4,14,5],[14,6,14,7],[14,8,14,9],[9,0,9,1],[9,2,9,3],[9,4,9,5],[9,6,9,7],[12,4,12,5],[10,6,10,7],[11,6,11,7],[12,6,12,7],[18,6,18,7],[17,0,17,1],[17,2,17,3],[17,4,17,5],[17,6,17,7],[17,8,17,9],[13,0,13,1],[13,2,13,3],[13,4,13,5],[13,6,13,7],[15,8,15,9],[16,0,16,1],[16,2,16,3],[16,4,16,5],[16,6,16,7],[16,8,16,9],[15,0,15,1],[15,2,15,3],[15,4,15,5],[15,6,15,7],[20,6,20,7],[21,8,21,9],[21,0,21,1],[21,2,21,3],[21,4,21,5],[21,6,21,7],[19,0,19,1],[19,2,19,3],[19,4,19,5],[19,6,19,7],[19,8,19,9],[28,8,28,9],[22,0,22,1],[22,2,22,3],[22,4,22,5],[22,6,22,7],[26,0,26,1],[26,2,26,3],[26,4,26,5],[26,6,26,7],[24,0,24,1],[24,2,24,3],[24,4,24,5],[24,6,24,7],[22,8,22,9],[23,0,23,1],[23,2,23,3],[23,4,23,5],[25,8,25,9],[27,8,27,9],[25,6,25,7],[28,6,28,7],[37,0,37,1],[37,2,37,3],[36,2,36,3],[37,4,37,5],[36,4,36,5],[35,0,35,1],[35,2,35,3],[35,4,35,5],[10,0,10,1],[11,0,11,1],[12,0,12,1],[12,2,12,3],[11,2,11,3],[10,2,10,3],[31,0,31,1],[31,2,31,3],[31,4,31,5],[30,0,30,1],[32,0,32,1],[32,2,32,3],[32,4,32,5],[29,0,29,1],[29,2,29,3],[29,4,29,5],[36,0,36,1],[34,0,34,1],[34,2,34,3],[34,4,34,5],[33,0,33,1],[33,2,33,3],[33,4,33,5],[10,4,10,5],[11,4,11,5],[25,0,25,1],[25,2,25,3],[25,4,25,5],[20,0,20,1],[20,2,20,3],[20,4,20,5],[18,0,18,1],[18,2,18,3],[18,4,18,5],[28,0,28,1],[28,2,28,3],[28,4,28,5],[31,6,31,7],[32,6,32,7],[29,6,29,7],[27,0,27,1],[27,2,27,3],[27,4,27,5],[27,6,27,7],[30,2,30,3],[30,4,30,5],[30,6,30,7],[37,8,37,9],[36,8,36,9],[37,6,37,7],[36,6,36,7],[35,8,35,9],[35,6,35,7],[10,8,10,9],[11,8,11,9],[12,8,12,9],[31,8,31,9],[29,8,29,9],[32,8,32,9],[30,8,30,9],[26,8,26,9],[23,6,23,7],[23,8,23,9],[24,8,24,9],[20,8,20,9],[18,8,18,9],[13,8,13,9],[33,8,33,9],[34,6,34,7],[34,8,34,9],[33,6,33,7]]}
["Wochenplan für die",null,{"$f":"'Daten Jahr'!A19","v":17},"Woche des Schuljahres",null,null,{"$f":"Stundenplan!C1","v":"2013-2014"},null,{"$f":"Stundenplan!$F$1","v":"3/4"}]
["Mo:",{"$f":"Start!F82","v":"2014-01-06"},"Di:",{"$f":"B2+1","v":"2014-01-07"},"Mi:",{"$f":"D2+1","v":"2014-01-08"},"Do:",{"$f":"F2+1","v":"2014-01-09"},"Fr:",{"$f":"H2+1","v":"2014-01-10"}]
[{"$f":"Stundenplan!$B$4","v":"Probe 1"},null,{"$f":"Stundenplan!$C$4","v":"Probe 11"},null,{"$f":"Stundenplan!$D$4","v":"Probe 21"},null,{"$f":"Stundenplan!$E$4","v":"Probe 31"},null,{"$f":"Stundenplan!$F$4","v":"Probe 41"}]
[]
[]
[]
[{"$f":"Stundenplan!$B$5","v":"Probe 2"},null,{"$f":"Stundenplan!$C$5","v":"Probe 12"},null,{"$f":"Stundenplan!$D$5","v":"Probe 22"},null,{"$f":"Stundenplan!$E$5","v":"Probe 32"},null,{"$f":"Stundenplan!$F$5","v":"Probe 42"}]
[]
[]
[]
[{"$f":"Stundenplan!$B$6","v":"Probe 3"},null,{"$f":"Stundenplan!$C$6","v":"Probe 13"},null,{"$f":"Stundenplan!$D$6","v":"Probe 23"},null,{"$f":"Stundenplan!$E$6","v":"Probe 33"},null,{"$f":"Stundenplan!$F$6","v":"Probe 43"}]
[]
[]
[]
[{"$f":"Stundenplan!$B$7","v":"Probe 4"},null,{"$f":"Stundenplan!$C$7","v":"Probe 14"},null,{"$f":"Stundenplan!$D$7","v":"Probe 24"},null,{"$f":"Stundenplan!$E$7","v":"Probe 34"},null,{"$f":"Stundenplan!$F$7","v":"Probe 44"}]
[]
[]
[]
[{"$f":"Stundenplan!$B$8","v":"Probe 5"},null,{"$f":"Stundenplan!$C$8","v":"Probe 15"},null,{"$f":"Stundenplan!$D$8","v":"Probe 25"},null,{"$f":"Stundenplan!$E$8","v":"Probe 35"},null,{"$f":"Stundenplan!$F$8","v":"Probe 45"}]
[]
[]
[]
[{"$f":"Stundenplan!$B$10","v":"Probe 6"},null,{"$f":"Stundenplan!$C$10","v":"Probe 16"},null,{"$f":"Stundenplan!$D$10","v":"Probe 26"},null,{"$f":"Stundenplan!$E$10","v":"Probe 36"},null,{"$f":"Stundenplan!$F$10","v":"Probe 46"}]
[]
[]
[]
[{"$f":"Stundenplan!$B$11","v":"Probe 7"},null,{"$f":"Stundenplan!$C$11","v":"Probe 17"},null,{"$f":"Stundenplan!$D$11","v":"Probe 27"},null,{"$f":"Stundenplan!$E$11","v":"Probe 37"},null,{"$f":"Stundenplan!$F$11","v":"Probe 47"}]
[]
[]
[]
[{"$f":"Stundenplan!$B$12","v":"Probe 8"},null,{"$f":"Stundenplan!$C$12","v":"Probe 18"},null,{"$f":"Stundenplan!$D$12","v":"Probe 28"},null,{"$f":"Stundenplan!$E$12","v":"Probe 38"},null,{"$f":"Stundenplan!$F$12","v":"Probe 48"}]
[]
[]
[]
[{"$f":"Stundenplan!$B$13","v":"Notizen"},null,{"$f":"Stundenplan!$C$13","v":"Notizen"},null,{"$f":"Stundenplan!$D$13","v":"Notizen"},null,{"$f":"Stundenplan!$E$13","v":"Notizen"},null,{"$f":"Stundenplan!$F$13","v":"Notizen"}]

{"sheet":"Wo 18","index":44,"n_rows":35,"n_cols":10,"rows_kept":35,"cut":false,"hidden":false,"merged":[[35,0,35,1],[35,2,35,3],[35,4,35,5],[35,6,35,7],[33,8,33,9],[34,0,34,1],[34,2,34,3],[34,4,34,5],[34,6,34,7],[34,8,34,9],[33,0,33,1],[33,2,33,3],[33,4,33,5],[33,6,33,7],[35,8,35,9],[32,0,32,1],[32,2,32,3],[32,4,32,5],[31,0,31,1],[31,2,31,3],[31,4,31,5],[31,6,31,7],[31,8,31,9],[30,0,30,1],[30,2,30,3],[30,4,30,5],[32,6,32,7],[30,8,30,9],[29,0,29,1],[29,2,29,3],[29,4,29,5],[29,6,29,7],[27,8,27,9],[28,0,28,1],[28,2,28,3],[28,4,28,5],[28,6,28,7],[29,8,29,9],[28,8,28,9],[25,2,25,3],[25,4,25,5],[25,6,25,7],[24,8,24,9],[24,0,24,1],[24,2,24,3],[24,4,24,5],[24,6,24,7],[27,0,27,1],[27,2,27,3],[27,4,27,5],[27,6,27,7],[25,8,25,9],[26,0,26,1],[26,2,26,3],[26,4,26,5],[26,6,26,7],[25,0,25,1],[26,8,26,9],[23,0,23,1],[23,2,23,3],[23,4,23,5],[23,6,23,7],[23,8,23,9],[22,0,22,1],[22,2,22,3],[22,4,22,5],[22,6,22,7],[22,8,22,9],[2,0,2,1],[2,2,2,3],[2,4,2,5],[2,6,2,7],[2,8,2,9],[13,0,13,1],[13,2,13,3],[13,4,13,5],[13,6,13,7],[6,8,6,9],[7,0,7,1],[7,2,7,3],[7,4,7,5],[7,6,7,7],[7,8,7,9],[9,0,9,1],[9,2,9,3],[9,4,9,5],[9,6,9,7],[13,8,13,9],[8,8,8,9],[8,0,8,1],[8,2,8,3],[8,4,8,5],[36,0,36,1],[37,0,37,1],[37,2,37,3],[36,2,36,3],[37,4,37,5],[36,4,36,5],[37,6,37,7],[36,6,36,7],[15,4,15,5],[19,0,19,1],[19,2,19,3],[19,4,19,5],[19,6,19,7],[18,0,18,1],[18,2,18,3],[18,4,18,5],[18,6,18,7],[21,0,21,1],[21,2,21,3],[21,4,21,5],[21,6,21,7],[20,0,20,1],[20,2,20,3],[20,4,20,5],[3,0,3,1],[3,2,3,3],[3,4,3,5],[3,6,3,7],[16,0,16,1],[16,2,16,3],[16,4,16,5],[16,6,16,7],[15,0,15,1],[15,2,15,3],[5,0,5,1],[5,2,5,3],[5,4,5,5],[5,6,5,7],[4,0,4,1],[4,2,4,3],[4,4,4,5],[4,6,4,7],[6,0,6,1],[6,2,6,3],[6,4,6,5],[6,6,6,7],[14,0,14,1],[14,2,14,3],[17,0,17,1],[17,2,17,3],[17,4,17,5],[17,6,17,7],[10,0,10,1],[11,0,11,1],[12,0,12,1],[12,2,12,3],[11,2,11,3],[14,4,14,5],[14,6,14,7],[10,2,10,3],[10,4,10,5],[11,4,11,5],[0,6,0,7],[0,3,0,5],[10,8,10,9],[11,8,11,9],[15,6,15,7],[5,8,5,9],[3,8,3,9],[4,8,4,9],[0,8,0,9],[14,8,14,9],[8,6,8,7],[9,8,9,9],[12,8,12,9],[12,4,12,5],[10,6,10,7],[11,6,11,7],[12,6,12,7],[20,6,20,7],[30,6,30,7],[32,8,32,9],[21,8,21,9],[37,8,37,9],[36,8,36,9],[15,8,15,9],[16,8,16,9],[17,8,17,9],[19,8,19,9],[18,8,18,9],[20,8,20,9]]}
["Wochenplan für die",null,{"$f":"'Daten Jahr'!A20","v":18},"Woche des Schuljahres",null,null,{"$f":"Stundenplan!C1","v":"2013-2014"},null,{"$f":"Stundenplan!$F$1","v":"3/4"}]
["Mo:",{"$f":"Start!F83","v":"2014-01-13"},"Di:",{"$f":"B2+1","v":"2014-01-14"},"Mi:",{"$f":"D2+1","v":"2014-01-15"},"Do:",{"$f":"F2+1","v":"2014-01-16"},"Fr:",{"$f":"H2+1","v":"2014-01-17"}]
[{"$f":"Stundenplan!$B$4","v":"Probe 1"},null,{"$f":"Stundenplan!$C$4","v":"Probe 11"},null,{"$f":"Stundenplan!$D$4","v":"Probe 21"},null,{"$f":"Stundenplan!$E$4","v":"Probe 31"},null,{"$f":"Stundenplan!$F$4","v":"Probe 41"}]
[]
[]
[]
[{"$f":"Stundenplan!$B$5","v":"Probe 2"},null,{"$f":"Stundenplan!$C$5","v":"Probe 12"},null,{"$f":"Stundenplan!$D$5","v":"Probe 22"},null,{"$f":"Stundenplan!$E$5","v":"Probe 32"},null,{"$f":"Stundenplan!$F$5","v":"Probe 42"}]
[]
[]
[]
[{"$f":"Stundenplan!$B$6","v":"Probe 3"},null,{"$f":"Stundenplan!$C$6","v":"Probe 13"},null,{"$f":"Stundenplan!$D$6","v":"Probe 23"},null,{"$f":"Stundenplan!$E$6","v":"Probe 33"},null,{"$f":"Stundenplan!$F$6","v":"Probe 43"}]
[]
[]
[]
[{"$f":"Stundenplan!$B$7","v":"Probe 4"},null,{"$f":"Stundenplan!$C$7","v":"Probe 14"},null,{"$f":"Stundenplan!$D$7","v":"Probe 24"},null,{"$f":"Stundenplan!$E$7","v":"Probe 34"},null,{"$f":"Stundenplan!$F$7","v":"Probe 44"}]
[]
[]
[]
[{"$f":"Stundenplan!$B$8","v":"Probe 5"},null,{"$f":"Stundenplan!$C$8","v":"Probe 15"},null,{"$f":"Stundenplan!$D$8","v":"Probe 25"},null,{"$f":"Stundenplan!$E$8","v":"Probe 35"},null,{"$f":"Stundenplan!$F$8","v":"Probe 45"}]
[]
[]
[]
[{"$f":"Stundenplan!$B$10","v":"Probe 6"},null,{"$f":"Stundenplan!$C$10","v":"Probe 16"},null,{"$f":"Stundenplan!$D$10","v":"Probe 26"},null,{"$f":"Stundenplan!$E$10","v":"Probe 36"},null,{"$f":"Stundenplan!$F$10","v":"Probe 46"}]
[]
[]
[]
[{"$f":"Stundenplan!$B$11","v":"Probe 7"},null,{"$f":"Stundenplan!$C$11","v":"Probe 17"},null,{"$f":"Stundenplan!$D$11","v":"Probe 27"},null,{"$f":"Stundenplan!$E$11","v":"Probe 37"},null,{"$f":"Stundenplan!$F$11","v":"Probe 47"}]
[]
[]
[]
[{"$f":"Stundenplan!$B$12","v":"Probe 8"},null,{"$f":"Stundenplan!$C$12","v":"Probe 18"},null,{"$f":"Stundenplan!$D$12","v":"Probe 28"},null,{"$f":"Stundenplan!$E$12","v":"Probe 38"},null,{"$f":"Stundenplan!$F$12","v":"Probe 48"}]
[]
[]
[]
[{"$f":"Stundenplan!$B$13","v":"Notizen"},null,{"$f":"Stundenplan!$C$13","v":"Notizen"},null,{"$f":"Stundenplan!$D$13","v":"Notizen"},null,{"$f":"Stundenplan!$E$13","v":"Notizen"},null,{"$f":"Stundenplan!$F$13","v":"Notizen"}]

{"sheet":"Wo 19","index":45,"n_rows":35,"n_cols":10,"rows_kept":35,"cut":false,"hidden":false,"merged":[[0,8,0,9],[2,0,2,1],[2,2,2,3],[2,4,2,5],[2,6,2,7],[2,8,2,9],[0,6,0,7],[0,3,0,5],[3,8,3,9],[4,0,4,1],[4,2,4,3],[4,4,4,5],[4,6,4,7],[4,8,4,9],[3,0,3,1],[3,2,3,3],[3,4,3,5],[3,6,3,7],[5,8,5,9],[6,0,6,1],[6,2,6,3],[6,4,6,5],[6,6,6,7],[8,8,8,9],[8,0,8,1],[8,2,8,3],[8,4,8,5],[8,6,8,7],[5,0,5,1],[5,2,5,3],[5,4,5,5],[5,6,5,7],[6,8,6,9],[7,0,7,1],[7,2,7,3],[7,4,7,5],[7,6,7,7],[7,8,7,9],[9,8,9,9],[14,0,14,1],[14,2,14,3],[14,4,14,5],[14,6,14,7],[14,8,14,9],[9,0,9,1],[9,2,9,3],[9,4,9,5],[9,6,9,7],[12,4,12,5],[10,6,10,7],[11,6,11,7],[12,6,12,7],[18,6,18,7],[17,0,17,1],[17,2,17,3],[17,4,17,5],[17,6,17,7],[17,8,17,9],[13,0,13,1],[13,2,13,3],[13,4,13,5],[13,6,13,7],[15,8,15,9],[16,0,16,1],[16,2,16,3],[16,4,16,5],[16,6,16,7],[16,8,16,9],[15,0,15,1],[15,2,15,3],[15,4,15,5],[15,6,15,7],[20,6,20,7],[21,8,21,9],[21,0,21,1],[21,2,21,3],[21,4,21,5],[21,6,21,7],[19,0,19,1],[19,2,19,3],[19,4,19,5],[19,6,19,7],[19,8,19,9],[28,8,28,9],[22,0,22,1],[22,2,22,3],[22,4,22,5],[22,6,22,7],[26,0,26,1],[26,2,26,3],[26,4,26,5],[26,6,26,7],[24,0,24,1],[24,2,24,3],[24,4,24,5],[24,6,24,7],[22,8,22,9],[23,0,23,1],[23,2,23,3],[23,4,23,5],[25,8,25,9],[27,8,27,9],[25,6,25,7],[28,6,28,7],[37,0,37,1],[37,2,37,3],[36,2,36,3],[37,4,37,5],[36,4,36,5],[35,0,35,1],[35,2,35,3],[35,4,35,5],[10,0,10,1],[11,0,11,1],[12,0,12,1],[12,2,12,3],[11,2,11,3],[10,2,10,3],[31,0,31,1],[31,2,31,3],[31,4,31,5],[30,0,30,1],[32,0,32,1],[32,2,32,3],[32,4,32,5],[29,0,29,1],[29,2,29,3],[29,4,29,5],[36,0,36,1],[34,0,34,1],[34,2,34,3],[34,4,34,5],[33,0,33,1],[33,2,33,3],[33,4,33,5],[10,4,10,5],[11,4,11,5],[25,0,25,1],[25,2,25,3],[25,4,25,5],[20,0,20,1],[20,2,20,3],[20,4,20,5],[18,0,18,1],[18,2,18,3],[18,4,18,5],[28,0,28,1],[28,2,28,3],[28,4,28,5],[31,6,31,7],[32,6,32,7],[29,6,29,7],[27,0,27,1],[27,2,27,3],[27,4,27,5],[27,6,27,7],[30,2,30,3],[30,4,30,5],[30,6,30,7],[37,8,37,9],[36,8,36,9],[37,6,37,7],[36,6,36,7],[35,8,35,9],[35,6,35,7],[10,8,10,9],[11,8,11,9],[12,8,12,9],[31,8,31,9],[29,8,29,9],[32,8,32,9],[30,8,30,9],[26,8,26,9],[23,6,23,7],[23,8,23,9],[24,8,24,9],[20,8,20,9],[18,8,18,9],[13,8,13,9],[33,8,33,9],[34,6,34,7],[34,8,34,9],[33,6,33,7]]}
["Wochenplan für die",null,{"$f":"'Daten Jahr'!A21","v":19},"Woche des Schuljahres",null,null,{"$f":"Stundenplan!C1","v":"2013-2014"},null,{"$f":"Stundenplan!$F$1","v":"3/4"}]
["Mo:",{"$f":"Start!F84","v":"2014-01-20"},"Di:",{"$f":"B2+1","v":"2014-01-21"},"Mi:",{"$f":"D2+1","v":"2014-01-22"},"Do:",{"$f":"F2+1","v":"2014-01-23"},"Fr:",{"$f":"H2+1","v":"2014-01-24"}]
[{"$f":"Stundenplan!$B$4","v":"Probe 1"},null,{"$f":"Stundenplan!$C$4","v":"Probe 11"},null,{"$f":"Stundenplan!$D$4","v":"Probe 21"},null,{"$f":"Stundenplan!$E$4","v":"Probe 31"},null,{"$f":"Stundenplan!$F$4","v":"Probe 41"}]
[]
[]
[]
[{"$f":"Stundenplan!$B$5","v":"Probe 2"},null,{"$f":"Stundenplan!$C$5","v":"Probe 12"},null,{"$f":"Stundenplan!$D$5","v":"Probe 22"},null,{"$f":"Stundenplan!$E$5","v":"Probe 32"},null,{"$f":"Stundenplan!$F$5","v":"Probe 42"}]
[]
[]
[]
[{"$f":"Stundenplan!$B$6","v":"Probe 3"},null,{"$f":"Stundenplan!$C$6","v":"Probe 13"},null,{"$f":"Stundenplan!$D$6","v":"Probe 23"},null,{"$f":"Stundenplan!$E$6","v":"Probe 33"},null,{"$f":"Stundenplan!$F$6","v":"Probe 43"}]
[]
[]
[]
[{"$f":"Stundenplan!$B$7","v":"Probe 4"},null,{"$f":"Stundenplan!$C$7","v":"Probe 14"},null,{"$f":"Stundenplan!$D$7","v":"Probe 24"},null,{"$f":"Stundenplan!$E$7","v":"Probe 34"},null,{"$f":"Stundenplan!$F$7","v":"Probe 44"}]
[]
[]
[]
[{"$f":"Stundenplan!$B$8","v":"Probe 5"},null,{"$f":"Stundenplan!$C$8","v":"Probe 15"},null,{"$f":"Stundenplan!$D$8","v":"Probe 25"},null,{"$f":"Stundenplan!$E$8","v":"Probe 35"},null,{"$f":"Stundenplan!$F$8","v":"Probe 45"}]
[]
[]
[]
[{"$f":"Stundenplan!$B$10","v":"Probe 6"},null,{"$f":"Stundenplan!$C$10","v":"Probe 16"},null,{"$f":"Stundenplan!$D$10","v":"Probe 26"},null,{"$f":"Stundenplan!$E$10","v":"Probe 36"},null,{"$f":"Stundenplan!$F$10","v":"Probe 46"}]
[]
[]
[]
[{"$f":"Stundenplan!$B$11","v":"Probe 7"},null,{"$f":"Stundenplan!$C$11","v":"Probe 17"},null,{"$f":"Stundenplan!$D$11","v":"Probe 27"},null,{"$f":"Stundenplan!$E$11","v":"Probe 37"},null,{"$f":"Stundenplan!$F$11","v":"Probe 47"}]
[]
[]
[]
[{"$f":"Stundenplan!$B$12","v":"Probe 8"},null,{"$f":"Stundenplan!$C$12","v":"Probe 18"},null,{"$f":"Stundenplan!$D$12","v":"Probe 28"},null,{"$f":"Stundenplan!$E$12","v":"Probe 38"},null,{"$f":"Stundenplan!$F$12","v":"Probe 48"}]
[]
[]
[]
[{"$f":"Stundenplan!$B$13","v":"Notizen"},null,{"$f":"Stundenplan!$C$13","v":"Notizen"},null,{"$f":"Stundenplan!$D$13","v":"Notizen"},null,{"$f":"Stundenplan!$E$13","v":"Notizen"},null,{"$f":"Stundenplan!$F$13","v":"Notizen"}]

{"sheet":"Wo 20","index":46,"n_rows":35,"n_cols":10,"rows_kept":35,"cut":false,"hidden":false,"merged":[[35,0,35,1],[35,2,35,3],[35,4,35,5],[35,6,35,7],[33,8,33,9],[34,0,34,1],[34,2,34,3],[34,4,34,5],[34,6,34,7],[34,8,34,9],[33,0,33,1],[33,2,33,3],[33,4,33,5],[33,6,33,7],[35,8,35,9],[32,0,32,1],[32,2,32,3],[32,4,32,5],[31,0,31,1],[31,2,31,3],[31,4,31,5],[31,6,31,7],[31,8,31,9],[30,0,30,1],[30,2,30,3],[30,4,30,5],[32,6,32,7],[30,8,30,9],[29,0,29,1],[29,2,29,3],[29,4,29,5],[29,6,29,7],[27,8,27,9],[28,0,28,1],[28,2,28,3],[28,4,28,5],[28,6,28,7],[29,8,29,9],[28,8,28,9],[25,2,25,3],[25,4,25,5],[25,6,25,7],[24,8,24,9],[24,0,24,1],[24,2,24,3],[24,4,24,5],[24,6,24,7],[27,0,27,1],[27,2,27,3],[27,4,27,5],[27,6,27,7],[25,8,25,9],[26,0,26,1],[26,2,26,3],[26,4,26,5],[26,6,26,7],[25,0,25,1],[26,8,26,9],[23,0,23,1],[23,2,23,3],[23,4,23,5],[23,6,23,7],[23,8,23,9],[22,0,22,1],[22,2,22,3],[22,4,22,5],[22,6,22,7],[22,8,22,9],[2,0,2,1],[2,2,2,3],[2,4,2,5],[2,6,2,7],[2,8,2,9],[13,0,13,1],[13,2,13,3],[13,4,13,5],[13,6,13,7],[6,8,6,9],[7,0,7,1],[7,2,7,3],[7,4,7,5],[7,6,7,7],[7,8,7,9],[9,0,9,1],[9,2,9,3],[9,4,9,5],[9,6,9,7],[13,8,13,9],[8,8,8,9],[8,0,8,1],[8,2,8,3],[8,4,8,5],[36,0,36,1],[37,0,37,1],[37,2,37,3],[36,2,36,3],[37,4,37,5],[36,4,36,5],[37,6,37,7],[36,6,36,7],[15,4,15,5],[19,0,19,1],[19,2,19,3],[19,4,19,5],[19,6,19,7],[18,0,18,1],[18,2,18,3],[18,4,18,5],[18,6,18,7],[21,0,21,1],[21,2,21,3],[21,4,21,5],[21,6,21,7],[20,0,20,1],[20,2,20,3],[20,4,20,5],[3,0,3,1],[3,2,3,3],[3,4,3,5],[3,6,3,7],[16,0,16,1],[16,2,16,3],[16,4,16,5],[16,6,16,7],[15,0,15,1],[15,2,15,3],[5,0,5,1],[5,2,5,3],[5,4,5,5],[5,6,5,7],[4,0,4,1],[4,2,4,3],[4,4,4,5],[4,6,4,7],[6,0,6,1],[6,2,6,3],[6,4,6,5],[6,6,6,7],[14,0,14,1],[14,2,14,3],[17,0,17,1],[17,2,17,3],[17,4,17,5],[17,6,17,7],[10,0,10,1],[11,0,11,1],[12,0,12,1],[12,2,12,3],[11,2,11,3],[14,4,14,5],[14,6,14,7],[10,2,10,3],[10,4,10,5],[11,4,11,5],[0,6,0,7],[0,3,0,5],[10,8,10,9],[11,8,11,9],[15,6,15,7],[5,8,5,9],[3,8,3,9],[4,8,4,9],[0,8,0,9],[14,8,14,9],[8,6,8,7],[9,8,9,9],[12,8,12,9],[12,4,12,5],[10,6,10,7],[11,6,11,7],[12,6,12,7],[20,6,20,7],[30,6,30,7],[32,8,32,9],[21,8,21,9],[37,8,37,9],[36,8,36,9],[15,8,15,9],[16,8,16,9],[17,8,17,9],[19,8,19,9],[18,8,18,9],[20,8,20,9]]}
["Wochenplan für die",null,{"$f":"'Daten Jahr'!A22","v":20},"Woche des Schuljahres",null,null,{"$f":"Stundenplan!C1","v":"2013-2014"},null,{"$f":"Stundenplan!$F$1","v":"3/4"}]
["Mo:",{"$f":"Start!F85","v":"2014-01-27"},"Di:",{"$f":"B2+1","v":"2014-01-28"},"Mi:",{"$f":"D2+1","v":"2014-01-29"},"Do:",{"$f":"F2+1","v":"2014-01-30"},"Fr:",{"$f":"H2+1","v":"2014-01-31"}]
[{"$f":"Stundenplan!$B$4","v":"Probe 1"},null,{"$f":"Stundenplan!$C$4","v":"Probe 11"},null,{"$f":"Stundenplan!$D$4","v":"Probe 21"},null,{"$f":"Stundenplan!$E$4","v":"Probe 31"},null,{"$f":"Stundenplan!$F$4","v":"Probe 41"}]
[]
[]
[]
[{"$f":"Stundenplan!$B$5","v":"Probe 2"},null,{"$f":"Stundenplan!$C$5","v":"Probe 12"},null,{"$f":"Stundenplan!$D$5","v":"Probe 22"},null,{"$f":"Stundenplan!$E$5","v":"Probe 32"},null,{"$f":"Stundenplan!$F$5","v":"Probe 42"}]
[]
[]
[]
[{"$f":"Stundenplan!$B$6","v":"Probe 3"},null,{"$f":"Stundenplan!$C$6","v":"Probe 13"},null,{"$f":"Stundenplan!$D$6","v":"Probe 23"},null,{"$f":"Stundenplan!$E$6","v":"Probe 33"},null,{"$f":"Stundenplan!$F$6","v":"Probe 43"}]
[]
[]
[]
[{"$f":"Stundenplan!$B$7","v":"Probe 4"},null,{"$f":"Stundenplan!$C$7","v":"Probe 14"},null,{"$f":"Stundenplan!$D$7","v":"Probe 24"},null,{"$f":"Stundenplan!$E$7","v":"Probe 34"},null,{"$f":"Stundenplan!$F$7","v":"Probe 44"}]
[]
[]
[]
[{"$f":"Stundenplan!$B$8","v":"Probe 5"},null,{"$f":"Stundenplan!$C$8","v":"Probe 15"},null,{"$f":"Stundenplan!$D$8","v":"Probe 25"},null,{"$f":"Stundenplan!$E$8","v":"Probe 35"},null,{"$f":"Stundenplan!$F$8","v":"Probe 45"}]
[]
[]
[]
[{"$f":"Stundenplan!$B$10","v":"Probe 6"},null,{"$f":"Stundenplan!$C$10","v":"Probe 16"},null,{"$f":"Stundenplan!$D$10","v":"Probe 26"},null,{"$f":"Stundenplan!$E$10","v":"Probe 36"},null,{"$f":"Stundenplan!$F$10","v":"Probe 46"}]
[]
[]
[]
[{"$f":"Stundenplan!$B$11","v":"Probe 7"},null,{"$f":"Stundenplan!$C$11","v":"Probe 17"},null,{"$f":"Stundenplan!$D$11","v":"Probe 27"},null,{"$f":"Stundenplan!$E$11","v":"Probe 37"},null,{"$f":"Stundenplan!$F$11","v":"Probe 47"}]
[]
[]
[]
[{"$f":"Stundenplan!$B$12","v":"Probe 8"},null,{"$f":"Stundenplan!$C$12","v":"Probe 18"},null,{"$f":"Stundenplan!$D$12","v":"Probe 28"},null,{"$f":"Stundenplan!$E$12","v":"Probe 38"},null,{"$f":"Stundenplan!$F$12","v":"Probe 48"}]
[]
[]
[]
[{"$f":"Stundenplan!$B$13","v":"Notizen"},null,{"$f":"Stundenplan!$C$13","v":"Notizen"},null,{"$f":"Stundenplan!$D$13","v":"Notizen"},null,{"$f":"Stundenplan!$E$13","v":"Notizen"},null,{"$f":"Stundenplan!$F$13","v":"Notizen"}]

{"sheet":"Wo 21","index":47,"n_rows":35,"n_cols":10,"rows_kept":35,"cut":false,"hidden":false,"merged":[[0,8,0,9],[2,0,2,1],[2,2,2,3],[2,4,2,5],[2,6,2,7],[2,8,2,9],[0,6,0,7],[0,3,0,5],[3,8,3,9],[4,0,4,1],[4,2,4,3],[4,4,4,5],[4,6,4,7],[4,8,4,9],[3,0,3,1],[3,2,3,3],[3,4,3,5],[3,6,3,7],[5,8,5,9],[6,0,6,1],[6,2,6,3],[6,4,6,5],[6,6,6,7],[8,8,8,9],[8,0,8,1],[8,2,8,3],[8,4,8,5],[8,6,8,7],[5,0,5,1],[5,2,5,3],[5,4,5,5],[5,6,5,7],[6,8,6,9],[7,0,7,1],[7,2,7,3],[7,4,7,5],[7,6,7,7],[7,8,7,9],[9,8,9,9],[14,0,14,1],[14,2,14,3],[14,4,14,5],[14,6,14,7],[14,8,14,9],[9,0,9,1],[9,2,9,3],[9,4,9,5],[9,6,9,7],[12,4,12,5],[10,6,10,7],[11,6,11,7],[12,6,12,7],[18,6,18,7],[17,0,17,1],[17,2,17,3],[17,4,17,5],[17,6,17,7],[17,8,17,9],[13,0,13,1],[13,2,13,3],[13,4,13,5],[13,6,13,7],[15,8,15,9],[16,0,16,1],[16,2,16,3],[16,4,16,5],[16,6,16,7],[16,8,16,9],[15,0,15,1],[15,2,15,3],[15,4,15,5],[15,6,15,7],[20,6,20,7],[21,8,21,9],[21,0,21,1],[21,2,21,3],[21,4,21,5],[21,6,21,7],[19,0,19,1],[19,2,19,3],[19,4,19,5],[19,6,19,7],[19,8,19,9],[28,8,28,9],[22,0,22,1],[22,2,22,3],[22,4,22,5],[22,6,22,7],[26,0,26,1],[26,2,26,3],[26,4,26,5],[26,6,26,7],[24,0,24,1],[24,2,24,3],[24,4,24,5],[24,6,24,7],[22,8,22,9],[23,0,23,1],[23,2,23,3],[23,4,23,5],[25,8,25,9],[27,8,27,9],[25,6,25,7],[28,6,28,7],[37,0,37,1],[37,2,37,3],[36,2,36,3],[37,4,37,5],[36,4,36,5],[35,0,35,1],[35,2,35,3],[35,4,35,5],[10,0,10,1],[11,0,11,1],[12,0,12,1],[12,2,12,3],[11,2,11,3],[10,2,10,3],[31,0,31,1],[31,2,31,3],[31,4,31,5],[30,0,30,1],[32,0,32,1],[32,2,32,3],[32,4,32,5],[29,0,29,1],[29,2,29,3],[29,4,29,5],[36,0,36,1],[34,0,34,1],[34,2,34,3],[34,4,34,5],[33,0,33,1],[33,2,33,3],[33,4,33,5],[10,4,10,5],[11,4,11,5],[25,0,25,1],[25,2,25,3],[25,4,25,5],[20,0,20,1],[20,2,20,3],[20,4,20,5],[18,0,18,1],[18,2,18,3],[18,4,18,5],[28,0,28,1],[28,2,28,3],[28,4,28,5],[31,6,31,7],[32,6,32,7],[29,6,29,7],[27,0,27,1],[27,2,27,3],[27,4,27,5],[27,6,27,7],[30,2,30,3],[30,4,30,5],[30,6,30,7],[37,8,37,9],[36,8,36,9],[37,6,37,7],[36,6,36,7],[35,8,35,9],[35,6,35,7],[10,8,10,9],[11,8,11,9],[12,8,12,9],[31,8,31,9],[29,8,29,9],[32,8,32,9],[30,8,30,9],[26,8,26,9],[23,6,23,7],[23,8,23,9],[24,8,24,9],[20,8,20,9],[18,8,18,9],[13,8,13,9],[33,8,33,9],[34,6,34,7],[34,8,34,9],[33,6,33,7]]}
["Wochenplan für die",null,{"$f":"'Daten Jahr'!A23","v":21},"Woche des Schuljahres",null,null,{"$f":"Stundenplan!C1","v":"2013-2014"},null,{"$f":"Stundenplan!$F$1","v":"3/4"}]
["Mo:",{"$f":"Start!F88","v":"2014-02-17"},"Di:",{"$f":"B2+1","v":"2014-02-18"},"Mi:",{"$f":"D2+1","v":"2014-02-19"},"Do:",{"$f":"F2+1","v":"2014-02-20"},"Fr:",{"$f":"H2+1","v":"2014-02-21"}]
[{"$f":"Stundenplan!$B$4","v":"Probe 1"},null,{"$f":"Stundenplan!$C$4","v":"Probe 11"},null,{"$f":"Stundenplan!$D$4","v":"Probe 21"},null,{"$f":"Stundenplan!$E$4","v":"Probe 31"},null,{"$f":"Stundenplan!$F$4","v":"Probe 41"}]
[]
[]
[]
[{"$f":"Stundenplan!$B$5","v":"Probe 2"},null,{"$f":"Stundenplan!$C$5","v":"Probe 12"},null,{"$f":"Stundenplan!$D$5","v":"Probe 22"},null,{"$f":"Stundenplan!$E$5","v":"Probe 32"},null,{"$f":"Stundenplan!$F$5","v":"Probe 42"}]
[]
[]
[]
[{"$f":"Stundenplan!$B$6","v":"Probe 3"},null,{"$f":"Stundenplan!$C$6","v":"Probe 13"},null,{"$f":"Stundenplan!$D$6","v":"Probe 23"},null,{"$f":"Stundenplan!$E$6","v":"Probe 33"},null,{"$f":"Stundenplan!$F$6","v":"Probe 43"}]
[]
[]
[]
[{"$f":"Stundenplan!$B$7","v":"Probe 4"},null,{"$f":"Stundenplan!$C$7","v":"Probe 14"},null,{"$f":"Stundenplan!$D$7","v":"Probe 24"},null,{"$f":"Stundenplan!$E$7","v":"Probe 34"},null,{"$f":"Stundenplan!$F$7","v":"Probe 44"}]
[]
[]
[]
[{"$f":"Stundenplan!$B$8","v":"Probe 5"},null,{"$f":"Stundenplan!$C$8","v":"Probe 15"},null,{"$f":"Stundenplan!$D$8","v":"Probe 25"},null,{"$f":"Stundenplan!$E$8","v":"Probe 35"},null,{"$f":"Stundenplan!$F$8","v":"Probe 45"}]
[]
[]
[]
[{"$f":"Stundenplan!$B$10","v":"Probe 6"},null,{"$f":"Stundenplan!$C$10","v":"Probe 16"},null,{"$f":"Stundenplan!$D$10","v":"Probe 26"},null,{"$f":"Stundenplan!$E$10","v":"Probe 36"},null,{"$f":"Stundenplan!$F$10","v":"Probe 46"}]
[]
[]
[]
[{"$f":"Stundenplan!$B$11","v":"Probe 7"},null,{"$f":"Stundenplan!$C$11","v":"Probe 17"},null,{"$f":"Stundenplan!$D$11","v":"Probe 27"},null,{"$f":"Stundenplan!$E$11","v":"Probe 37"},null,{"$f":"Stundenplan!$F$11","v":"Probe 47"}]
[]
[]
[]
[{"$f":"Stundenplan!$B$12","v":"Probe 8"},null,{"$f":"Stundenplan!$C$12","v":"Probe 18"},null,{"$f":"Stundenplan!$D$12","v":"Probe 28"},null,{"$f":"Stundenplan!$E$12","v":"Probe 38"},null,{"$f":"Stundenplan!$F$12","v":"Probe 48"}]
[]
[]
[]
[{"$f":"Stundenplan!$B$13","v":"Notizen"},null,{"$f":"Stundenplan!$C$13","v":"Notizen"},null,{"$f":"Stundenplan!$D$13","v":"Notizen"},null,{"$f":"Stundenplan!$E$13","v":"Notizen"},null,{"$f":"Stundenplan!$F$13","v":"Notizen"}]

{"sheet":"Wo 22","index":48,"n_rows":35,"n_cols":10,"rows_kept":35,"cut":false,"hidden":false,"merged":[[35,0,35,1],[35,2,35,3],[35,4,35,5],[35,6,35,7],[33,8,33,9],[34,0,34,1],[34,2,34,3],[34,4,34,5],[34,6,34,7],[34,8,34,9],[33,0,33,1],[33,2,33,3],[33,4,33,5],[33,6,33,7],[35,8,35,9],[32,0,32,1],[32,2,32,3],[32,4,32,5],[31,0,31,1],[31,2,31,3],[31,4,31,5],[31,6,31,7],[31,8,31,9],[30,0,30,1],[30,2,30,3],[30,4,30,5],[32,6,32,7],[30,8,30,9],[29,0,29,1],[29,2,29,3],[29,4,29,5],[29,6,29,7],[27,8,27,9],[28,0,28,1],[28,2,28,3],[28,4,28,5],[28,6,28,7],[29,8,29,9],[28,8,28,9],[25,2,25,3],[25,4,25,5],[25,6,25,7],[24,8,24,9],[24,0,24,1],[24,2,24,3],[24,4,24,5],[24,6,24,7],[27,0,27,1],[27,2,27,3],[27,4,27,5],[27,6,27,7],[25,8,25,9],[26,0,26,1],[26,2,26,3],[26,4,26,5],[26,6,26,7],[25,0,25,1],[26,8,26,9],[23,0,23,1],[23,2,23,3],[23,4,23,5],[23,6,23,7],[23,8,23,9],[22,0,22,1],[22,2,22,3],[22,4,22,5],[22,6,22,7],[22,8,22,9],[2,0,2,1],[2,2,2,3],[2,4,2,5],[2,6,2,7],[2,8,2,9],[13,0,13,1],[13,2,13,3],[13,4,13,5],[13,6,13,7],[6,8,6,9],[7,0,7,1],[7,2,7,3],[7,4,7,5],[7,6,7,7],[7,8,7,9],[9,0,9,1],[9,2,9,3],[9,4,9,5],[9,6,9,7],[13,8,13,9],[8,8,8,9],[8,0,8,1],[8,2,8,3],[8,4,8,5],[36,0,36,1],[37,0,37,1],[37,2,37,3],[36,2,36,3],[37,4,37,5],[36,4,36,5],[37,6,37,7],[36,6,36,7],[15,4,15,5],[19,0,19,1],[19,2,19,3],[19,4,19,5],[19,6,19,7],[18,0,18,1],[18,2,18,3],[18,4,18,5],[18,6,18,7],[21,0,21,1],[21,2,21,3],[21,4,21,5],[21,6,21,7],[20,0,20,1],[20,2,20,3],[20,4,20,5],[3,0,3,1],[3,2,3,3],[3,4,3,5],[3,6,3,7],[16,0,16,1],[16,2,16,3],[16,4,16,5],[16,6,16,7],[15,0,15,1],[15,2,15,3],[5,0,5,1],[5,2,5,3],[5,4,5,5],[5,6,5,7],[4,0,4,1],[4,2,4,3],[4,4,4,5],[4,6,4,7],[6,0,6,1],[6,2,6,3],[6,4,6,5],[6,6,6,7],[14,0,14,1],[14,2,14,3],[17,0,17,1],[17,2,17,3],[17,4,17,5],[17,6,17,7],[10,0,10,1],[11,0,11,1],[12,0,12,1],[12,2,12,3],[11,2,11,3],[14,4,14,5],[14,6,14,7],[10,2,10,3],[10,4,10,5],[11,4,11,5],[0,6,0,7],[0,3,0,5],[10,8,10,9],[11,8,11,9],[15,6,15,7],[5,8,5,9],[3,8,3,9],[4,8,4,9],[0,8,0,9],[14,8,14,9],[8,6,8,7],[9,8,9,9],[12,8,12,9],[12,4,12,5],[10,6,10,7],[11,6,11,7],[12,6,12,7],[20,6,20,7],[30,6,30,7],[32,8,32,9],[21,8,21,9],[37,8,37,9],[36,8,36,9],[15,8,15,9],[16,8,16,9],[17,8,17,9],[19,8,19,9],[18,8,18,9],[20,8,20,9]]}
["Wochenplan für die",null,{"$f":"'Daten Jahr'!A24","v":22},"Woche des Schuljahres",null,null,{"$f":"Stundenplan!C1","v":"2013-2014"},null,{"$f":"Stundenplan!$F$1","v":"3/4"}]
["Mo:",{"$f":"Start!F89","v":"2014-02-24"},"Di:",{"$f":"B2+1","v":"2014-02-25"},"Mi:",{"$f":"D2+1","v":"2014-02-26"},"Do:",{"$f":"F2+1","v":"2014-02-27"},"Fr:",{"$f":"H2+1","v":"2014-02-28"}]
[{"$f":"Stundenplan!$B$4","v":"Probe 1"},null,{"$f":"Stundenplan!$C$4","v":"Probe 11"},null,{"$f":"Stundenplan!$D$4","v":"Probe 21"},null,{"$f":"Stundenplan!$E$4","v":"Probe 31"},null,{"$f":"Stundenplan!$F$4","v":"Probe 41"}]
[]
[]
[]
[{"$f":"Stundenplan!$B$5","v":"Probe 2"},null,{"$f":"Stundenplan!$C$5","v":"Probe 12"},null,{"$f":"Stundenplan!$D$5","v":"Probe 22"},null,{"$f":"Stundenplan!$E$5","v":"Probe 32"},null,{"$f":"Stundenplan!$F$5","v":"Probe 42"}]
[]
[]
[]
[{"$f":"Stundenplan!$B$6","v":"Probe 3"},null,{"$f":"Stundenplan!$C$6","v":"Probe 13"},null,{"$f":"Stundenplan!$D$6","v":"Probe 23"},null,{"$f":"Stundenplan!$E$6","v":"Probe 33"},null,{"$f":"Stundenplan!$F$6","v":"Probe 43"}]
[]
[]
[]
[{"$f":"Stundenplan!$B$7","v":"Probe 4"},null,{"$f":"Stundenplan!$C$7","v":"Probe 14"},null,{"$f":"Stundenplan!$D$7","v":"Probe 24"},null,{"$f":"Stundenplan!$E$7","v":"Probe 34"},null,{"$f":"Stundenplan!$F$7","v":"Probe 44"}]
[]
[]
[]
[{"$f":"Stundenplan!$B$8","v":"Probe 5"},null,{"$f":"Stundenplan!$C$8","v":"Probe 15"},null,{"$f":"Stundenplan!$D$8","v":"Probe 25"},null,{"$f":"Stundenplan!$E$8","v":"Probe 35"},null,{"$f":"Stundenplan!$F$8","v":"Probe 45"}]
[]
[]
[]
[{"$f":"Stundenplan!$B$10","v":"Probe 6"},null,{"$f":"Stundenplan!$C$10","v":"Probe 16"},null,{"$f":"Stundenplan!$D$10","v":"Probe 26"},null,{"$f":"Stundenplan!$E$10","v":"Probe 36"},null,{"$f":"Stundenplan!$F$10","v":"Probe 46"}]
[]
[]
[]
[{"$f":"Stundenplan!$B$11","v":"Probe 7"},null,{"$f":"Stundenplan!$C$11","v":"Probe 17"},null,{"$f":"Stundenplan!$D$11","v":"Probe 27"},null,{"$f":"Stundenplan!$E$11","v":"Probe 37"},null,{"$f":"Stundenplan!$F$11","v":"Probe 47"}]
[]
[]
[]
[{"$f":"Stundenplan!$B$12","v":"Probe 8"},null,{"$f":"Stundenplan!$C$12","v":"Probe 18"},null,{"$f":"Stundenplan!$D$12","v":"Probe 28"},null,{"$f":"Stundenplan!$E$12","v":"Probe 38"},null,{"$f":"Stundenplan!$F$12","v":"Probe 48"}]
[]
[]
[]
[{"$f":"Stundenplan!$B$13","v":"Notizen"},null,{"$f":"Stundenplan!$C$13","v":"Notizen"},null,{"$f":"Stundenplan!$D$13","v":"Notizen"},null,{"$f":"Stundenplan!$E$13","v":"Notizen"},null,{"$f":"Stundenplan!$F$13","v":"Notizen"}]

{"sheet":"Wo 23","index":49,"n_rows":35,"n_cols":10,"rows_kept":35,"cut":false,"hidden":false,"merged":[[0,8,0,9],[2,0,2,1],[2,2,2,3],[2,4,2,5],[2,6,2,7],[2,8,2,9],[0,6,0,7],[0,3,0,5],[3,8,3,9],[4,0,4,1],[4,2,4,3],[4,4,4,5],[4,6,4,7],[4,8,4,9],[3,0,3,1],[3,2,3,3],[3,4,3,5],[3,6,3,7],[5,8,5,9],[6,0,6,1],[6,2,6,3],[6,4,6,5],[6,6,6,7],[8,8,8,9],[8,0,8,1],[8,2,8,3],[8,4,8,5],[8,6,8,7],[5,0,5,1],[5,2,5,3],[5,4,5,5],[5,6,5,7],[6,8,6,9],[7,0,7,1],[7,2,7,3],[7,4,7,5],[7,6,7,7],[7,8,7,9],[9,8,9,9],[14,0,14,1],[14,2,14,3],[14,4,14,5],[14,6,14,7],[14,8,14,9],[9,0,9,1],[9,2,9,3],[9,4,9,5],[9,6,9,7],[12,4,12,5],[10,6,10,7],[11,6,11,7],[12,6,12,7],[18,6,18,7],[17,0,17,1],[17,2,17,3],[17,4,17,5],[17,6,17,7],[17,8,17,9],[13,0,13,1],[13,2,13,3],[13,4,13,5],[13,6,13,7],[15,8,15,9],[16,0,16,1],[16,2,16,3],[16,4,16,5],[16,6,16,7],[16,8,16,9],[15,0,15,1],[15,2,15,3],[15,4,15,5],[15,6,15,7],[20,6,20,7],[21,8,21,9],[21,0,21,1],[21,2,21,3],[21,4,21,5],[21,6,21,7],[19,0,19,1],[19,2,19,3],[19,4,19,5],[19,6,19,7],[19,8,19,9],[28,8,28,9],[22,0,22,1],[22,2,22,3],[22,4,22,5],[22,6,22,7],[26,0,26,1],[26,2,26,3],[26,4,26,5],[26,6,26,7],[24,0,24,1],[24,2,24,3],[24,4,24,5],[24,6,24,7],[22,8,22,9],[23,0,23,1],[23,2,23,3],[23,4,23,5],[25,8,25,9],[27,8,27,9],[25,6,25,7],[28,6,28,7],[37,0,37,1],[37,2,37,3],[36,2,36,3],[37,4,37,5],[36,4,36,5],[35,0,35,1],[35,2,35,3],[35,4,35,5],[10,0,10,1],[11,0,11,1],[12,0,12,1],[12,2,12,3],[11,2,11,3],[10,2,10,3],[31,0,31,1],[31,2,31,3],[31,4,31,5],[30,0,30,1],[32,0,32,1],[32,2,32,3],[32,4,32,5],[29,0,29,1],[29,2,29,3],[29,4,29,5],[36,0,36,1],[34,0,34,1],[34,2,34,3],[34,4,34,5],[33,0,33,1],[33,2,33,3],[33,4,33,5],[10,4,10,5],[11,4,11,5],[25,0,25,1],[25,2,25,3],[25,4,25,5],[20,0,20,1],[20,2,20,3],[20,4,20,5],[18,0,18,1],[18,2,18,3],[18,4,18,5],[28,0,28,1],[28,2,28,3],[28,4,28,5],[31,6,31,7],[32,6,32,7],[29,6,29,7],[27,0,27,1],[27,2,27,3],[27,4,27,5],[27,6,27,7],[30,2,30,3],[30,4,30,5],[30,6,30,7],[37,8,37,9],[36,8,36,9],[37,6,37,7],[36,6,36,7],[35,8,35,9],[35,6,35,7],[10,8,10,9],[11,8,11,9],[12,8,12,9],[31,8,31,9],[29,8,29,9],[32,8,32,9],[30,8,30,9],[26,8,26,9],[23,6,23,7],[23,8,23,9],[24,8,24,9],[20,8,20,9],[18,8,18,9],[13,8,13,9],[33,8,33,9],[34,6,34,7],[34,8,34,9],[33,6,33,7]]}
["Wochenplan für die",null,{"$f":"'Daten Jahr'!A25","v":23},"Woche des Schuljahres",null,null,{"$f":"Stundenplan!C1","v":"2013-2014"},null,{"$f":"Stundenplan!$F$1","v":"3/4"}]
["Mo:",{"$f":"Start!F90","v":"2014-03-03"},"Di:",{"$f":"B2+1","v":"2014-03-04"},"Mi:",{"$f":"D2+1","v":"2014-03-05"},"Do:",{"$f":"F2+1","v":"2014-03-06"},"Fr:",{"$f":"H2+1","v":"2014-03-07"}]
[{"$f":"Stundenplan!$B$4","v":"Probe 1"},null,{"$f":"Stundenplan!$C$4","v":"Probe 11"},null,{"$f":"Stundenplan!$D$4","v":"Probe 21"},null,{"$f":"Stundenplan!$E$4","v":"Probe 31"},null,{"$f":"Stundenplan!$F$4","v":"Probe 41"}]
[]
[]
[]
[{"$f":"Stundenplan!$B$5","v":"Probe 2"},null,{"$f":"Stundenplan!$C$5","v":"Probe 12"},null,{"$f":"Stundenplan!$D$5","v":"Probe 22"},null,{"$f":"Stundenplan!$E$5","v":"Probe 32"},null,{"$f":"Stundenplan!$F$5","v":"Probe 42"}]
[]
[]
[]
[{"$f":"Stundenplan!$B$6","v":"Probe 3"},null,{"$f":"Stundenplan!$C$6","v":"Probe 13"},null,{"$f":"Stundenplan!$D$6","v":"Probe 23"},null,{"$f":"Stundenplan!$E$6","v":"Probe 33"},null,{"$f":"Stundenplan!$F$6","v":"Probe 43"}]
[]
[]
[]
[{"$f":"Stundenplan!$B$7","v":"Probe 4"},null,{"$f":"Stundenplan!$C$7","v":"Probe 14"},null,{"$f":"Stundenplan!$D$7","v":"Probe 24"},null,{"$f":"Stundenplan!$E$7","v":"Probe 34"},null,{"$f":"Stundenplan!$F$7","v":"Probe 44"}]
[]
[]
[]
[{"$f":"Stundenplan!$B$8","v":"Probe 5"},null,{"$f":"Stundenplan!$C$8","v":"Probe 15"},null,{"$f":"Stundenplan!$D$8","v":"Probe 25"},null,{"$f":"Stundenplan!$E$8","v":"Probe 35"},null,{"$f":"Stundenplan!$F$8","v":"Probe 45"}]
[]
[]
[]
[{"$f":"Stundenplan!$B$10","v":"Probe 6"},null,{"$f":"Stundenplan!$C$10","v":"Probe 16"},null,{"$f":"Stundenplan!$D$10","v":"Probe 26"},null,{"$f":"Stundenplan!$E$10","v":"Probe 36"},null,{"$f":"Stundenplan!$F$10","v":"Probe 46"}]
[]
[]
[]
[{"$f":"Stundenplan!$B$11","v":"Probe 7"},null,{"$f":"Stundenplan!$C$11","v":"Probe 17"},null,{"$f":"Stundenplan!$D$11","v":"Probe 27"},null,{"$f":"Stundenplan!$E$11","v":"Probe 37"},null,{"$f":"Stundenplan!$F$11","v":"Probe 47"}]
[]
[]
[]
[{"$f":"Stundenplan!$B$12","v":"Probe 8"},null,{"$f":"Stundenplan!$C$12","v":"Probe 18"},null,{"$f":"Stundenplan!$D$12","v":"Probe 28"},null,{"$f":"Stundenplan!$E$12","v":"Probe 38"},null,{"$f":"Stundenplan!$F$12","v":"Probe 48"}]
[]
[]
[]
[{"$f":"Stundenplan!$B$13","v":"Notizen"},null,{"$f":"Stundenplan!$C$13","v":"Notizen"},null,{"$f":"Stundenplan!$D$13","v":"Notizen"},null,{"$f":"Stundenplan!$E$13","v":"Notizen"},null,{"$f":"Stundenplan!$F$13","v":"Notizen"}]

{"sheet":"Wo 24","index":50,"n_rows":35,"n_cols":10,"rows_kept":35,"cut":false,"hidden":false,"merged":[[35,0,35,1],[35,2,35,3],[35,4,35,5],[35,6,35,7],[33,8,33,9],[34,0,34,1],[34,2,34,3],[34,4,34,5],[34,6,34,7],[34,8,34,9],[33,0,33,1],[33,2,33,3],[33,4,33,5],[33,6,33,7],[35,8,35,9],[32,0,32,1],[32,2,32,3],[32,4,32,5],[31,0,31,1],[31,2,31,3],[31,4,31,5],[31,6,31,7],[31,8,31,9],[30,0,30,1],[30,2,30,3],[30,4,30,5],[32,6,32,7],[30,8,30,9],[29,0,29,1],[29,2,29,3],[29,4,29,5],[29,6,29,7],[27,8,27,9],[28,0,28,1],[28,2,28,3],[28,4,28,5],[28,6,28,7],[29,8,29,9],[28,8,28,9],[25,2,25,3],[25,4,25,5],[25,6,25,7],[24,8,24,9],[24,0,24,1],[24,2,24,3],[24,4,24,5],[24,6,24,7],[27,0,27,1],[27,2,27,3],[27,4,27,5],[27,6,27,7],[25,8,25,9],[26,0,26,1],[26,2,26,3],[26,4,26,5],[26,6,26,7],[25,0,25,1],[26,8,26,9],[23,0,23,1],[23,2,23,3],[23,4,23,5],[23,6,23,7],[23,8,23,9],[22,0,22,1],[22,2,22,3],[22,4,22,5],[22,6,22,7],[22,8,22,9],[2,0,2,1],[2,2,2,3],[2,4,2,5],[2,6,2,7],[2,8,2,9],[13,0,13,1],[13,2,13,3],[13,4,13,5],[13,6,13,7],[6,8,6,9],[7,0,7,1],[7,2,7,3],[7,4,7,5],[7,6,7,7],[7,8,7,9],[9,0,9,1],[9,2,9,3],[9,4,9,5],[9,6,9,7],[13,8,13,9],[8,8,8,9],[8,0,8,1],[8,2,8,3],[8,4,8,5],[36,0,36,1],[37,0,37,1],[37,2,37,3],[36,2,36,3],[37,4,37,5],[36,4,36,5],[37,6,37,7],[36,6,36,7],[15,4,15,5],[19,0,19,1],[19,2,19,3],[19,4,19,5],[19,6,19,7],[18,0,18,1],[18,2,18,3],[18,4,18,5],[18,6,18,7],[21,0,21,1],[21,2,21,3],[21,4,21,5],[21,6,21,7],[20,0,20,1],[20,2,20,3],[20,4,20,5],[3,0,3,1],[3,2,3,3],[3,4,3,5],[3,6,3,7],[16,0,16,1],[16,2,16,3],[16,4,16,5],[16,6,16,7],[15,0,15,1],[15,2,15,3],[5,0,5,1],[5,2,5,3],[5,4,5,5],[5,6,5,7],[4,0,4,1],[4,2,4,3],[4,4,4,5],[4,6,4,7],[6,0,6,1],[6,2,6,3],[6,4,6,5],[6,6,6,7],[14,0,14,1],[14,2,14,3],[17,0,17,1],[17,2,17,3],[17,4,17,5],[17,6,17,7],[10,0,10,1],[11,0,11,1],[12,0,12,1],[12,2,12,3],[11,2,11,3],[14,4,14,5],[14,6,14,7],[10,2,10,3],[10,4,10,5],[11,4,11,5],[0,6,0,7],[0,3,0,5],[10,8,10,9],[11,8,11,9],[15,6,15,7],[5,8,5,9],[3,8,3,9],[4,8,4,9],[0,8,0,9],[14,8,14,9],[8,6,8,7],[9,8,9,9],[12,8,12,9],[12,4,12,5],[10,6,10,7],[11,6,11,7],[12,6,12,7],[20,6,20,7],[30,6,30,7],[32,8,32,9],[21,8,21,9],[37,8,37,9],[36,8,36,9],[15,8,15,9],[16,8,16,9],[17,8,17,9],[19,8,19,9],[18,8,18,9],[20,8,20,9]]}
["Wochenplan für die",null,{"$f":"'Daten Jahr'!A26","v":24},"Woche des Schuljahres",null,null,{"$f":"Stundenplan!C1","v":"2013-2014"},null,{"$f":"Stundenplan!$F$1","v":"3/4"}]
["Mo:",{"$f":"Start!F91","v":"2014-03-10"},"Di:",{"$f":"B2+1","v":"2014-03-11"},"Mi:",{"$f":"D2+1","v":"2014-03-12"},"Do:",{"$f":"F2+1","v":"2014-03-13"},"Fr:",{"$f":"H2+1","v":"2014-03-14"}]
[{"$f":"Stundenplan!$B$4","v":"Probe 1"},null,{"$f":"Stundenplan!$C$4","v":"Probe 11"},null,{"$f":"Stundenplan!$D$4","v":"Probe 21"},null,{"$f":"Stundenplan!$E$4","v":"Probe 31"},null,{"$f":"Stundenplan!$F$4","v":"Probe 41"}]
[]
[]
[]
[{"$f":"Stundenplan!$B$5","v":"Probe 2"},null,{"$f":"Stundenplan!$C$5","v":"Probe 12"},null,{"$f":"Stundenplan!$D$5","v":"Probe 22"},null,{"$f":"Stundenplan!$E$5","v":"Probe 32"},null,{"$f":"Stundenplan!$F$5","v":"Probe 42"}]
[]
[]
[]
[{"$f":"Stundenplan!$B$6","v":"Probe 3"},null,{"$f":"Stundenplan!$C$6","v":"Probe 13"},null,{"$f":"Stundenplan!$D$6","v":"Probe 23"},null,{"$f":"Stundenplan!$E$6","v":"Probe 33"},null,{"$f":"Stundenplan!$F$6","v":"Probe 43"}]
[]
[]
[]
[{"$f":"Stundenplan!$B$7","v":"Probe 4"},null,{"$f":"Stundenplan!$C$7","v":"Probe 14"},null,{"$f":"Stundenplan!$D$7","v":"Probe 24"},null,{"$f":"Stundenplan!$E$7","v":"Probe 34"},null,{"$f":"Stundenplan!$F$7","v":"Probe 44"}]
[]
[]
[]
[{"$f":"Stundenplan!$B$8","v":"Probe 5"},null,{"$f":"Stundenplan!$C$8","v":"Probe 15"},null,{"$f":"Stundenplan!$D$8","v":"Probe 25"},null,{"$f":"Stundenplan!$E$8","v":"Probe 35"},null,{"$f":"Stundenplan!$F$8","v":"Probe 45"}]
[]
[]
[]
[{"$f":"Stundenplan!$B$10","v":"Probe 6"},null,{"$f":"Stundenplan!$C$10","v":"Probe 16"},null,{"$f":"Stundenplan!$D$10","v":"Probe 26"},null,{"$f":"Stundenplan!$E$10","v":"Probe 36"},null,{"$f":"Stundenplan!$F$10","v":"Probe 46"}]
[]
[]
[]
[{"$f":"Stundenplan!$B$11","v":"Probe 7"},null,{"$f":"Stundenplan!$C$11","v":"Probe 17"},null,{"$f":"Stundenplan!$D$11","v":"Probe 27"},null,{"$f":"Stundenplan!$E$11","v":"Probe 37"},null,{"$f":"Stundenplan!$F$11","v":"Probe 47"}]
[]
[]
[]
[{"$f":"Stundenplan!$B$12","v":"Probe 8"},null,{"$f":"Stundenplan!$C$12","v":"Probe 18"},null,{"$f":"Stundenplan!$D$12","v":"Probe 28"},null,{"$f":"Stundenplan!$E$12","v":"Probe 38"},null,{"$f":"Stundenplan!$F$12","v":"Probe 48"}]
[]
[]
[]
[{"$f":"Stundenplan!$B$13","v":"Notizen"},null,{"$f":"Stundenplan!$C$13","v":"Notizen"},null,{"$f":"Stundenplan!$D$13","v":"Notizen"},null,{"$f":"Stundenplan!$E$13","v":"Notizen"},null,{"$f":"Stundenplan!$F$13","v":"Notizen"}]

{"sheet":"Wo 25","index":51,"n_rows":35,"n_cols":10,"rows_kept":35,"cut":false,"hidden":false,"merged":[[0,8,0,9],[2,0,2,1],[2,2,2,3],[2,4,2,5],[2,6,2,7],[2,8,2,9],[0,6,0,7],[0,3,0,5],[3,8,3,9],[4,0,4,1],[4,2,4,3],[4,4,4,5],[4,6,4,7],[4,8,4,9],[3,0,3,1],[3,2,3,3],[3,4,3,5],[3,6,3,7],[5,8,5,9],[6,0,6,1],[6,2,6,3],[6,4,6,5],[6,6,6,7],[8,8,8,9],[8,0,8,1],[8,2,8,3],[8,4,8,5],[8,6,8,7],[5,0,5,1],[5,2,5,3],[5,4,5,5],[5,6,5,7],[6,8,6,9],[7,0,7,1],[7,2,7,3],[7,4,7,5],[7,6,7,7],[7,8,7,9],[9,8,9,9],[14,0,14,1],[14,2,14,3],[14,4,14,5],[14,6,14,7],[14,8,14,9],[9,0,9,1],[9,2,9,3],[9,4,9,5],[9,6,9,7],[12,4,12,5],[10,6,10,7],[11,6,11,7],[12,6,12,7],[18,6,18,7],[17,0,17,1],[17,2,17,3],[17,4,17,5],[17,6,17,7],[17,8,17,9],[13,0,13,1],[13,2,13,3],[13,4,13,5],[13,6,13,7],[15,8,15,9],[16,0,16,1],[16,2,16,3],[16,4,16,5],[16,6,16,7],[16,8,16,9],[15,0,15,1],[15,2,15,3],[15,4,15,5],[15,6,15,7],[20,6,20,7],[21,8,21,9],[21,0,21,1],[21,2,21,3],[21,4,21,5],[21,6,21,7],[19,0,19,1],[19,2,19,3],[19,4,19,5],[19,6,19,7],[19,8,19,9],[28,8,28,9],[22,0,22,1],[22,2,22,3],[22,4,22,5],[22,6,22,7],[26,0,26,1],[26,2,26,3],[26,4,26,5],[26,6,26,7],[24,0,24,1],[24,2,24,3],[24,4,24,5],[24,6,24,7],[22,8,22,9],[23,0,23,1],[23,2,23,3],[23,4,23,5],[25,8,25,9],[27,8,27,9],[25,6,25,7],[28,6,28,7],[37,0,37,1],[37,2,37,3],[36,2,36,3],[37,4,37,5],[36,4,36,5],[35,0,35,1],[35,2,35,3],[35,4,35,5],[10,0,10,1],[11,0,11,1],[12,0,12,1],[12,2,12,3],[11,2,11,3],[10,2,10,3],[31,0,31,1],[31,2,31,3],[31,4,31,5],[30,0,30,1],[32,0,32,1],[32,2,32,3],[32,4,32,5],[29,0,29,1],[29,2,29,3],[29,4,29,5],[36,0,36,1],[34,0,34,1],[34,2,34,3],[34,4,34,5],[33,0,33,1],[33,2,33,3],[33,4,33,5],[10,4,10,5],[11,4,11,5],[25,0,25,1],[25,2,25,3],[25,4,25,5],[20,0,20,1],[20,2,20,3],[20,4,20,5],[18,0,18,1],[18,2,18,3],[18,4,18,5],[28,0,28,1],[28,2,28,3],[28,4,28,5],[31,6,31,7],[32,6,32,7],[29,6,29,7],[27,0,27,1],[27,2,27,3],[27,4,27,5],[27,6,27,7],[30,2,30,3],[30,4,30,5],[30,6,30,7],[37,8,37,9],[36,8,36,9],[37,6,37,7],[36,6,36,7],[35,8,35,9],[35,6,35,7],[10,8,10,9],[11,8,11,9],[12,8,12,9],[31,8,31,9],[29,8,29,9],[32,8,32,9],[30,8,30,9],[26,8,26,9],[23,6,23,7],[23,8,23,9],[24,8,24,9],[20,8,20,9],[18,8,18,9],[13,8,13,9],[33,8,33,9],[34,6,34,7],[34,8,34,9],[33,6,33,7]]}
["Wochenplan für die",null,{"$f":"'Daten Jahr'!A27","v":25},"Woche des Schuljahres",null,null,{"$f":"Stundenplan!C1","v":"2013-2014"},null,{"$f":"Stundenplan!$F$1","v":"3/4"}]
["Mo:",{"$f":"Start!F92","v":"2014-03-17"},"Di:",{"$f":"B2+1","v":"2014-03-18"},"Mi:",{"$f":"D2+1","v":"2014-03-19"},"Do:",{"$f":"F2+1","v":"2014-03-20"},"Fr:",{"$f":"H2+1","v":"2014-03-21"}]
[{"$f":"Stundenplan!$B$4","v":"Probe 1"},null,{"$f":"Stundenplan!$C$4","v":"Probe 11"},null,{"$f":"Stundenplan!$D$4","v":"Probe 21"},null,{"$f":"Stundenplan!$E$4","v":"Probe 31"},null,{"$f":"Stundenplan!$F$4","v":"Probe 41"}]
[]
[]
[]
[{"$f":"Stundenplan!$B$5","v":"Probe 2"},null,{"$f":"Stundenplan!$C$5","v":"Probe 12"},null,{"$f":"Stundenplan!$D$5","v":"Probe 22"},null,{"$f":"Stundenplan!$E$5","v":"Probe 32"},null,{"$f":"Stundenplan!$F$5","v":"Probe 42"}]
[]
[]
[]
[{"$f":"Stundenplan!$B$6","v":"Probe 3"},null,{"$f":"Stundenplan!$C$6","v":"Probe 13"},null,{"$f":"Stundenplan!$D$6","v":"Probe 23"},null,{"$f":"Stundenplan!$E$6","v":"Probe 33"},null,{"$f":"Stundenplan!$F$6","v":"Probe 43"}]
[]
[]
[]
[{"$f":"Stundenplan!$B$7","v":"Probe 4"},null,{"$f":"Stundenplan!$C$7","v":"Probe 14"},null,{"$f":"Stundenplan!$D$7","v":"Probe 24"},null,{"$f":"Stundenplan!$E$7","v":"Probe 34"},null,{"$f":"Stundenplan!$F$7","v":"Probe 44"}]
[]
[]
[]
[{"$f":"Stundenplan!$B$8","v":"Probe 5"},null,{"$f":"Stundenplan!$C$8","v":"Probe 15"},null,{"$f":"Stundenplan!$D$8","v":"Probe 25"},null,{"$f":"Stundenplan!$E$8","v":"Probe 35"},null,{"$f":"Stundenplan!$F$8","v":"Probe 45"}]
[]
[]
[]
[{"$f":"Stundenplan!$B$10","v":"Probe 6"},null,{"$f":"Stundenplan!$C$10","v":"Probe 16"},null,{"$f":"Stundenplan!$D$10","v":"Probe 26"},null,{"$f":"Stundenplan!$E$10","v":"Probe 36"},null,{"$f":"Stundenplan!$F$10","v":"Probe 46"}]
[]
[]
[]
[{"$f":"Stundenplan!$B$11","v":"Probe 7"},null,{"$f":"Stundenplan!$C$11","v":"Probe 17"},null,{"$f":"Stundenplan!$D$11","v":"Probe 27"},null,{"$f":"Stundenplan!$E$11","v":"Probe 37"},null,{"$f":"Stundenplan!$F$11","v":"Probe 47"}]
[]
[]
[]
[{"$f":"Stundenplan!$B$12","v":"Probe 8"},null,{"$f":"Stundenplan!$C$12","v":"Probe 18"},null,{"$f":"Stundenplan!$D$12","v":"Probe 28"},null,{"$f":"Stundenplan!$E$12","v":"Probe 38"},null,{"$f":"Stundenplan!$F$12","v":"Probe 48"}]
[]
[]
[]
[{"$f":"Stundenplan!$B$13","v":"Notizen"},null,{"$f":"Stundenplan!$C$13","v":"Notizen"},null,{"$f":"Stundenplan!$D$13","v":"Notizen"},null,{"$f":"Stundenplan!$E$13","v":"Notizen"},null,{"$f":"Stundenplan!$F$13","v":"Notizen"}]

{"sheet":"Wo 26","index":52,"n_rows":35,"n_cols":10,"rows_kept":35,"cut":false,"hidden":false,"merged":[[35,0,35,1],[35,2,35,3],[35,4,35,5],[35,6,35,7],[33,8,33,9],[34,0,34,1],[34,2,34,3],[34,4,34,5],[34,6,34,7],[34,8,34,9],[33,0,33,1],[33,2,33,3],[33,4,33,5],[33,6,33,7],[35,8,35,9],[32,0,32,1],[32,2,32,3],[32,4,32,5],[31,0,31,1],[31,2,31,3],[31,4,31,5],[31,6,31,7],[31,8,31,9],[30,0,30,1],[30,2,30,3],[30,4,30,5],[32,6,32,7],[30,8,30,9],[29,0,29,1],[29,2,29,3],[29,4,29,5],[29,6,29,7],[27,8,27,9],[28,0,28,1],[28,2,28,3],[28,4,28,5],[28,6,28,7],[29,8,29,9],[28,8,28,9],[25,2,25,3],[25,4,25,5],[25,6,25,7],[24,8,24,9],[24,0,24,1],[24,2,24,3],[24,4,24,5],[24,6,24,7],[27,0,27,1],[27,2,27,3],[27,4,27,5],[27,6,27,7],[25,8,25,9],[26,0,26,1],[26,2,26,3],[26,4,26,5],[26,6,26,7],[25,0,25,1],[26,8,26,9],[23,0,23,1],[23,2,23,3],[23,4,23,5],[23,6,23,7],[23,8,23,9],[22,0,22,1],[22,2,22,3],[22,4,22,5],[22,6,22,7],[22,8,22,9],[2,0,2,1],[2,2,2,3],[2,4,2,5],[2,6,2,7],[2,8,2,9],[13,0,13,1],[13,2,13,3],[13,4,13,5],[13,6,13,7],[6,8,6,9],[7,0,7,1],[7,2,7,3],[7,4,7,5],[7,6,7,7],[7,8,7,9],[9,0,9,1],[9,2,9,3],[9,4,9,5],[9,6,9,7],[13,8,13,9],[8,8,8,9],[8,0,8,1],[8,2,8,3],[8,4,8,5],[36,0,36,1],[37,0,37,1],[37,2,37,3],[36,2,36,3],[37,4,37,5],[36,4,36,5],[37,6,37,7],[36,6,36,7],[15,4,15,5],[19,0,19,1],[19,2,19,3],[19,4,19,5],[19,6,19,7],[18,0,18,1],[18,2,18,3],[18,4,18,5],[18,6,18,7],[21,0,21,1],[21,2,21,3],[21,4,21,5],[21,6,21,7],[20,0,20,1],[20,2,20,3],[20,4,20,5],[3,0,3,1],[3,2,3,3],[3,4,3,5],[3,6,3,7],[16,0,16,1],[16,2,16,3],[16,4,16,5],[16,6,16,7],[15,0,15,1],[15,2,15,3],[5,0,5,1],[5,2,5,3],[5,4,5,5],[5,6,5,7],[4,0,4,1],[4,2,4,3],[4,4,4,5],[4,6,4,7],[6,0,6,1],[6,2,6,3],[6,4,6,5],[6,6,6,7],[14,0,14,1],[14,2,14,3],[17,0,17,1],[17,2,17,3],[17,4,17,5],[17,6,17,7],[10,0,10,1],[11,0,11,1],[12,0,12,1],[12,2,12,3],[11,2,11,3],[14,4,14,5],[14,6,14,7],[10,2,10,3],[10,4,10,5],[11,4,11,5],[0,6,0,7],[0,3,0,5],[10,8,10,9],[11,8,11,9],[15,6,15,7],[5,8,5,9],[3,8,3,9],[4,8,4,9],[0,8,0,9],[14,8,14,9],[8,6,8,7],[9,8,9,9],[12,8,12,9],[12,4,12,5],[10,6,10,7],[11,6,11,7],[12,6,12,7],[20,6,20,7],[30,6,30,7],[32,8,32,9],[21,8,21,9],[37,8,37,9],[36,8,36,9],[15,8,15,9],[16,8,16,9],[17,8,17,9],[19,8,19,9],[18,8,18,9],[20,8,20,9]]}
["Wochenplan für die",null,{"$f":"'Daten Jahr'!A28","v":26},"Woche des Schuljahres",null,null,{"$f":"Stundenplan!C1","v":"2013-2014"},null,{"$f":"Stundenplan!$F$1","v":"3/4"}]
["Mo:",{"$f":"Start!F93","v":"2014-03-24"},"Di:",{"$f":"B2+1","v":"2014-03-25"},"Mi:",{"$f":"D2+1","v":"2014-03-26"},"Do:",{"$f":"F2+1","v":"2014-03-27"},"Fr:",{"$f":"H2+1","v":"2014-03-28"}]
[{"$f":"Stundenplan!$B$4","v":"Probe 1"},null,{"$f":"Stundenplan!$C$4","v":"Probe 11"},null,{"$f":"Stundenplan!$D$4","v":"Probe 21"},null,{"$f":"Stundenplan!$E$4","v":"Probe 31"},null,{"$f":"Stundenplan!$F$4","v":"Probe 41"}]
[]
[]
[]
[{"$f":"Stundenplan!$B$5","v":"Probe 2"},null,{"$f":"Stundenplan!$C$5","v":"Probe 12"},null,{"$f":"Stundenplan!$D$5","v":"Probe 22"},null,{"$f":"Stundenplan!$E$5","v":"Probe 32"},null,{"$f":"Stundenplan!$F$5","v":"Probe 42"}]
[]
[]
[]
[{"$f":"Stundenplan!$B$6","v":"Probe 3"},null,{"$f":"Stundenplan!$C$6","v":"Probe 13"},null,{"$f":"Stundenplan!$D$6","v":"Probe 23"},null,{"$f":"Stundenplan!$E$6","v":"Probe 33"},null,{"$f":"Stundenplan!$F$6","v":"Probe 43"}]
[]
[]
[]
[{"$f":"Stundenplan!$B$7","v":"Probe 4"},null,{"$f":"Stundenplan!$C$7","v":"Probe 14"},null,{"$f":"Stundenplan!$D$7","v":"Probe 24"},null,{"$f":"Stundenplan!$E$7","v":"Probe 34"},null,{"$f":"Stundenplan!$F$7","v":"Probe 44"}]
[]
[]
[]
[{"$f":"Stundenplan!$B$8","v":"Probe 5"},null,{"$f":"Stundenplan!$C$8","v":"Probe 15"},null,{"$f":"Stundenplan!$D$8","v":"Probe 25"},null,{"$f":"Stundenplan!$E$8","v":"Probe 35"},null,{"$f":"Stundenplan!$F$8","v":"Probe 45"}]
[]
[]
[]
[{"$f":"Stundenplan!$B$10","v":"Probe 6"},null,{"$f":"Stundenplan!$C$10","v":"Probe 16"},null,{"$f":"Stundenplan!$D$10","v":"Probe 26"},null,{"$f":"Stundenplan!$E$10","v":"Probe 36"},null,{"$f":"Stundenplan!$F$10","v":"Probe 46"}]
[]
[]
[]
[{"$f":"Stundenplan!$B$11","v":"Probe 7"},null,{"$f":"Stundenplan!$C$11","v":"Probe 17"},null,{"$f":"Stundenplan!$D$11","v":"Probe 27"},null,{"$f":"Stundenplan!$E$11","v":"Probe 37"},null,{"$f":"Stundenplan!$F$11","v":"Probe 47"}]
[]
[]
[]
[{"$f":"Stundenplan!$B$12","v":"Probe 8"},null,{"$f":"Stundenplan!$C$12","v":"Probe 18"},null,{"$f":"Stundenplan!$D$12","v":"Probe 28"},null,{"$f":"Stundenplan!$E$12","v":"Probe 38"},null,{"$f":"Stundenplan!$F$12","v":"Probe 48"}]
[]
[]
[]
[{"$f":"Stundenplan!$B$13","v":"Notizen"},null,{"$f":"Stundenplan!$C$13","v":"Notizen"},null,{"$f":"Stundenplan!$D$13","v":"Notizen"},null,{"$f":"Stundenplan!$E$13","v":"Notizen"},null,{"$f":"Stundenplan!$F$13","v":"Notizen"}]

{"sheet":"Wo 27","index":53,"n_rows":35,"n_cols":10,"rows_kept":35,"cut":false,"hidden":false,"merged":[[0,8,0,9],[2,0,2,1],[2,2,2,3],[2,4,2,5],[2,6,2,7],[2,8,2,9],[0,6,0,7],[0,3,0,5],[3,8,3,9],[4,0,4,1],[4,2,4,3],[4,4,4,5],[4,6,4,7],[4,8,4,9],[3,0,3,1],[3,2,3,3],[3,4,3,5],[3,6,3,7],[5,8,5,9],[6,0,6,1],[6,2,6,3],[6,4,6,5],[6,6,6,7],[8,8,8,9],[8,0,8,1],[8,2,8,3],[8,4,8,5],[8,6,8,7],[5,0,5,1],[5,2,5,3],[5,4,5,5],[5,6,5,7],[6,8,6,9],[7,0,7,1],[7,2,7,3],[7,4,7,5],[7,6,7,7],[7,8,7,9],[9,8,9,9],[14,0,14,1],[14,2,14,3],[14,4,14,5],[14,6,14,7],[14,8,14,9],[9,0,9,1],[9,2,9,3],[9,4,9,5],[9,6,9,7],[12,4,12,5],[10,6,10,7],[11,6,11,7],[12,6,12,7],[18,6,18,7],[17,0,17,1],[17,2,17,3],[17,4,17,5],[17,6,17,7],[17,8,17,9],[13,0,13,1],[13,2,13,3],[13,4,13,5],[13,6,13,7],[15,8,15,9],[16,0,16,1],[16,2,16,3],[16,4,16,5],[16,6,16,7],[16,8,16,9],[15,0,15,1],[15,2,15,3],[15,4,15,5],[15,6,15,7],[20,6,20,7],[21,8,21,9],[21,0,21,1],[21,2,21,3],[21,4,21,5],[21,6,21,7],[19,0,19,1],[19,2,19,3],[19,4,19,5],[19,6,19,7],[19,8,19,9],[28,8,28,9],[22,0,22,1],[22,2,22,3],[22,4,22,5],[22,6,22,7],[26,0,26,1],[26,2,26,3],[26,4,26,5],[26,6,26,7],[24,0,24,1],[24,2,24,3],[24,4,24,5],[24,6,24,7],[22,8,22,9],[23,0,23,1],[23,2,23,3],[23,4,23,5],[25,8,25,9],[27,8,27,9],[25,6,25,7],[28,6,28,7],[37,0,37,1],[37,2,37,3],[36,2,36,3],[37,4,37,5],[36,4,36,5],[35,0,35,1],[35,2,35,3],[35,4,35,5],[10,0,10,1],[11,0,11,1],[12,0,12,1],[12,2,12,3],[11,2,11,3],[10,2,10,3],[31,0,31,1],[31,2,31,3],[31,4,31,5],[30,0,30,1],[32,0,32,1],[32,2,32,3],[32,4,32,5],[29,0,29,1],[29,2,29,3],[29,4,29,5],[36,0,36,1],[34,0,34,1],[34,2,34,3],[34,4,34,5],[33,0,33,1],[33,2,33,3],[33,4,33,5],[10,4,10,5],[11,4,11,5],[25,0,25,1],[25,2,25,3],[25,4,25,5],[20,0,20,1],[20,2,20,3],[20,4,20,5],[18,0,18,1],[18,2,18,3],[18,4,18,5],[28,0,28,1],[28,2,28,3],[28,4,28,5],[31,6,31,7],[32,6,32,7],[29,6,29,7],[27,0,27,1],[27,2,27,3],[27,4,27,5],[27,6,27,7],[30,2,30,3],[30,4,30,5],[30,6,30,7],[37,8,37,9],[36,8,36,9],[37,6,37,7],[36,6,36,7],[35,8,35,9],[35,6,35,7],[10,8,10,9],[11,8,11,9],[12,8,12,9],[31,8,31,9],[29,8,29,9],[32,8,32,9],[30,8,30,9],[26,8,26,9],[23,6,23,7],[23,8,23,9],[24,8,24,9],[20,8,20,9],[18,8,18,9],[13,8,13,9],[33,8,33,9],[34,6,34,7],[34,8,34,9],[33,6,33,7]]}
["Wochenplan für die",null,{"$f":"'Daten Jahr'!A29","v":27},"Woche des Schuljahres",null,null,{"$f":"Stundenplan!C1","v":"2013-2014"},null,{"$f":"Stundenplan!$F$1","v":"3/4"}]
["Mo:",{"$f":"Start!F96","v":"2014-04-14"},"Di:",{"$f":"B2+1","v":"2014-04-15"},"Mi:",{"$f":"D2+1","v":"2014-04-16"},"Do:",{"$f":"F2+1","v":"2014-04-17"},"Fr:",{"$f":"H2+1","v":"2014-04-18"}]
[{"$f":"Stundenplan!$B$4","v":"Probe 1"},null,{"$f":"Stundenplan!$C$4","v":"Probe 11"},null,{"$f":"Stundenplan!$D$4","v":"Probe 21"},null,{"$f":"Stundenplan!$E$4","v":"Probe 31"},null,{"$f":"Stundenplan!$F$4","v":"Probe 41"}]
[]
[]
[]
[{"$f":"Stundenplan!$B$5","v":"Probe 2"},null,{"$f":"Stundenplan!$C$5","v":"Probe 12"},null,{"$f":"Stundenplan!$D$5","v":"Probe 22"},null,{"$f":"Stundenplan!$E$5","v":"Probe 32"},null,{"$f":"Stundenplan!$F$5","v":"Probe 42"}]
[]
[]
[]
[{"$f":"Stundenplan!$B$6","v":"Probe 3"},null,{"$f":"Stundenplan!$C$6","v":"Probe 13"},null,{"$f":"Stundenplan!$D$6","v":"Probe 23"},null,{"$f":"Stundenplan!$E$6","v":"Probe 33"},null,{"$f":"Stundenplan!$F$6","v":"Probe 43"}]
[]
[]
[]
[{"$f":"Stundenplan!$B$7","v":"Probe 4"},null,{"$f":"Stundenplan!$C$7","v":"Probe 14"},null,{"$f":"Stundenplan!$D$7","v":"Probe 24"},null,{"$f":"Stundenplan!$E$7","v":"Probe 34"},null,{"$f":"Stundenplan!$F$7","v":"Probe 44"}]
[]
[]
[]
[{"$f":"Stundenplan!$B$8","v":"Probe 5"},null,{"$f":"Stundenplan!$C$8","v":"Probe 15"},null,{"$f":"Stundenplan!$D$8","v":"Probe 25"},null,{"$f":"Stundenplan!$E$8","v":"Probe 35"},null,{"$f":"Stundenplan!$F$8","v":"Probe 45"}]
[]
[]
[]
[{"$f":"Stundenplan!$B$10","v":"Probe 6"},null,{"$f":"Stundenplan!$C$10","v":"Probe 16"},null,{"$f":"Stundenplan!$D$10","v":"Probe 26"},null,{"$f":"Stundenplan!$E$10","v":"Probe 36"},null,{"$f":"Stundenplan!$F$10","v":"Probe 46"}]
[]
[]
[]
[{"$f":"Stundenplan!$B$11","v":"Probe 7"},null,{"$f":"Stundenplan!$C$11","v":"Probe 17"},null,{"$f":"Stundenplan!$D$11","v":"Probe 27"},null,{"$f":"Stundenplan!$E$11","v":"Probe 37"},null,{"$f":"Stundenplan!$F$11","v":"Probe 47"}]
[]
[]
[]
[{"$f":"Stundenplan!$B$12","v":"Probe 8"},null,{"$f":"Stundenplan!$C$12","v":"Probe 18"},null,{"$f":"Stundenplan!$D$12","v":"Probe 28"},null,{"$f":"Stundenplan!$E$12","v":"Probe 38"},null,{"$f":"Stundenplan!$F$12","v":"Probe 48"}]
[]
[]
[]
[{"$f":"Stundenplan!$B$13","v":"Notizen"},null,{"$f":"Stundenplan!$C$13","v":"Notizen"},null,{"$f":"Stundenplan!$D$13","v":"Notizen"},null,{"$f":"Stundenplan!$E$13","v":"Notizen"},null,{"$f":"Stundenplan!$F$13","v":"Notizen"}]

{"sheet":"Wo 28","index":54,"n_rows":35,"n_cols":10,"rows_kept":35,"cut":false,"hidden":false,"merged":[[35,0,35,1],[35,2,35,3],[35,4,35,5],[35,6,35,7],[33,8,33,9],[34,0,34,1],[34,2,34,3],[34,4,34,5],[34,6,34,7],[34,8,34,9],[33,0,33,1],[33,2,33,3],[33,4,33,5],[33,6,33,7],[35,8,35,9],[32,0,32,1],[32,2,32,3],[32,4,32,5],[31,0,31,1],[31,2,31,3],[31,4,31,5],[31,6,31,7],[31,8,31,9],[30,0,30,1],[30,2,30,3],[30,4,30,5],[32,6,32,7],[30,8,30,9],[29,0,29,1],[29,2,29,3],[29,4,29,5],[29,6,29,7],[27,8,27,9],[28,0,28,1],[28,2,28,3],[28,4,28,5],[28,6,28,7],[29,8,29,9],[28,8,28,9],[25,2,25,3],[25,4,25,5],[25,6,25,7],[24,8,24,9],[24,0,24,1],[24,2,24,3],[24,4,24,5],[24,6,24,7],[27,0,27,1],[27,2,27,3],[27,4,27,5],[27,6,27,7],[25,8,25,9],[26,0,26,1],[26,2,26,3],[26,4,26,5],[26,6,26,7],[25,0,25,1],[26,8,26,9],[23,0,23,1],[23,2,23,3],[23,4,23,5],[23,6,23,7],[23,8,23,9],[22,0,22,1],[22,2,22,3],[22,4,22,5],[22,6,22,7],[22,8,22,9],[2,0,2,1],[2,2,2,3],[2,4,2,5],[2,6,2,7],[2,8,2,9],[13,0,13,1],[13,2,13,3],[13,4,13,5],[13,6,13,7],[6,8,6,9],[7,0,7,1],[7,2,7,3],[7,4,7,5],[7,6,7,7],[7,8,7,9],[9,0,9,1],[9,2,9,3],[9,4,9,5],[9,6,9,7],[13,8,13,9],[8,8,8,9],[8,0,8,1],[8,2,8,3],[8,4,8,5],[36,0,36,1],[37,0,37,1],[37,2,37,3],[36,2,36,3],[37,4,37,5],[36,4,36,5],[37,6,37,7],[36,6,36,7],[15,4,15,5],[19,0,19,1],[19,2,19,3],[19,4,19,5],[19,6,19,7],[18,0,18,1],[18,2,18,3],[18,4,18,5],[18,6,18,7],[21,0,21,1],[21,2,21,3],[21,4,21,5],[21,6,21,7],[20,0,20,1],[20,2,20,3],[20,4,20,5],[3,0,3,1],[3,2,3,3],[3,4,3,5],[3,6,3,7],[16,0,16,1],[16,2,16,3],[16,4,16,5],[16,6,16,7],[15,0,15,1],[15,2,15,3],[5,0,5,1],[5,2,5,3],[5,4,5,5],[5,6,5,7],[4,0,4,1],[4,2,4,3],[4,4,4,5],[4,6,4,7],[6,0,6,1],[6,2,6,3],[6,4,6,5],[6,6,6,7],[14,0,14,1],[14,2,14,3],[17,0,17,1],[17,2,17,3],[17,4,17,5],[17,6,17,7],[10,0,10,1],[11,0,11,1],[12,0,12,1],[12,2,12,3],[11,2,11,3],[14,4,14,5],[14,6,14,7],[10,2,10,3],[10,4,10,5],[11,4,11,5],[0,6,0,7],[0,3,0,5],[10,8,10,9],[11,8,11,9],[15,6,15,7],[5,8,5,9],[3,8,3,9],[4,8,4,9],[0,8,0,9],[14,8,14,9],[8,6,8,7],[9,8,9,9],[12,8,12,9],[12,4,12,5],[10,6,10,7],[11,6,11,7],[12,6,12,7],[20,6,20,7],[30,6,30,7],[32,8,32,9],[21,8,21,9],[37,8,37,9],[36,8,36,9],[15,8,15,9],[16,8,16,9],[17,8,17,9],[19,8,19,9],[18,8,18,9],[20,8,20,9]]}
["Wochenplan für die",null,{"$f":"'Daten Jahr'!A30","v":28},"Woche des Schuljahres",null,null,{"$f":"Stundenplan!C1","v":"2013-2014"},null,{"$f":"Stundenplan!$F$1","v":"3/4"}]
["Mo:",{"$f":"Start!F97","v":"2014-04-21"},"Di:",{"$f":"B2+1","v":"2014-04-22"},"Mi:",{"$f":"D2+1","v":"2014-04-23"},"Do:",{"$f":"F2+1","v":"2014-04-24"},"Fr:",{"$f":"H2+1","v":"2014-04-25"}]
[{"$f":"Stundenplan!$B$4","v":"Probe 1"},null,{"$f":"Stundenplan!$C$4","v":"Probe 11"},null,{"$f":"Stundenplan!$D$4","v":"Probe 21"},null,{"$f":"Stundenplan!$E$4","v":"Probe 31"},null,{"$f":"Stundenplan!$F$4","v":"Probe 41"}]
[]
[]
[]
[{"$f":"Stundenplan!$B$5","v":"Probe 2"},null,{"$f":"Stundenplan!$C$5","v":"Probe 12"},null,{"$f":"Stundenplan!$D$5","v":"Probe 22"},null,{"$f":"Stundenplan!$E$5","v":"Probe 32"},null,{"$f":"Stundenplan!$F$5","v":"Probe 42"}]
[]
[]
[]
[{"$f":"Stundenplan!$B$6","v":"Probe 3"},null,{"$f":"Stundenplan!$C$6","v":"Probe 13"},null,{"$f":"Stundenplan!$D$6","v":"Probe 23"},null,{"$f":"Stundenplan!$E$6","v":"Probe 33"},null,{"$f":"Stundenplan!$F$6","v":"Probe 43"}]
[]
[]
[]
[{"$f":"Stundenplan!$B$7","v":"Probe 4"},null,{"$f":"Stundenplan!$C$7","v":"Probe 14"},null,{"$f":"Stundenplan!$D$7","v":"Probe 24"},null,{"$f":"Stundenplan!$E$7","v":"Probe 34"},null,{"$f":"Stundenplan!$F$7","v":"Probe 44"}]
[]
[]
[]
[{"$f":"Stundenplan!$B$8","v":"Probe 5"},null,{"$f":"Stundenplan!$C$8","v":"Probe 15"},null,{"$f":"Stundenplan!$D$8","v":"Probe 25"},null,{"$f":"Stundenplan!$E$8","v":"Probe 35"},null,{"$f":"Stundenplan!$F$8","v":"Probe 45"}]
[]
[]
[]
[{"$f":"Stundenplan!$B$10","v":"Probe 6"},null,{"$f":"Stundenplan!$C$10","v":"Probe 16"},null,{"$f":"Stundenplan!$D$10","v":"Probe 26"},null,{"$f":"Stundenplan!$E$10","v":"Probe 36"},null,{"$f":"Stundenplan!$F$10","v":"Probe 46"}]
[]
[]
[]
[{"$f":"Stundenplan!$B$11","v":"Probe 7"},null,{"$f":"Stundenplan!$C$11","v":"Probe 17"},null,{"$f":"Stundenplan!$D$11","v":"Probe 27"},null,{"$f":"Stundenplan!$E$11","v":"Probe 37"},null,{"$f":"Stundenplan!$F$11","v":"Probe 47"}]
[]
[]
[]
[{"$f":"Stundenplan!$B$12","v":"Probe 8"},null,{"$f":"Stundenplan!$C$12","v":"Probe 18"},null,{"$f":"Stundenplan!$D$12","v":"Probe 28"},null,{"$f":"Stundenplan!$E$12","v":"Probe 38"},null,{"$f":"Stundenplan!$F$12","v":"Probe 48"}]
[]
[]
[]
[{"$f":"Stundenplan!$B$13","v":"Notizen"},null,{"$f":"Stundenplan!$C$13","v":"Notizen"},null,{"$f":"Stundenplan!$D$13","v":"Notizen"},null,{"$f":"Stundenplan!$E$13","v":"Notizen"},null,{"$f":"Stundenplan!$F$13","v":"Notizen"}]

{"sheet":"Wo 29","index":55,"n_rows":35,"n_cols":10,"rows_kept":35,"cut":false,"hidden":false,"merged":[[0,8,0,9],[2,0,2,1],[2,2,2,3],[2,4,2,5],[2,6,2,7],[2,8,2,9],[0,6,0,7],[0,3,0,5],[3,8,3,9],[4,0,4,1],[4,2,4,3],[4,4,4,5],[4,6,4,7],[4,8,4,9],[3,0,3,1],[3,2,3,3],[3,4,3,5],[3,6,3,7],[5,8,5,9],[6,0,6,1],[6,2,6,3],[6,4,6,5],[6,6,6,7],[8,8,8,9],[8,0,8,1],[8,2,8,3],[8,4,8,5],[8,6,8,7],[5,0,5,1],[5,2,5,3],[5,4,5,5],[5,6,5,7],[6,8,6,9],[7,0,7,1],[7,2,7,3],[7,4,7,5],[7,6,7,7],[7,8,7,9],[9,8,9,9],[14,0,14,1],[14,2,14,3],[14,4,14,5],[14,6,14,7],[14,8,14,9],[9,0,9,1],[9,2,9,3],[9,4,9,5],[9,6,9,7],[12,4,12,5],[10,6,10,7],[11,6,11,7],[12,6,12,7],[18,6,18,7],[17,0,17,1],[17,2,17,3],[17,4,17,5],[17,6,17,7],[17,8,17,9],[13,0,13,1],[13,2,13,3],[13,4,13,5],[13,6,13,7],[15,8,15,9],[16,0,16,1],[16,2,16,3],[16,4,16,5],[16,6,16,7],[16,8,16,9],[15,0,15,1],[15,2,15,3],[15,4,15,5],[15,6,15,7],[20,6,20,7],[21,8,21,9],[21,0,21,1],[21,2,21,3],[21,4,21,5],[21,6,21,7],[19,0,19,1],[19,2,19,3],[19,4,19,5],[19,6,19,7],[19,8,19,9],[28,8,28,9],[22,0,22,1],[22,2,22,3],[22,4,22,5],[22,6,22,7],[26,0,26,1],[26,2,26,3],[26,4,26,5],[26,6,26,7],[24,0,24,1],[24,2,24,3],[24,4,24,5],[24,6,24,7],[22,8,22,9],[23,0,23,1],[23,2,23,3],[23,4,23,5],[25,8,25,9],[27,8,27,9],[25,6,25,7],[28,6,28,7],[37,0,37,1],[37,2,37,3],[36,2,36,3],[37,4,37,5],[36,4,36,5],[35,0,35,1],[35,2,35,3],[35,4,35,5],[10,0,10,1],[11,0,11,1],[12,0,12,1],[12,2,12,3],[11,2,11,3],[10,2,10,3],[31,0,31,1],[31,2,31,3],[31,4,31,5],[30,0,30,1],[32,0,32,1],[32,2,32,3],[32,4,32,5],[29,0,29,1],[29,2,29,3],[29,4,29,5],[36,0,36,1],[34,0,34,1],[34,2,34,3],[34,4,34,5],[33,0,33,1],[33,2,33,3],[33,4,33,5],[10,4,10,5],[11,4,11,5],[25,0,25,1],[25,2,25,3],[25,4,25,5],[20,0,20,1],[20,2,20,3],[20,4,20,5],[18,0,18,1],[18,2,18,3],[18,4,18,5],[28,0,28,1],[28,2,28,3],[28,4,28,5],[31,6,31,7],[32,6,32,7],[29,6,29,7],[27,0,27,1],[27,2,27,3],[27,4,27,5],[27,6,27,7],[30,2,30,3],[30,4,30,5],[30,6,30,7],[37,8,37,9],[36,8,36,9],[37,6,37,7],[36,6,36,7],[35,8,35,9],[35,6,35,7],[10,8,10,9],[11,8,11,9],[12,8,12,9],[31,8,31,9],[29,8,29,9],[32,8,32,9],[30,8,30,9],[26,8,26,9],[23,6,23,7],[23,8,23,9],[24,8,24,9],[20,8,20,9],[18,8,18,9],[13,8,13,9],[33,8,33,9],[34,6,34,7],[34,8,34,9],[33,6,33,7]]}
["Wochenplan für die",null,{"$f":"'Daten Jahr'!A31","v":29},"Woche des Schuljahres",null,null,{"$f":"Stundenplan!C1","v":"2013-2014"},null,{"$f":"Stundenplan!$F$1","v":"3/4"}]
["Mo:",{"$f":"Start!F98","v":"2014-04-28"},"Di:",{"$f":"B2+1","v":"2014-04-29"},"Mi:",{"$f":"D2+1","v":"2014-04-30"},"Do:",{"$f":"F2+1","v":"2014-05-01"},"Fr:",{"$f":"H2+1","v":"2014-05-02"}]
[{"$f":"Stundenplan!$B$4","v":"Probe 1"},null,{"$f":"Stundenplan!$C$4","v":"Probe 11"},null,{"$f":"Stundenplan!$D$4","v":"Probe 21"},null,{"$f":"Stundenplan!$E$4","v":"Probe 31"},null,{"$f":"Stundenplan!$F$4","v":"Probe 41"}]
[]
[]
[]
[{"$f":"Stundenplan!$B$5","v":"Probe 2"},null,{"$f":"Stundenplan!$C$5","v":"Probe 12"},null,{"$f":"Stundenplan!$D$5","v":"Probe 22"},null,{"$f":"Stundenplan!$E$5","v":"Probe 32"},null,{"$f":"Stundenplan!$F$5","v":"Probe 42"}]
[]
[]
[]
[{"$f":"Stundenplan!$B$6","v":"Probe 3"},null,{"$f":"Stundenplan!$C$6","v":"Probe 13"},null,{"$f":"Stundenplan!$D$6","v":"Probe 23"},null,{"$f":"Stundenplan!$E$6","v":"Probe 33"},null,{"$f":"Stundenplan!$F$6","v":"Probe 43"}]
[]
[]
[]
[{"$f":"Stundenplan!$B$7","v":"Probe 4"},null,{"$f":"Stundenplan!$C$7","v":"Probe 14"},null,{"$f":"Stundenplan!$D$7","v":"Probe 24"},null,{"$f":"Stundenplan!$E$7","v":"Probe 34"},null,{"$f":"Stundenplan!$F$7","v":"Probe 44"}]
[]
[]
[]
[{"$f":"Stundenplan!$B$8","v":"Probe 5"},null,{"$f":"Stundenplan!$C$8","v":"Probe 15"},null,{"$f":"Stundenplan!$D$8","v":"Probe 25"},null,{"$f":"Stundenplan!$E$8","v":"Probe 35"},null,{"$f":"Stundenplan!$F$8","v":"Probe 45"}]
[]
[]
[]
[{"$f":"Stundenplan!$B$10","v":"Probe 6"},null,{"$f":"Stundenplan!$C$10","v":"Probe 16"},null,{"$f":"Stundenplan!$D$10","v":"Probe 26"},null,{"$f":"Stundenplan!$E$10","v":"Probe 36"},null,{"$f":"Stundenplan!$F$10","v":"Probe 46"}]
[]
[]
[]
[{"$f":"Stundenplan!$B$11","v":"Probe 7"},null,{"$f":"Stundenplan!$C$11","v":"Probe 17"},null,{"$f":"Stundenplan!$D$11","v":"Probe 27"},null,{"$f":"Stundenplan!$E$11","v":"Probe 37"},null,{"$f":"Stundenplan!$F$11","v":"Probe 47"}]
[]
[]
[]
[{"$f":"Stundenplan!$B$12","v":"Probe 8"},null,{"$f":"Stundenplan!$C$12","v":"Probe 18"},null,{"$f":"Stundenplan!$D$12","v":"Probe 28"},null,{"$f":"Stundenplan!$E$12","v":"Probe 38"},null,{"$f":"Stundenplan!$F$12","v":"Probe 48"}]
[]
[]
[]
[{"$f":"Stundenplan!$B$13","v":"Notizen"},null,{"$f":"Stundenplan!$C$13","v":"Notizen"},null,{"$f":"Stundenplan!$D$13","v":"Notizen"},null,{"$f":"Stundenplan!$E$13","v":"Notizen"},null,{"$f":"Stundenplan!$F$13","v":"Notizen"}]

{"sheet":"Wo 30","index":56,"n_rows":35,"n_cols":10,"rows_kept":35,"cut":false,"hidden":false,"merged":[[35,0,35,1],[35,2,35,3],[35,4,35,5],[35,6,35,7],[33,8,33,9],[34,0,34,1],[34,2,34,3],[34,4,34,5],[34,6,34,7],[34,8,34,9],[33,0,33,1],[33,2,33,3],[33,4,33,5],[33,6,33,7],[35,8,35,9],[32,0,32,1],[32,2,32,3],[32,4,32,5],[31,0,31,1],[31,2,31,3],[31,4,31,5],[31,6,31,7],[31,8,31,9],[30,0,30,1],[30,2,30,3],[30,4,30,5],[32,6,32,7],[30,8,30,9],[29,0,29,1],[29,2,29,3],[29,4,29,5],[29,6,29,7],[27,8,27,9],[28,0,28,1],[28,2,28,3],[28,4,28,5],[28,6,28,7],[29,8,29,9],[28,8,28,9],[25,2,25,3],[25,4,25,5],[25,6,25,7],[24,8,24,9],[24,0,24,1],[24,2,24,3],[24,4,24,5],[24,6,24,7],[27,0,27,1],[27,2,27,3],[27,4,27,5],[27,6,27,7],[25,8,25,9],[26,0,26,1],[26,2,26,3],[26,4,26,5],[26,6,26,7],[25,0,25,1],[26,8,26,9],[23,0,23,1],[23,2,23,3],[23,4,23,5],[23,6,23,7],[23,8,23,9],[22,0,22,1],[22,2,22,3],[22,4,22,5],[22,6,22,7],[22,8,22,9],[2,0,2,1],[2,2,2,3],[2,4,2,5],[2,6,2,7],[2,8,2,9],[13,0,13,1],[13,2,13,3],[13,4,13,5],[13,6,13,7],[6,8,6,9],[7,0,7,1],[7,2,7,3],[7,4,7,5],[7,6,7,7],[7,8,7,9],[9,0,9,1],[9,2,9,3],[9,4,9,5],[9,6,9,7],[13,8,13,9],[8,8,8,9],[8,0,8,1],[8,2,8,3],[8,4,8,5],[36,0,36,1],[37,0,37,1],[37,2,37,3],[36,2,36,3],[37,4,37,5],[36,4,36,5],[37,6,37,7],[36,6,36,7],[15,4,15,5],[19,0,19,1],[19,2,19,3],[19,4,19,5],[19,6,19,7],[18,0,18,1],[18,2,18,3],[18,4,18,5],[18,6,18,7],[21,0,21,1],[21,2,21,3],[21,4,21,5],[21,6,21,7],[20,0,20,1],[20,2,20,3],[20,4,20,5],[3,0,3,1],[3,2,3,3],[3,4,3,5],[3,6,3,7],[16,0,16,1],[16,2,16,3],[16,4,16,5],[16,6,16,7],[15,0,15,1],[15,2,15,3],[5,0,5,1],[5,2,5,3],[5,4,5,5],[5,6,5,7],[4,0,4,1],[4,2,4,3],[4,4,4,5],[4,6,4,7],[6,0,6,1],[6,2,6,3],[6,4,6,5],[6,6,6,7],[14,0,14,1],[14,2,14,3],[17,0,17,1],[17,2,17,3],[17,4,17,5],[17,6,17,7],[10,0,10,1],[11,0,11,1],[12,0,12,1],[12,2,12,3],[11,2,11,3],[14,4,14,5],[14,6,14,7],[10,2,10,3],[10,4,10,5],[11,4,11,5],[0,6,0,7],[0,3,0,5],[10,8,10,9],[11,8,11,9],[15,6,15,7],[5,8,5,9],[3,8,3,9],[4,8,4,9],[0,8,0,9],[14,8,14,9],[8,6,8,7],[9,8,9,9],[12,8,12,9],[12,4,12,5],[10,6,10,7],[11,6,11,7],[12,6,12,7],[20,6,20,7],[30,6,30,7],[32,8,32,9],[21,8,21,9],[37,8,37,9],[36,8,36,9],[15,8,15,9],[16,8,16,9],[17,8,17,9],[19,8,19,9],[18,8,18,9],[20,8,20,9]]}
["Wochenplan für die",null,{"$f":"'Daten Jahr'!A32","v":30},"Woche des Schuljahres",null,null,{"$f":"Stundenplan!C1","v":"2013-2014"},null,{"$f":"Stundenplan!$F$1","v":"3/4"}]
["Mo:",{"$f":"Start!F99","v":"2014-05-05"},"Di:",{"$f":"B2+1","v":"2014-05-06"},"Mi:",{"$f":"D2+1","v":"2014-05-07"},"Do:",{"$f":"F2+1","v":"2014-05-08"},"Fr:",{"$f":"H2+1","v":"2014-05-09"}]
[{"$f":"Stundenplan!$B$4","v":"Probe 1"},null,{"$f":"Stundenplan!$C$4","v":"Probe 11"},null,{"$f":"Stundenplan!$D$4","v":"Probe 21"},null,{"$f":"Stundenplan!$E$4","v":"Probe 31"},null,{"$f":"Stundenplan!$F$4","v":"Probe 41"}]
[]
[]
[]
[{"$f":"Stundenplan!$B$5","v":"Probe 2"},null,{"$f":"Stundenplan!$C$5","v":"Probe 12"},null,{"$f":"Stundenplan!$D$5","v":"Probe 22"},null,{"$f":"Stundenplan!$E$5","v":"Probe 32"},null,{"$f":"Stundenplan!$F$5","v":"Probe 42"}]
[]
[]
[]
[{"$f":"Stundenplan!$B$6","v":"Probe 3"},null,{"$f":"Stundenplan!$C$6","v":"Probe 13"},null,{"$f":"Stundenplan!$D$6","v":"Probe 23"},null,{"$f":"Stundenplan!$E$6","v":"Probe 33"},null,{"$f":"Stundenplan!$F$6","v":"Probe 43"}]
[]
[]
[]
[{"$f":"Stundenplan!$B$7","v":"Probe 4"},null,{"$f":"Stundenplan!$C$7","v":"Probe 14"},null,{"$f":"Stundenplan!$D$7","v":"Probe 24"},null,{"$f":"Stundenplan!$E$7","v":"Probe 34"},null,{"$f":"Stundenplan!$F$7","v":"Probe 44"}]
[]
[]
[]
[{"$f":"Stundenplan!$B$8","v":"Probe 5"},null,{"$f":"Stundenplan!$C$8","v":"Probe 15"},null,{"$f":"Stundenplan!$D$8","v":"Probe 25"},null,{"$f":"Stundenplan!$E$8","v":"Probe 35"},null,{"$f":"Stundenplan!$F$8","v":"Probe 45"}]
[]
[]
[]
[{"$f":"Stundenplan!$B$10","v":"Probe 6"},null,{"$f":"Stundenplan!$C$10","v":"Probe 16"},null,{"$f":"Stundenplan!$D$10","v":"Probe 26"},null,{"$f":"Stundenplan!$E$10","v":"Probe 36"},null,{"$f":"Stundenplan!$F$10","v":"Probe 46"}]
[]
[]
[]
[{"$f":"Stundenplan!$B$11","v":"Probe 7"},null,{"$f":"Stundenplan!$C$11","v":"Probe 17"},null,{"$f":"Stundenplan!$D$11","v":"Probe 27"},null,{"$f":"Stundenplan!$E$11","v":"Probe 37"},null,{"$f":"Stundenplan!$F$11","v":"Probe 47"}]
[]
[]
[]
[{"$f":"Stundenplan!$B$12","v":"Probe 8"},null,{"$f":"Stundenplan!$C$12","v":"Probe 18"},null,{"$f":"Stundenplan!$D$12","v":"Probe 28"},null,{"$f":"Stundenplan!$E$12","v":"Probe 38"},null,{"$f":"Stundenplan!$F$12","v":"Probe 48"}]
[]
[]
[]
[{"$f":"Stundenplan!$B$13","v":"Notizen"},null,{"$f":"Stundenplan!$C$13","v":"Notizen"},null,{"$f":"Stundenplan!$D$13","v":"Notizen"},null,{"$f":"Stundenplan!$E$13","v":"Notizen"},null,{"$f":"Stundenplan!$F$13","v":"Notizen"}]

{"sheet":"Wo 31","index":57,"n_rows":35,"n_cols":10,"rows_kept":35,"cut":false,"hidden":false,"merged":[[0,8,0,9],[2,0,2,1],[2,2,2,3],[2,4,2,5],[2,6,2,7],[2,8,2,9],[0,6,0,7],[0,3,0,5],[3,8,3,9],[4,0,4,1],[4,2,4,3],[4,4,4,5],[4,6,4,7],[4,8,4,9],[3,0,3,1],[3,2,3,3],[3,4,3,5],[3,6,3,7],[5,8,5,9],[6,0,6,1],[6,2,6,3],[6,4,6,5],[6,6,6,7],[8,8,8,9],[8,0,8,1],[8,2,8,3],[8,4,8,5],[8,6,8,7],[5,0,5,1],[5,2,5,3],[5,4,5,5],[5,6,5,7],[6,8,6,9],[7,0,7,1],[7,2,7,3],[7,4,7,5],[7,6,7,7],[7,8,7,9],[9,8,9,9],[14,0,14,1],[14,2,14,3],[14,4,14,5],[14,6,14,7],[14,8,14,9],[9,0,9,1],[9,2,9,3],[9,4,9,5],[9,6,9,7],[12,4,12,5],[10,6,10,7],[11,6,11,7],[12,6,12,7],[18,6,18,7],[17,0,17,1],[17,2,17,3],[17,4,17,5],[17,6,17,7],[17,8,17,9],[13,0,13,1],[13,2,13,3],[13,4,13,5],[13,6,13,7],[15,8,15,9],[16,0,16,1],[16,2,16,3],[16,4,16,5],[16,6,16,7],[16,8,16,9],[15,0,15,1],[15,2,15,3],[15,4,15,5],[15,6,15,7],[20,6,20,7],[21,8,21,9],[21,0,21,1],[21,2,21,3],[21,4,21,5],[21,6,21,7],[19,0,19,1],[19,2,19,3],[19,4,19,5],[19,6,19,7],[19,8,19,9],[28,8,28,9],[22,0,22,1],[22,2,22,3],[22,4,22,5],[22,6,22,7],[26,0,26,1],[26,2,26,3],[26,4,26,5],[26,6,26,7],[24,0,24,1],[24,2,24,3],[24,4,24,5],[24,6,24,7],[22,8,22,9],[23,0,23,1],[23,2,23,3],[23,4,23,5],[25,8,25,9],[27,8,27,9],[25,6,25,7],[28,6,28,7],[37,0,37,1],[37,2,37,3],[36,2,36,3],[37,4,37,5],[36,4,36,5],[35,0,35,1],[35,2,35,3],[35,4,35,5],[10,0,10,1],[11,0,11,1],[12,0,12,1],[12,2,12,3],[11,2,11,3],[10,2,10,3],[31,0,31,1],[31,2,31,3],[31,4,31,5],[30,0,30,1],[32,0,32,1],[32,2,32,3],[32,4,32,5],[29,0,29,1],[29,2,29,3],[29,4,29,5],[36,0,36,1],[34,0,34,1],[34,2,34,3],[34,4,34,5],[33,0,33,1],[33,2,33,3],[33,4,33,5],[10,4,10,5],[11,4,11,5],[25,0,25,1],[25,2,25,3],[25,4,25,5],[20,0,20,1],[20,2,20,3],[20,4,20,5],[18,0,18,1],[18,2,18,3],[18,4,18,5],[28,0,28,1],[28,2,28,3],[28,4,28,5],[31,6,31,7],[32,6,32,7],[29,6,29,7],[27,0,27,1],[27,2,27,3],[27,4,27,5],[27,6,27,7],[30,2,30,3],[30,4,30,5],[30,6,30,7],[37,8,37,9],[36,8,36,9],[37,6,37,7],[36,6,36,7],[35,8,35,9],[35,6,35,7],[10,8,10,9],[11,8,11,9],[12,8,12,9],[31,8,31,9],[29,8,29,9],[32,8,32,9],[30,8,30,9],[26,8,26,9],[23,6,23,7],[23,8,23,9],[24,8,24,9],[20,8,20,9],[18,8,18,9],[13,8,13,9],[33,8,33,9],[34,6,34,7],[34,8,34,9],[33,6,33,7]]}
["Wochenplan für die",null,{"$f":"'Daten Jahr'!A33","v":31},"Woche des Schuljahres",null,null,{"$f":"Stundenplan!C1","v":"2013-2014"},null,{"$f":"Stundenplan!$F$1","v":"3/4"}]
["Mo:",{"$f":"Start!F100","v":"2014-05-12"},"Di:",{"$f":"B2+1","v":"2014-05-13"},"Mi:",{"$f":"D2+1","v":"2014-05-14"},"Do:",{"$f":"F2+1","v":"2014-05-15"},"Fr:",{"$f":"H2+1","v":"2014-05-16"}]
[{"$f":"Stundenplan!$B$4","v":"Probe 1"},null,{"$f":"Stundenplan!$C$4","v":"Probe 11"},null,{"$f":"Stundenplan!$D$4","v":"Probe 21"},null,{"$f":"Stundenplan!$E$4","v":"Probe 31"},null,{"$f":"Stundenplan!$F$4","v":"Probe 41"}]
[]
[]
[]
[{"$f":"Stundenplan!$B$5","v":"Probe 2"},null,{"$f":"Stundenplan!$C$5","v":"Probe 12"},null,{"$f":"Stundenplan!$D$5","v":"Probe 22"},null,{"$f":"Stundenplan!$E$5","v":"Probe 32"},null,{"$f":"Stundenplan!$F$5","v":"Probe 42"}]
[]
[]
[]
[{"$f":"Stundenplan!$B$6","v":"Probe 3"},null,{"$f":"Stundenplan!$C$6","v":"Probe 13"},null,{"$f":"Stundenplan!$D$6","v":"Probe 23"},null,{"$f":"Stundenplan!$E$6","v":"Probe 33"},null,{"$f":"Stundenplan!$F$6","v":"Probe 43"}]
[]
[]
[]
[{"$f":"Stundenplan!$B$7","v":"Probe 4"},null,{"$f":"Stundenplan!$C$7","v":"Probe 14"},null,{"$f":"Stundenplan!$D$7","v":"Probe 24"},null,{"$f":"Stundenplan!$E$7","v":"Probe 34"},null,{"$f":"Stundenplan!$F$7","v":"Probe 44"}]
[]
[]
[]
[{"$f":"Stundenplan!$B$8","v":"Probe 5"},null,{"$f":"Stundenplan!$C$8","v":"Probe 15"},null,{"$f":"Stundenplan!$D$8","v":"Probe 25"},null,{"$f":"Stundenplan!$E$8","v":"Probe 35"},null,{"$f":"Stundenplan!$F$8","v":"Probe 45"}]
[]
[]
[]
[{"$f":"Stundenplan!$B$10","v":"Probe 6"},null,{"$f":"Stundenplan!$C$10","v":"Probe 16"},null,{"$f":"Stundenplan!$D$10","v":"Probe 26"},null,{"$f":"Stundenplan!$E$10","v":"Probe 36"},null,{"$f":"Stundenplan!$F$10","v":"Probe 46"}]
[]
[]
[]
[{"$f":"Stundenplan!$B$11","v":"Probe 7"},null,{"$f":"Stundenplan!$C$11","v":"Probe 17"},null,{"$f":"Stundenplan!$D$11","v":"Probe 27"},null,{"$f":"Stundenplan!$E$11","v":"Probe 37"},null,{"$f":"Stundenplan!$F$11","v":"Probe 47"}]
[]
[]
[]
[{"$f":"Stundenplan!$B$12","v":"Probe 8"},null,{"$f":"Stundenplan!$C$12","v":"Probe 18"},null,{"$f":"Stundenplan!$D$12","v":"Probe 28"},null,{"$f":"Stundenplan!$E$12","v":"Probe 38"},null,{"$f":"Stundenplan!$F$12","v":"Probe 48"}]
[]
[]
[]
[{"$f":"Stundenplan!$B$13","v":"Notizen"},null,{"$f":"Stundenplan!$C$13","v":"Notizen"},null,{"$f":"Stundenplan!$D$13","v":"Notizen"},null,{"$f":"Stundenplan!$E$13","v":"Notizen"},null,{"$f":"Stundenplan!$F$13","v":"Notizen"}]

{"sheet":"Wo 32","index":58,"n_rows":35,"n_cols":10,"rows_kept":35,"cut":false,"hidden":false,"merged":[[35,0,35,1],[35,2,35,3],[35,4,35,5],[35,6,35,7],[33,8,33,9],[34,0,34,1],[34,2,34,3],[34,4,34,5],[34,6,34,7],[34,8,34,9],[33,0,33,1],[33,2,33,3],[33,4,33,5],[33,6,33,7],[35,8,35,9],[32,0,32,1],[32,2,32,3],[32,4,32,5],[31,0,31,1],[31,2,31,3],[31,4,31,5],[31,6,31,7],[31,8,31,9],[30,0,30,1],[30,2,30,3],[30,4,30,5],[32,6,32,7],[30,8,30,9],[29,0,29,1],[29,2,29,3],[29,4,29,5],[29,6,29,7],[27,8,27,9],[28,0,28,1],[28,2,28,3],[28,4,28,5],[28,6,28,7],[29,8,29,9],[28,8,28,9],[25,2,25,3],[25,4,25,5],[25,6,25,7],[24,8,24,9],[24,0,24,1],[24,2,24,3],[24,4,24,5],[24,6,24,7],[27,0,27,1],[27,2,27,3],[27,4,27,5],[27,6,27,7],[25,8,25,9],[26,0,26,1],[26,2,26,3],[26,4,26,5],[26,6,26,7],[25,0,25,1],[26,8,26,9],[23,0,23,1],[23,2,23,3],[23,4,23,5],[23,6,23,7],[23,8,23,9],[22,0,22,1],[22,2,22,3],[22,4,22,5],[22,6,22,7],[22,8,22,9],[2,0,2,1],[2,2,2,3],[2,4,2,5],[2,6,2,7],[2,8,2,9],[13,0,13,1],[13,2,13,3],[13,4,13,5],[13,6,13,7],[6,8,6,9],[7,0,7,1],[7,2,7,3],[7,4,7,5],[7,6,7,7],[7,8,7,9],[9,0,9,1],[9,2,9,3],[9,4,9,5],[9,6,9,7],[13,8,13,9],[8,8,8,9],[8,0,8,1],[8,2,8,3],[8,4,8,5],[36,0,36,1],[37,0,37,1],[37,2,37,3],[36,2,36,3],[37,4,37,5],[36,4,36,5],[37,6,37,7],[36,6,36,7],[15,4,15,5],[19,0,19,1],[19,2,19,3],[19,4,19,5],[19,6,19,7],[18,0,18,1],[18,2,18,3],[18,4,18,5],[18,6,18,7],[21,0,21,1],[21,2,21,3],[21,4,21,5],[21,6,21,7],[20,0,20,1],[20,2,20,3],[20,4,20,5],[3,0,3,1],[3,2,3,3],[3,4,3,5],[3,6,3,7],[16,0,16,1],[16,2,16,3],[16,4,16,5],[16,6,16,7],[15,0,15,1],[15,2,15,3],[5,0,5,1],[5,2,5,3],[5,4,5,5],[5,6,5,7],[4,0,4,1],[4,2,4,3],[4,4,4,5],[4,6,4,7],[6,0,6,1],[6,2,6,3],[6,4,6,5],[6,6,6,7],[14,0,14,1],[14,2,14,3],[17,0,17,1],[17,2,17,3],[17,4,17,5],[17,6,17,7],[10,0,10,1],[11,0,11,1],[12,0,12,1],[12,2,12,3],[11,2,11,3],[14,4,14,5],[14,6,14,7],[10,2,10,3],[10,4,10,5],[11,4,11,5],[0,6,0,7],[0,3,0,5],[10,8,10,9],[11,8,11,9],[15,6,15,7],[5,8,5,9],[3,8,3,9],[4,8,4,9],[0,8,0,9],[14,8,14,9],[8,6,8,7],[9,8,9,9],[12,8,12,9],[12,4,12,5],[10,6,10,7],[11,6,11,7],[12,6,12,7],[20,6,20,7],[30,6,30,7],[32,8,32,9],[21,8,21,9],[37,8,37,9],[36,8,36,9],[15,8,15,9],[16,8,16,9],[17,8,17,9],[19,8,19,9],[18,8,18,9],[20,8,20,9]]}
["Wochenplan für die",null,{"$f":"'Daten Jahr'!A34","v":32},"Woche des Schuljahres",null,null,{"$f":"Stundenplan!C1","v":"2013-2014"},null,{"$f":"Stundenplan!$F$1","v":"3/4"}]
["Mo:",{"$f":"Start!F101","v":"2014-05-19"},"Di:",{"$f":"B2+1","v":"2014-05-20"},"Mi:",{"$f":"D2+1","v":"2014-05-21"},"Do:",{"$f":"F2+1","v":"2014-05-22"},"Fr:",{"$f":"H2+1","v":"2014-05-23"}]
[{"$f":"Stundenplan!$B$4","v":"Probe 1"},null,{"$f":"Stundenplan!$C$4","v":"Probe 11"},null,{"$f":"Stundenplan!$D$4","v":"Probe 21"},null,{"$f":"Stundenplan!$E$4","v":"Probe 31"},null,{"$f":"Stundenplan!$F$4","v":"Probe 41"}]
[]
[]
[]
[{"$f":"Stundenplan!$B$5","v":"Probe 2"},null,{"$f":"Stundenplan!$C$5","v":"Probe 12"},null,{"$f":"Stundenplan!$D$5","v":"Probe 22"},null,{"$f":"Stundenplan!$E$5","v":"Probe 32"},null,{"$f":"Stundenplan!$F$5","v":"Probe 42"}]
[]
[]
[]
[{"$f":"Stundenplan!$B$6","v":"Probe 3"},null,{"$f":"Stundenplan!$C$6","v":"Probe 13"},null,{"$f":"Stundenplan!$D$6","v":"Probe 23"},null,{"$f":"Stundenplan!$E$6","v":"Probe 33"},null,{"$f":"Stundenplan!$F$6","v":"Probe 43"}]
[]
[]
[]
[{"$f":"Stundenplan!$B$7","v":"Probe 4"},null,{"$f":"Stundenplan!$C$7","v":"Probe 14"},null,{"$f":"Stundenplan!$D$7","v":"Probe 24"},null,{"$f":"Stundenplan!$E$7","v":"Probe 34"},null,{"$f":"Stundenplan!$F$7","v":"Probe 44"}]
[]
[]
[]
[{"$f":"Stundenplan!$B$8","v":"Probe 5"},null,{"$f":"Stundenplan!$C$8","v":"Probe 15"},null,{"$f":"Stundenplan!$D$8","v":"Probe 25"},null,{"$f":"Stundenplan!$E$8","v":"Probe 35"},null,{"$f":"Stundenplan!$F$8","v":"Probe 45"}]
[]
[]
[]
[{"$f":"Stundenplan!$B$10","v":"Probe 6"},null,{"$f":"Stundenplan!$C$10","v":"Probe 16"},null,{"$f":"Stundenplan!$D$10","v":"Probe 26"},null,{"$f":"Stundenplan!$E$10","v":"Probe 36"},null,{"$f":"Stundenplan!$F$10","v":"Probe 46"}]
[]
[]
[]
[{"$f":"Stundenplan!$B$11","v":"Probe 7"},null,{"$f":"Stundenplan!$C$11","v":"Probe 17"},null,{"$f":"Stundenplan!$D$11","v":"Probe 27"},null,{"$f":"Stundenplan!$E$11","v":"Probe 37"},null,{"$f":"Stundenplan!$F$11","v":"Probe 47"}]
[]
[]
[]
[{"$f":"Stundenplan!$B$12","v":"Probe 8"},null,{"$f":"Stundenplan!$C$12","v":"Probe 18"},null,{"$f":"Stundenplan!$D$12","v":"Probe 28"},null,{"$f":"Stundenplan!$E$12","v":"Probe 38"},null,{"$f":"Stundenplan!$F$12","v":"Probe 48"}]
[]
[]
[]
[{"$f":"Stundenplan!$B$13","v":"Notizen"},null,{"$f":"Stundenplan!$C$13","v":"Notizen"},null,{"$f":"Stundenplan!$D$13","v":"Notizen"},null,{"$f":"Stundenplan!$E$13","v":"Notizen"},null,{"$f":"Stundenplan!$F$13","v":"Notizen"}]

{"sheet":"Wo 33","index":59,"n_rows":35,"n_cols":10,"rows_kept":35,"cut":false,"hidden":false,"merged":[[0,8,0,9],[2,0,2,1],[2,2,2,3],[2,4,2,5],[2,6,2,7],[2,8,2,9],[0,6,0,7],[0,3,0,5],[3,8,3,9],[4,0,4,1],[4,2,4,3],[4,4,4,5],[4,6,4,7],[4,8,4,9],[3,0,3,1],[3,2,3,3],[3,4,3,5],[3,6,3,7],[5,8,5,9],[6,0,6,1],[6,2,6,3],[6,4,6,5],[6,6,6,7],[8,8,8,9],[8,0,8,1],[8,2,8,3],[8,4,8,5],[8,6,8,7],[5,0,5,1],[5,2,5,3],[5,4,5,5],[5,6,5,7],[6,8,6,9],[7,0,7,1],[7,2,7,3],[7,4,7,5],[7,6,7,7],[7,8,7,9],[9,8,9,9],[14,0,14,1],[14,2,14,3],[14,4,14,5],[14,6,14,7],[14,8,14,9],[9,0,9,1],[9,2,9,3],[9,4,9,5],[9,6,9,7],[12,4,12,5],[10,6,10,7],[11,6,11,7],[12,6,12,7],[18,6,18,7],[17,0,17,1],[17,2,17,3],[17,4,17,5],[17,6,17,7],[17,8,17,9],[13,0,13,1],[13,2,13,3],[13,4,13,5],[13,6,13,7],[15,8,15,9],[16,0,16,1],[16,2,16,3],[16,4,16,5],[16,6,16,7],[16,8,16,9],[15,0,15,1],[15,2,15,3],[15,4,15,5],[15,6,15,7],[20,6,20,7],[21,8,21,9],[21,0,21,1],[21,2,21,3],[21,4,21,5],[21,6,21,7],[19,0,19,1],[19,2,19,3],[19,4,19,5],[19,6,19,7],[19,8,19,9],[28,8,28,9],[22,0,22,1],[22,2,22,3],[22,4,22,5],[22,6,22,7],[26,0,26,1],[26,2,26,3],[26,4,26,5],[26,6,26,7],[24,0,24,1],[24,2,24,3],[24,4,24,5],[24,6,24,7],[22,8,22,9],[23,0,23,1],[23,2,23,3],[23,4,23,5],[25,8,25,9],[27,8,27,9],[25,6,25,7],[28,6,28,7],[37,0,37,1],[37,2,37,3],[36,2,36,3],[37,4,37,5],[36,4,36,5],[35,0,35,1],[35,2,35,3],[35,4,35,5],[10,0,10,1],[11,0,11,1],[12,0,12,1],[12,2,12,3],[11,2,11,3],[10,2,10,3],[31,0,31,1],[31,2,31,3],[31,4,31,5],[30,0,30,1],[32,0,32,1],[32,2,32,3],[32,4,32,5],[29,0,29,1],[29,2,29,3],[29,4,29,5],[36,0,36,1],[34,0,34,1],[34,2,34,3],[34,4,34,5],[33,0,33,1],[33,2,33,3],[33,4,33,5],[10,4,10,5],[11,4,11,5],[25,0,25,1],[25,2,25,3],[25,4,25,5],[20,0,20,1],[20,2,20,3],[20,4,20,5],[18,0,18,1],[18,2,18,3],[18,4,18,5],[28,0,28,1],[28,2,28,3],[28,4,28,5],[31,6,31,7],[32,6,32,7],[29,6,29,7],[27,0,27,1],[27,2,27,3],[27,4,27,5],[27,6,27,7],[30,2,30,3],[30,4,30,5],[30,6,30,7],[37,8,37,9],[36,8,36,9],[37,6,37,7],[36,6,36,7],[35,8,35,9],[35,6,35,7],[10,8,10,9],[11,8,11,9],[12,8,12,9],[31,8,31,9],[29,8,29,9],[32,8,32,9],[30,8,30,9],[26,8,26,9],[23,6,23,7],[23,8,23,9],[24,8,24,9],[20,8,20,9],[18,8,18,9],[13,8,13,9],[33,8,33,9],[34,6,34,7],[34,8,34,9],[33,6,33,7]]}
["Wochenplan für die",null,{"$f":"'Daten Jahr'!A35","v":33},"Woche des Schuljahres",null,null,{"$f":"Stundenplan!C1","v":"2013-2014"},null,{"$f":"Stundenplan!$F$1","v":"3/4"}]
["Mo:",{"$f":"Start!F102","v":"2014-05-26"},"Di:",{"$f":"B2+1","v":"2014-05-27"},"Mi:",{"$f":"D2+1","v":"2014-05-28"},"Do:",{"$f":"F2+1","v":"2014-05-29"},"Fr:",{"$f":"H2+1","v":"2014-05-30"}]
[{"$f":"Stundenplan!$B$4","v":"Probe 1"},null,{"$f":"Stundenplan!$C$4","v":"Probe 11"},null,{"$f":"Stundenplan!$D$4","v":"Probe 21"},null,{"$f":"Stundenplan!$E$4","v":"Probe 31"},null,{"$f":"Stundenplan!$F$4","v":"Probe 41"}]
[]
[]
[]
[{"$f":"Stundenplan!$B$5","v":"Probe 2"},null,{"$f":"Stundenplan!$C$5","v":"Probe 12"},null,{"$f":"Stundenplan!$D$5","v":"Probe 22"},null,{"$f":"Stundenplan!$E$5","v":"Probe 32"},null,{"$f":"Stundenplan!$F$5","v":"Probe 42"}]
[]
[]
[]
[{"$f":"Stundenplan!$B$6","v":"Probe 3"},null,{"$f":"Stundenplan!$C$6","v":"Probe 13"},null,{"$f":"Stundenplan!$D$6","v":"Probe 23"},null,{"$f":"Stundenplan!$E$6","v":"Probe 33"},null,{"$f":"Stundenplan!$F$6","v":"Probe 43"}]
[]
[]
[]
[{"$f":"Stundenplan!$B$7","v":"Probe 4"},null,{"$f":"Stundenplan!$C$7","v":"Probe 14"},null,{"$f":"Stundenplan!$D$7","v":"Probe 24"},null,{"$f":"Stundenplan!$E$7","v":"Probe 34"},null,{"$f":"Stundenplan!$F$7","v":"Probe 44"}]
[]
[]
[]
[{"$f":"Stundenplan!$B$8","v":"Probe 5"},null,{"$f":"Stundenplan!$C$8","v":"Probe 15"},null,{"$f":"Stundenplan!$D$8","v":"Probe 25"},null,{"$f":"Stundenplan!$E$8","v":"Probe 35"},null,{"$f":"Stundenplan!$F$8","v":"Probe 45"}]
[]
[]
[]
[{"$f":"Stundenplan!$B$10","v":"Probe 6"},null,{"$f":"Stundenplan!$C$10","v":"Probe 16"},null,{"$f":"Stundenplan!$D$10","v":"Probe 26"},null,{"$f":"Stundenplan!$E$10","v":"Probe 36"},null,{"$f":"Stundenplan!$F$10","v":"Probe 46"}]
[]
[]
[]
[{"$f":"Stundenplan!$B$11","v":"Probe 7"},null,{"$f":"Stundenplan!$C$11","v":"Probe 17"},null,{"$f":"Stundenplan!$D$11","v":"Probe 27"},null,{"$f":"Stundenplan!$E$11","v":"Probe 37"},null,{"$f":"Stundenplan!$F$11","v":"Probe 47"}]
[]
[]
[]
[{"$f":"Stundenplan!$B$12","v":"Probe 8"},null,{"$f":"Stundenplan!$C$12","v":"Probe 18"},null,{"$f":"Stundenplan!$D$12","v":"Probe 28"},null,{"$f":"Stundenplan!$E$12","v":"Probe 38"},null,{"$f":"Stundenplan!$F$12","v":"Probe 48"}]
[]
[]
[]
[{"$f":"Stundenplan!$B$13","v":"Notizen"},null,{"$f":"Stundenplan!$C$13","v":"Notizen"},null,{"$f":"Stundenplan!$D$13","v":"Notizen"},null,{"$f":"Stundenplan!$E$13","v":"Notizen"},null,{"$f":"Stundenplan!$F$13","v":"Notizen"}]

{"sheet":"Wo 34","index":60,"n_rows":35,"n_cols":10,"rows_kept":35,"cut":false,"hidden":false,"merged":[[35,0,35,1],[35,2,35,3],[35,4,35,5],[35,6,35,7],[33,8,33,9],[34,0,34,1],[34,2,34,3],[34,4,34,5],[34,6,34,7],[34,8,34,9],[33,0,33,1],[33,2,33,3],[33,4,33,5],[33,6,33,7],[35,8,35,9],[32,0,32,1],[32,2,32,3],[32,4,32,5],[31,0,31,1],[31,2,31,3],[31,4,31,5],[31,6,31,7],[31,8,31,9],[30,0,30,1],[30,2,30,3],[30,4,30,5],[32,6,32,7],[30,8,30,9],[29,0,29,1],[29,2,29,3],[29,4,29,5],[29,6,29,7],[27,8,27,9],[28,0,28,1],[28,2,28,3],[28,4,28,5],[28,6,28,7],[29,8,29,9],[28,8,28,9],[25,2,25,3],[25,4,25,5],[25,6,25,7],[24,8,24,9],[24,0,24,1],[24,2,24,3],[24,4,24,5],[24,6,24,7],[27,0,27,1],[27,2,27,3],[27,4,27,5],[27,6,27,7],[25,8,25,9],[26,0,26,1],[26,2,26,3],[26,4,26,5],[26,6,26,7],[25,0,25,1],[26,8,26,9],[23,0,23,1],[23,2,23,3],[23,4,23,5],[23,6,23,7],[23,8,23,9],[22,0,22,1],[22,2,22,3],[22,4,22,5],[22,6,22,7],[22,8,22,9],[2,0,2,1],[2,2,2,3],[2,4,2,5],[2,6,2,7],[2,8,2,9],[13,0,13,1],[13,2,13,3],[13,4,13,5],[13,6,13,7],[6,8,6,9],[7,0,7,1],[7,2,7,3],[7,4,7,5],[7,6,7,7],[7,8,7,9],[9,0,9,1],[9,2,9,3],[9,4,9,5],[9,6,9,7],[13,8,13,9],[8,8,8,9],[8,0,8,1],[8,2,8,3],[8,4,8,5],[36,0,36,1],[37,0,37,1],[37,2,37,3],[36,2,36,3],[37,4,37,5],[36,4,36,5],[37,6,37,7],[36,6,36,7],[15,4,15,5],[19,0,19,1],[19,2,19,3],[19,4,19,5],[19,6,19,7],[18,0,18,1],[18,2,18,3],[18,4,18,5],[18,6,18,7],[21,0,21,1],[21,2,21,3],[21,4,21,5],[21,6,21,7],[20,0,20,1],[20,2,20,3],[20,4,20,5],[3,0,3,1],[3,2,3,3],[3,4,3,5],[3,6,3,7],[16,0,16,1],[16,2,16,3],[16,4,16,5],[16,6,16,7],[15,0,15,1],[15,2,15,3],[5,0,5,1],[5,2,5,3],[5,4,5,5],[5,6,5,7],[4,0,4,1],[4,2,4,3],[4,4,4,5],[4,6,4,7],[6,0,6,1],[6,2,6,3],[6,4,6,5],[6,6,6,7],[14,0,14,1],[14,2,14,3],[17,0,17,1],[17,2,17,3],[17,4,17,5],[17,6,17,7],[10,0,10,1],[11,0,11,1],[12,0,12,1],[12,2,12,3],[11,2,11,3],[14,4,14,5],[14,6,14,7],[10,2,10,3],[10,4,10,5],[11,4,11,5],[0,6,0,7],[0,3,0,5],[10,8,10,9],[11,8,11,9],[15,6,15,7],[5,8,5,9],[3,8,3,9],[4,8,4,9],[0,8,0,9],[14,8,14,9],[8,6,8,7],[9,8,9,9],[12,8,12,9],[12,4,12,5],[10,6,10,7],[11,6,11,7],[12,6,12,7],[20,6,20,7],[30,6,30,7],[32,8,32,9],[21,8,21,9],[37,8,37,9],[36,8,36,9],[15,8,15,9],[16,8,16,9],[17,8,17,9],[19,8,19,9],[18,8,18,9],[20,8,20,9]]}
["Wochenplan für die",null,{"$f":"'Daten Jahr'!A36","v":34},"Woche des Schuljahres",null,null,{"$f":"Stundenplan!C1","v":"2013-2014"},null,{"$f":"Stundenplan!$F$1","v":"3/4"}]
["Mo:",{"$f":"Start!F103","v":"2014-06-02"},"Di:",{"$f":"B2+1","v":"2014-06-03"},"Mi:",{"$f":"D2+1","v":"2014-06-04"},"Do:",{"$f":"F2+1","v":"2014-06-05"},"Fr:",{"$f":"H2+1","v":"2014-06-06"}]
[{"$f":"Stundenplan!$B$4","v":"Probe 1"},null,{"$f":"Stundenplan!$C$4","v":"Probe 11"},null,{"$f":"Stundenplan!$D$4","v":"Probe 21"},null,{"$f":"Stundenplan!$E$4","v":"Probe 31"},null,{"$f":"Stundenplan!$F$4","v":"Probe 41"}]
[]
[]
[]
[{"$f":"Stundenplan!$B$5","v":"Probe 2"},null,{"$f":"Stundenplan!$C$5","v":"Probe 12"},null,{"$f":"Stundenplan!$D$5","v":"Probe 22"},null,{"$f":"Stundenplan!$E$5","v":"Probe 32"},null,{"$f":"Stundenplan!$F$5","v":"Probe 42"}]
[]
[]
[]
[{"$f":"Stundenplan!$B$6","v":"Probe 3"},null,{"$f":"Stundenplan!$C$6","v":"Probe 13"},null,{"$f":"Stundenplan!$D$6","v":"Probe 23"},null,{"$f":"Stundenplan!$E$6","v":"Probe 33"},null,{"$f":"Stundenplan!$F$6","v":"Probe 43"}]
[]
[]
[]
[{"$f":"Stundenplan!$B$7","v":"Probe 4"},null,{"$f":"Stundenplan!$C$7","v":"Probe 14"},null,{"$f":"Stundenplan!$D$7","v":"Probe 24"},null,{"$f":"Stundenplan!$E$7","v":"Probe 34"},null,{"$f":"Stundenplan!$F$7","v":"Probe 44"}]
[]
[]
[]
[{"$f":"Stundenplan!$B$8","v":"Probe 5"},null,{"$f":"Stundenplan!$C$8","v":"Probe 15"},null,{"$f":"Stundenplan!$D$8","v":"Probe 25"},null,{"$f":"Stundenplan!$E$8","v":"Probe 35"},null,{"$f":"Stundenplan!$F$8","v":"Probe 45"}]
[]
[]
[]
[{"$f":"Stundenplan!$B$10","v":"Probe 6"},null,{"$f":"Stundenplan!$C$10","v":"Probe 16"},null,{"$f":"Stundenplan!$D$10","v":"Probe 26"},null,{"$f":"Stundenplan!$E$10","v":"Probe 36"},null,{"$f":"Stundenplan!$F$10","v":"Probe 46"}]
[]
[]
[]
[{"$f":"Stundenplan!$B$11","v":"Probe 7"},null,{"$f":"Stundenplan!$C$11","v":"Probe 17"},null,{"$f":"Stundenplan!$D$11","v":"Probe 27"},null,{"$f":"Stundenplan!$E$11","v":"Probe 37"},null,{"$f":"Stundenplan!$F$11","v":"Probe 47"}]
[]
[]
[]
[{"$f":"Stundenplan!$B$12","v":"Probe 8"},null,{"$f":"Stundenplan!$C$12","v":"Probe 18"},null,{"$f":"Stundenplan!$D$12","v":"Probe 28"},null,{"$f":"Stundenplan!$E$12","v":"Probe 38"},null,{"$f":"Stundenplan!$F$12","v":"Probe 48"}]
[]
[]
[]
[{"$f":"Stundenplan!$B$13","v":"Notizen"},null,{"$f":"Stundenplan!$C$13","v":"Notizen"},null,{"$f":"Stundenplan!$D$13","v":"Notizen"},null,{"$f":"Stundenplan!$E$13","v":"Notizen"},null,{"$f":"Stundenplan!$F$13","v":"Notizen"}]

{"sheet":"Wo 35","index":61,"n_rows":35,"n_cols":10,"rows_kept":35,"cut":false,"hidden":false,"merged":[[0,8,0,9],[2,0,2,1],[2,2,2,3],[2,4,2,5],[2,6,2,7],[2,8,2,9],[0,6,0,7],[0,3,0,5],[3,8,3,9],[4,0,4,1],[4,2,4,3],[4,4,4,5],[4,6,4,7],[4,8,4,9],[3,0,3,1],[3,2,3,3],[3,4,3,5],[3,6,3,7],[5,8,5,9],[6,0,6,1],[6,2,6,3],[6,4,6,5],[6,6,6,7],[8,8,8,9],[8,0,8,1],[8,2,8,3],[8,4,8,5],[8,6,8,7],[5,0,5,1],[5,2,5,3],[5,4,5,5],[5,6,5,7],[6,8,6,9],[7,0,7,1],[7,2,7,3],[7,4,7,5],[7,6,7,7],[7,8,7,9],[9,8,9,9],[14,0,14,1],[14,2,14,3],[14,4,14,5],[14,6,14,7],[14,8,14,9],[9,0,9,1],[9,2,9,3],[9,4,9,5],[9,6,9,7],[12,4,12,5],[10,6,10,7],[11,6,11,7],[12,6,12,7],[18,6,18,7],[17,0,17,1],[17,2,17,3],[17,4,17,5],[17,6,17,7],[17,8,17,9],[13,0,13,1],[13,2,13,3],[13,4,13,5],[13,6,13,7],[15,8,15,9],[16,0,16,1],[16,2,16,3],[16,4,16,5],[16,6,16,7],[16,8,16,9],[15,0,15,1],[15,2,15,3],[15,4,15,5],[15,6,15,7],[20,6,20,7],[21,8,21,9],[21,0,21,1],[21,2,21,3],[21,4,21,5],[21,6,21,7],[19,0,19,1],[19,2,19,3],[19,4,19,5],[19,6,19,7],[19,8,19,9],[28,8,28,9],[22,0,22,1],[22,2,22,3],[22,4,22,5],[22,6,22,7],[26,0,26,1],[26,2,26,3],[26,4,26,5],[26,6,26,7],[24,0,24,1],[24,2,24,3],[24,4,24,5],[24,6,24,7],[22,8,22,9],[23,0,23,1],[23,2,23,3],[23,4,23,5],[25,8,25,9],[27,8,27,9],[25,6,25,7],[28,6,28,7],[37,0,37,1],[37,2,37,3],[36,2,36,3],[37,4,37,5],[36,4,36,5],[35,0,35,1],[35,2,35,3],[35,4,35,5],[10,0,10,1],[11,0,11,1],[12,0,12,1],[12,2,12,3],[11,2,11,3],[10,2,10,3],[31,0,31,1],[31,2,31,3],[31,4,31,5],[30,0,30,1],[32,0,32,1],[32,2,32,3],[32,4,32,5],[29,0,29,1],[29,2,29,3],[29,4,29,5],[36,0,36,1],[34,0,34,1],[34,2,34,3],[34,4,34,5],[33,0,33,1],[33,2,33,3],[33,4,33,5],[10,4,10,5],[11,4,11,5],[25,0,25,1],[25,2,25,3],[25,4,25,5],[20,0,20,1],[20,2,20,3],[20,4,20,5],[18,0,18,1],[18,2,18,3],[18,4,18,5],[28,0,28,1],[28,2,28,3],[28,4,28,5],[31,6,31,7],[32,6,32,7],[29,6,29,7],[27,0,27,1],[27,2,27,3],[27,4,27,5],[27,6,27,7],[30,2,30,3],[30,4,30,5],[30,6,30,7],[37,8,37,9],[36,8,36,9],[37,6,37,7],[36,6,36,7],[35,8,35,9],[35,6,35,7],[10,8,10,9],[11,8,11,9],[12,8,12,9],[31,8,31,9],[29,8,29,9],[32,8,32,9],[30,8,30,9],[26,8,26,9],[23,6,23,7],[23,8,23,9],[24,8,24,9],[20,8,20,9],[18,8,18,9],[13,8,13,9],[33,8,33,9],[34,6,34,7],[34,8,34,9],[33,6,33,7]]}
["Wochenplan für die",null,{"$f":"'Daten Jahr'!A37","v":35},"Woche des Schuljahres",null,null,{"$f":"Stundenplan!C1","v":"2013-2014"},null,{"$f":"Stundenplan!$F$1","v":"3/4"}]
["Mo:",{"$f":"Start!F104","v":"2014-06-09"},"Di:",{"$f":"B2+1","v":"2014-06-10"},"Mi:",{"$f":"D2+1","v":"2014-06-11"},"Do:",{"$f":"F2+1","v":"2014-06-12"},"Fr:",{"$f":"H2+1","v":"2014-06-13"}]
[{"$f":"Stundenplan!$B$4","v":"Probe 1"},null,{"$f":"Stundenplan!$C$4","v":"Probe 11"},null,{"$f":"Stundenplan!$D$4","v":"Probe 21"},null,{"$f":"Stundenplan!$E$4","v":"Probe 31"},null,{"$f":"Stundenplan!$F$4","v":"Probe 41"}]
[]
[]
[]
[{"$f":"Stundenplan!$B$5","v":"Probe 2"},null,{"$f":"Stundenplan!$C$5","v":"Probe 12"},null,{"$f":"Stundenplan!$D$5","v":"Probe 22"},null,{"$f":"Stundenplan!$E$5","v":"Probe 32"},null,{"$f":"Stundenplan!$F$5","v":"Probe 42"}]
[]
[]
[]
[{"$f":"Stundenplan!$B$6","v":"Probe 3"},null,{"$f":"Stundenplan!$C$6","v":"Probe 13"},null,{"$f":"Stundenplan!$D$6","v":"Probe 23"},null,{"$f":"Stundenplan!$E$6","v":"Probe 33"},null,{"$f":"Stundenplan!$F$6","v":"Probe 43"}]
[]
[]
[]
[{"$f":"Stundenplan!$B$7","v":"Probe 4"},null,{"$f":"Stundenplan!$C$7","v":"Probe 14"},null,{"$f":"Stundenplan!$D$7","v":"Probe 24"},null,{"$f":"Stundenplan!$E$7","v":"Probe 34"},null,{"$f":"Stundenplan!$F$7","v":"Probe 44"}]
[]
[]
[]
[{"$f":"Stundenplan!$B$8","v":"Probe 5"},null,{"$f":"Stundenplan!$C$8","v":"Probe 15"},null,{"$f":"Stundenplan!$D$8","v":"Probe 25"},null,{"$f":"Stundenplan!$E$8","v":"Probe 35"},null,{"$f":"Stundenplan!$F$8","v":"Probe 45"}]
[]
[]
[]
[{"$f":"Stundenplan!$B$10","v":"Probe 6"},null,{"$f":"Stundenplan!$C$10","v":"Probe 16"},null,{"$f":"Stundenplan!$D$10","v":"Probe 26"},null,{"$f":"Stundenplan!$E$10","v":"Probe 36"},null,{"$f":"Stundenplan!$F$10","v":"Probe 46"}]
[]
[]
[]
[{"$f":"Stundenplan!$B$11","v":"Probe 7"},null,{"$f":"Stundenplan!$C$11","v":"Probe 17"},null,{"$f":"Stundenplan!$D$11","v":"Probe 27"},null,{"$f":"Stundenplan!$E$11","v":"Probe 37"},null,{"$f":"Stundenplan!$F$11","v":"Probe 47"}]
[]
[]
[]
[{"$f":"Stundenplan!$B$12","v":"Probe 8"},null,{"$f":"Stundenplan!$C$12","v":"Probe 18"},null,{"$f":"Stundenplan!$D$12","v":"Probe 28"},null,{"$f":"Stundenplan!$E$12","v":"Probe 38"},null,{"$f":"Stundenplan!$F$12","v":"Probe 48"}]
[]
[]
[]
[{"$f":"Stundenplan!$B$13","v":"Notizen"},null,{"$f":"Stundenplan!$C$13","v":"Notizen"},null,{"$f":"Stundenplan!$D$13","v":"Notizen"},null,{"$f":"Stundenplan!$E$13","v":"Notizen"},null,{"$f":"Stundenplan!$F$13","v":"Notizen"}]

{"sheet":"Wo 36","index":62,"n_rows":35,"n_cols":10,"rows_kept":35,"cut":false,"hidden":false,"merged":[[35,0,35,1],[35,2,35,3],[35,4,35,5],[35,6,35,7],[33,8,33,9],[34,0,34,1],[34,2,34,3],[34,4,34,5],[34,6,34,7],[34,8,34,9],[33,0,33,1],[33,2,33,3],[33,4,33,5],[33,6,33,7],[35,8,35,9],[32,0,32,1],[32,2,32,3],[32,4,32,5],[31,0,31,1],[31,2,31,3],[31,4,31,5],[31,6,31,7],[31,8,31,9],[30,0,30,1],[30,2,30,3],[30,4,30,5],[32,6,32,7],[30,8,30,9],[29,0,29,1],[29,2,29,3],[29,4,29,5],[29,6,29,7],[27,8,27,9],[28,0,28,1],[28,2,28,3],[28,4,28,5],[28,6,28,7],[29,8,29,9],[28,8,28,9],[25,2,25,3],[25,4,25,5],[25,6,25,7],[24,8,24,9],[24,0,24,1],[24,2,24,3],[24,4,24,5],[24,6,24,7],[27,0,27,1],[27,2,27,3],[27,4,27,5],[27,6,27,7],[25,8,25,9],[26,0,26,1],[26,2,26,3],[26,4,26,5],[26,6,26,7],[25,0,25,1],[26,8,26,9],[23,0,23,1],[23,2,23,3],[23,4,23,5],[23,6,23,7],[23,8,23,9],[22,0,22,1],[22,2,22,3],[22,4,22,5],[22,6,22,7],[22,8,22,9],[2,0,2,1],[2,2,2,3],[2,4,2,5],[2,6,2,7],[2,8,2,9],[13,0,13,1],[13,2,13,3],[13,4,13,5],[13,6,13,7],[6,8,6,9],[7,0,7,1],[7,2,7,3],[7,4,7,5],[7,6,7,7],[7,8,7,9],[9,0,9,1],[9,2,9,3],[9,4,9,5],[9,6,9,7],[13,8,13,9],[8,8,8,9],[8,0,8,1],[8,2,8,3],[8,4,8,5],[36,0,36,1],[37,0,37,1],[37,2,37,3],[36,2,36,3],[37,4,37,5],[36,4,36,5],[37,6,37,7],[36,6,36,7],[15,4,15,5],[19,0,19,1],[19,2,19,3],[19,4,19,5],[19,6,19,7],[18,0,18,1],[18,2,18,3],[18,4,18,5],[18,6,18,7],[21,0,21,1],[21,2,21,3],[21,4,21,5],[21,6,21,7],[20,0,20,1],[20,2,20,3],[20,4,20,5],[3,0,3,1],[3,2,3,3],[3,4,3,5],[3,6,3,7],[16,0,16,1],[16,2,16,3],[16,4,16,5],[16,6,16,7],[15,0,15,1],[15,2,15,3],[5,0,5,1],[5,2,5,3],[5,4,5,5],[5,6,5,7],[4,0,4,1],[4,2,4,3],[4,4,4,5],[4,6,4,7],[6,0,6,1],[6,2,6,3],[6,4,6,5],[6,6,6,7],[14,0,14,1],[14,2,14,3],[17,0,17,1],[17,2,17,3],[17,4,17,5],[17,6,17,7],[10,0,10,1],[11,0,11,1],[12,0,12,1],[12,2,12,3],[11,2,11,3],[14,4,14,5],[14,6,14,7],[10,2,10,3],[10,4,10,5],[11,4,11,5],[0,6,0,7],[0,3,0,5],[10,8,10,9],[11,8,11,9],[15,6,15,7],[5,8,5,9],[3,8,3,9],[4,8,4,9],[0,8,0,9],[14,8,14,9],[8,6,8,7],[9,8,9,9],[12,8,12,9],[12,4,12,5],[10,6,10,7],[11,6,11,7],[12,6,12,7],[20,6,20,7],[30,6,30,7],[32,8,32,9],[21,8,21,9],[37,8,37,9],[36,8,36,9],[15,8,15,9],[16,8,16,9],[17,8,17,9],[19,8,19,9],[18,8,18,9],[20,8,20,9]]}
["Wochenplan für die",null,{"$f":"'Daten Jahr'!A38","v":36},"Woche des Schuljahres",null,null,{"$f":"Stundenplan!C1","v":"2013-2014"},null,{"$f":"Stundenplan!$F$1","v":"3/4"}]
["Mo:",{"$f":"Start!F105","v":"2014-06-16"},"Di:",{"$f":"B2+1","v":"2014-06-17"},"Mi:",{"$f":"D2+1","v":"2014-06-18"},"Do:",{"$f":"F2+1","v":"2014-06-19"},"Fr:",{"$f":"H2+1","v":"2014-06-20"}]
[{"$f":"Stundenplan!$B$4","v":"Probe 1"},null,{"$f":"Stundenplan!$C$4","v":"Probe 11"},null,{"$f":"Stundenplan!$D$4","v":"Probe 21"},null,{"$f":"Stundenplan!$E$4","v":"Probe 31"},null,{"$f":"Stundenplan!$F$4","v":"Probe 41"}]
[]
[]
[]
[{"$f":"Stundenplan!$B$5","v":"Probe 2"},null,{"$f":"Stundenplan!$C$5","v":"Probe 12"},null,{"$f":"Stundenplan!$D$5","v":"Probe 22"},null,{"$f":"Stundenplan!$E$5","v":"Probe 32"},null,{"$f":"Stundenplan!$F$5","v":"Probe 42"}]
[]
[]
[]
[{"$f":"Stundenplan!$B$6","v":"Probe 3"},null,{"$f":"Stundenplan!$C$6","v":"Probe 13"},null,{"$f":"Stundenplan!$D$6","v":"Probe 23"},null,{"$f":"Stundenplan!$E$6","v":"Probe 33"},null,{"$f":"Stundenplan!$F$6","v":"Probe 43"}]
[]
[]
[]
[{"$f":"Stundenplan!$B$7","v":"Probe 4"},null,{"$f":"Stundenplan!$C$7","v":"Probe 14"},null,{"$f":"Stundenplan!$D$7","v":"Probe 24"},null,{"$f":"Stundenplan!$E$7","v":"Probe 34"},null,{"$f":"Stundenplan!$F$7","v":"Probe 44"}]
[]
[]
[]
[{"$f":"Stundenplan!$B$8","v":"Probe 5"},null,{"$f":"Stundenplan!$C$8","v":"Probe 15"},null,{"$f":"Stundenplan!$D$8","v":"Probe 25"},null,{"$f":"Stundenplan!$E$8","v":"Probe 35"},null,{"$f":"Stundenplan!$F$8","v":"Probe 45"}]
[]
[]
[]
[{"$f":"Stundenplan!$B$10","v":"Probe 6"},null,{"$f":"Stundenplan!$C$10","v":"Probe 16"},null,{"$f":"Stundenplan!$D$10","v":"Probe 26"},null,{"$f":"Stundenplan!$E$10","v":"Probe 36"},null,{"$f":"Stundenplan!$F$10","v":"Probe 46"}]
[]
[]
[]
[{"$f":"Stundenplan!$B$11","v":"Probe 7"},null,{"$f":"Stundenplan!$C$11","v":"Probe 17"},null,{"$f":"Stundenplan!$D$11","v":"Probe 27"},null,{"$f":"Stundenplan!$E$11","v":"Probe 37"},null,{"$f":"Stundenplan!$F$11","v":"Probe 47"}]
[]
[]
[]
[{"$f":"Stundenplan!$B$12","v":"Probe 8"},null,{"$f":"Stundenplan!$C$12","v":"Probe 18"},null,{"$f":"Stundenplan!$D$12","v":"Probe 28"},null,{"$f":"Stundenplan!$E$12","v":"Probe 38"},null,{"$f":"Stundenplan!$F$12","v":"Probe 48"}]
[]
[]
[]
[{"$f":"Stundenplan!$B$13","v":"Notizen"},null,{"$f":"Stundenplan!$C$13","v":"Notizen"},null,{"$f":"Stundenplan!$D$13","v":"Notizen"},null,{"$f":"Stundenplan!$E$13","v":"Notizen"},null,{"$f":"Stundenplan!$F$13","v":"Notizen"}]

{"sheet":"Wo 37","index":63,"n_rows":35,"n_cols":10,"rows_kept":35,"cut":false,"hidden":false,"merged":[[0,8,0,9],[2,0,2,1],[2,2,2,3],[2,4,2,5],[2,6,2,7],[2,8,2,9],[0,6,0,7],[0,3,0,5],[3,8,3,9],[4,0,4,1],[4,2,4,3],[4,4,4,5],[4,6,4,7],[4,8,4,9],[3,0,3,1],[3,2,3,3],[3,4,3,5],[3,6,3,7],[5,8,5,9],[6,0,6,1],[6,2,6,3],[6,4,6,5],[6,6,6,7],[8,8,8,9],[8,0,8,1],[8,2,8,3],[8,4,8,5],[8,6,8,7],[5,0,5,1],[5,2,5,3],[5,4,5,5],[5,6,5,7],[6,8,6,9],[7,0,7,1],[7,2,7,3],[7,4,7,5],[7,6,7,7],[7,8,7,9],[9,8,9,9],[14,0,14,1],[14,2,14,3],[14,4,14,5],[14,6,14,7],[14,8,14,9],[9,0,9,1],[9,2,9,3],[9,4,9,5],[9,6,9,7],[12,4,12,5],[10,6,10,7],[11,6,11,7],[12,6,12,7],[18,6,18,7],[17,0,17,1],[17,2,17,3],[17,4,17,5],[17,6,17,7],[17,8,17,9],[13,0,13,1],[13,2,13,3],[13,4,13,5],[13,6,13,7],[15,8,15,9],[16,0,16,1],[16,2,16,3],[16,4,16,5],[16,6,16,7],[16,8,16,9],[15,0,15,1],[15,2,15,3],[15,4,15,5],[15,6,15,7],[20,6,20,7],[21,8,21,9],[21,0,21,1],[21,2,21,3],[21,4,21,5],[21,6,21,7],[19,0,19,1],[19,2,19,3],[19,4,19,5],[19,6,19,7],[19,8,19,9],[28,8,28,9],[22,0,22,1],[22,2,22,3],[22,4,22,5],[22,6,22,7],[26,0,26,1],[26,2,26,3],[26,4,26,5],[26,6,26,7],[24,0,24,1],[24,2,24,3],[24,4,24,5],[24,6,24,7],[22,8,22,9],[23,0,23,1],[23,2,23,3],[23,4,23,5],[25,8,25,9],[27,8,27,9],[25,6,25,7],[28,6,28,7],[37,0,37,1],[37,2,37,3],[36,2,36,3],[37,4,37,5],[36,4,36,5],[35,0,35,1],[35,2,35,3],[35,4,35,5],[10,0,10,1],[11,0,11,1],[12,0,12,1],[12,2,12,3],[11,2,11,3],[10,2,10,3],[31,0,31,1],[31,2,31,3],[31,4,31,5],[30,0,30,1],[32,0,32,1],[32,2,32,3],[32,4,32,5],[29,0,29,1],[29,2,29,3],[29,4,29,5],[36,0,36,1],[34,0,34,1],[34,2,34,3],[34,4,34,5],[33,0,33,1],[33,2,33,3],[33,4,33,5],[10,4,10,5],[11,4,11,5],[25,0,25,1],[25,2,25,3],[25,4,25,5],[20,0,20,1],[20,2,20,3],[20,4,20,5],[18,0,18,1],[18,2,18,3],[18,4,18,5],[28,0,28,1],[28,2,28,3],[28,4,28,5],[31,6,31,7],[32,6,32,7],[29,6,29,7],[27,0,27,1],[27,2,27,3],[27,4,27,5],[27,6,27,7],[30,2,30,3],[30,4,30,5],[30,6,30,7],[37,8,37,9],[36,8,36,9],[37,6,37,7],[36,6,36,7],[35,8,35,9],[35,6,35,7],[10,8,10,9],[11,8,11,9],[12,8,12,9],[31,8,31,9],[29,8,29,9],[32,8,32,9],[30,8,30,9],[26,8,26,9],[23,6,23,7],[23,8,23,9],[24,8,24,9],[20,8,20,9],[18,8,18,9],[13,8,13,9],[33,8,33,9],[34,6,34,7],[34,8,34,9],[33,6,33,7]]}
["Wochenplan für die",null,{"$f":"'Daten Jahr'!A39","v":37},"Woche des Schuljahres",null,null,{"$f":"Stundenplan!C1","v":"2013-2014"},null,{"$f":"Stundenplan!$F$1","v":"3/4"}]
["Mo:",{"$f":"Start!F106","v":"2014-06-23"},"Di:",{"$f":"B2+1","v":"2014-06-24"},"Mi:",{"$f":"D2+1","v":"2014-06-25"},"Do:",{"$f":"F2+1","v":"2014-06-26"},"Fr:",{"$f":"H2+1","v":"2014-06-27"}]
[{"$f":"Stundenplan!$B$4","v":"Probe 1"},null,{"$f":"Stundenplan!$C$4","v":"Probe 11"},null,{"$f":"Stundenplan!$D$4","v":"Probe 21"},null,{"$f":"Stundenplan!$E$4","v":"Probe 31"},null,{"$f":"Stundenplan!$F$4","v":"Probe 41"}]
[]
[]
[]
[{"$f":"Stundenplan!$B$5","v":"Probe 2"},null,{"$f":"Stundenplan!$C$5","v":"Probe 12"},null,{"$f":"Stundenplan!$D$5","v":"Probe 22"},null,{"$f":"Stundenplan!$E$5","v":"Probe 32"},null,{"$f":"Stundenplan!$F$5","v":"Probe 42"}]
[]
[]
[]
[{"$f":"Stundenplan!$B$6","v":"Probe 3"},null,{"$f":"Stundenplan!$C$6","v":"Probe 13"},null,{"$f":"Stundenplan!$D$6","v":"Probe 23"},null,{"$f":"Stundenplan!$E$6","v":"Probe 33"},null,{"$f":"Stundenplan!$F$6","v":"Probe 43"}]
[]
[]
[]
[{"$f":"Stundenplan!$B$7","v":"Probe 4"},null,{"$f":"Stundenplan!$C$7","v":"Probe 14"},null,{"$f":"Stundenplan!$D$7","v":"Probe 24"},null,{"$f":"Stundenplan!$E$7","v":"Probe 34"},null,{"$f":"Stundenplan!$F$7","v":"Probe 44"}]
[]
[]
[]
[{"$f":"Stundenplan!$B$8","v":"Probe 5"},null,{"$f":"Stundenplan!$C$8","v":"Probe 15"},null,{"$f":"Stundenplan!$D$8","v":"Probe 25"},null,{"$f":"Stundenplan!$E$8","v":"Probe 35"},null,{"$f":"Stundenplan!$F$8","v":"Probe 45"}]
[]
[]
[]
[{"$f":"Stundenplan!$B$10","v":"Probe 6"},null,{"$f":"Stundenplan!$C$10","v":"Probe 16"},null,{"$f":"Stundenplan!$D$10","v":"Probe 26"},null,{"$f":"Stundenplan!$E$10","v":"Probe 36"},null,{"$f":"Stundenplan!$F$10","v":"Probe 46"}]
[]
[]
[]
[{"$f":"Stundenplan!$B$11","v":"Probe 7"},null,{"$f":"Stundenplan!$C$11","v":"Probe 17"},null,{"$f":"Stundenplan!$D$11","v":"Probe 27"},null,{"$f":"Stundenplan!$E$11","v":"Probe 37"},null,{"$f":"Stundenplan!$F$11","v":"Probe 47"}]
[]
[]
[]
[{"$f":"Stundenplan!$B$12","v":"Probe 8"},null,{"$f":"Stundenplan!$C$12","v":"Probe 18"},null,{"$f":"Stundenplan!$D$12","v":"Probe 28"},null,{"$f":"Stundenplan!$E$12","v":"Probe 38"},null,{"$f":"Stundenplan!$F$12","v":"Probe 48"}]
[]
[]
[]
[{"$f":"Stundenplan!$B$13","v":"Notizen"},null,{"$f":"Stundenplan!$C$13","v":"Notizen"},null,{"$f":"Stundenplan!$D$13","v":"Notizen"},null,{"$f":"Stundenplan!$E$13","v":"Notizen"},null,{"$f":"Stundenplan!$F$13","v":"Notizen"}]

{"sheet":"Wo 38","index":64,"n_rows":35,"n_cols":10,"rows_kept":35,"cut":false,"hidden":false,"merged":[[35,0,35,1],[35,2,35,3],[35,4,35,5],[35,6,35,7],[33,8,33,9],[34,0,34,1],[34,2,34,3],[34,4,34,5],[34,6,34,7],[34,8,34,9],[33,0,33,1],[33,2,33,3],[33,4,33,5],[33,6,33,7],[35,8,35,9],[32,0,32,1],[32,2,32,3],[32,4,32,5],[31,0,31,1],[31,2,31,3],[31,4,31,5],[31,6,31,7],[31,8,31,9],[30,0,30,1],[30,2,30,3],[30,4,30,5],[32,6,32,7],[30,8,30,9],[29,0,29,1],[29,2,29,3],[29,4,29,5],[29,6,29,7],[27,8,27,9],[28,0,28,1],[28,2,28,3],[28,4,28,5],[28,6,28,7],[29,8,29,9],[28,8,28,9],[25,2,25,3],[25,4,25,5],[25,6,25,7],[24,8,24,9],[24,0,24,1],[24,2,24,3],[24,4,24,5],[24,6,24,7],[27,0,27,1],[27,2,27,3],[27,4,27,5],[27,6,27,7],[25,8,25,9],[26,0,26,1],[26,2,26,3],[26,4,26,5],[26,6,26,7],[25,0,25,1],[26,8,26,9],[23,0,23,1],[23,2,23,3],[23,4,23,5],[23,6,23,7],[23,8,23,9],[22,0,22,1],[22,2,22,3],[22,4,22,5],[22,6,22,7],[22,8,22,9],[2,0,2,1],[2,2,2,3],[2,4,2,5],[2,6,2,7],[2,8,2,9],[13,0,13,1],[13,2,13,3],[13,4,13,5],[13,6,13,7],[6,8,6,9],[7,0,7,1],[7,2,7,3],[7,4,7,5],[7,6,7,7],[7,8,7,9],[9,0,9,1],[9,2,9,3],[9,4,9,5],[9,6,9,7],[13,8,13,9],[8,8,8,9],[8,0,8,1],[8,2,8,3],[8,4,8,5],[36,0,36,1],[37,0,37,1],[37,2,37,3],[36,2,36,3],[37,4,37,5],[36,4,36,5],[37,6,37,7],[36,6,36,7],[15,4,15,5],[19,0,19,1],[19,2,19,3],[19,4,19,5],[19,6,19,7],[18,0,18,1],[18,2,18,3],[18,4,18,5],[18,6,18,7],[21,0,21,1],[21,2,21,3],[21,4,21,5],[21,6,21,7],[20,0,20,1],[20,2,20,3],[20,4,20,5],[3,0,3,1],[3,2,3,3],[3,4,3,5],[3,6,3,7],[16,0,16,1],[16,2,16,3],[16,4,16,5],[16,6,16,7],[15,0,15,1],[15,2,15,3],[5,0,5,1],[5,2,5,3],[5,4,5,5],[5,6,5,7],[4,0,4,1],[4,2,4,3],[4,4,4,5],[4,6,4,7],[6,0,6,1],[6,2,6,3],[6,4,6,5],[6,6,6,7],[14,0,14,1],[14,2,14,3],[17,0,17,1],[17,2,17,3],[17,4,17,5],[17,6,17,7],[10,0,10,1],[11,0,11,1],[12,0,12,1],[12,2,12,3],[11,2,11,3],[14,4,14,5],[14,6,14,7],[10,2,10,3],[10,4,10,5],[11,4,11,5],[0,6,0,7],[0,3,0,5],[10,8,10,9],[11,8,11,9],[15,6,15,7],[5,8,5,9],[3,8,3,9],[4,8,4,9],[0,8,0,9],[14,8,14,9],[8,6,8,7],[9,8,9,9],[12,8,12,9],[12,4,12,5],[10,6,10,7],[11,6,11,7],[12,6,12,7],[20,6,20,7],[30,6,30,7],[32,8,32,9],[21,8,21,9],[37,8,37,9],[36,8,36,9],[15,8,15,9],[16,8,16,9],[17,8,17,9],[19,8,19,9],[18,8,18,9],[20,8,20,9]]}
["Wochenplan für die",null,{"$f":"'Daten Jahr'!A40","v":38},"Woche des Schuljahres",null,null,{"$f":"Stundenplan!C1","v":"2013-2014"},null,{"$f":"Stundenplan!$F$1","v":"3/4"}]
["Mo:",{"$f":"Start!F107","v":"2014-06-30"},"Di:",{"$f":"B2+1","v":"2014-07-01"},"Mi:",{"$f":"D2+1","v":"2014-07-02"},"Do:",{"$f":"F2+1","v":"2014-07-03"},"Fr:",{"$f":"H2+1","v":"2014-07-04"}]
[{"$f":"Stundenplan!$B$4","v":"Probe 1"},null,{"$f":"Stundenplan!$C$4","v":"Probe 11"},null,{"$f":"Stundenplan!$D$4","v":"Probe 21"},null,{"$f":"Stundenplan!$E$4","v":"Probe 31"},null,{"$f":"Stundenplan!$F$4","v":"Probe 41"}]
[]
[]
[]
[{"$f":"Stundenplan!$B$5","v":"Probe 2"},null,{"$f":"Stundenplan!$C$5","v":"Probe 12"},null,{"$f":"Stundenplan!$D$5","v":"Probe 22"},null,{"$f":"Stundenplan!$E$5","v":"Probe 32"},null,{"$f":"Stundenplan!$F$5","v":"Probe 42"}]
[]
[]
[]
[{"$f":"Stundenplan!$B$6","v":"Probe 3"},null,{"$f":"Stundenplan!$C$6","v":"Probe 13"},null,{"$f":"Stundenplan!$D$6","v":"Probe 23"},null,{"$f":"Stundenplan!$E$6","v":"Probe 33"},null,{"$f":"Stundenplan!$F$6","v":"Probe 43"}]
[]
[]
[]
[{"$f":"Stundenplan!$B$7","v":"Probe 4"},null,{"$f":"Stundenplan!$C$7","v":"Probe 14"},null,{"$f":"Stundenplan!$D$7","v":"Probe 24"},null,{"$f":"Stundenplan!$E$7","v":"Probe 34"},null,{"$f":"Stundenplan!$F$7","v":"Probe 44"}]
[]
[]
[]
[{"$f":"Stundenplan!$B$8","v":"Probe 5"},null,{"$f":"Stundenplan!$C$8","v":"Probe 15"},null,{"$f":"Stundenplan!$D$8","v":"Probe 25"},null,{"$f":"Stundenplan!$E$8","v":"Probe 35"},null,{"$f":"Stundenplan!$F$8","v":"Probe 45"}]
[]
[]
[]
[{"$f":"Stundenplan!$B$10","v":"Probe 6"},null,{"$f":"Stundenplan!$C$10","v":"Probe 16"},null,{"$f":"Stundenplan!$D$10","v":"Probe 26"},null,{"$f":"Stundenplan!$E$10","v":"Probe 36"},null,{"$f":"Stundenplan!$F$10","v":"Probe 46"}]
[]
[]
[]
[{"$f":"Stundenplan!$B$11","v":"Probe 7"},null,{"$f":"Stundenplan!$C$11","v":"Probe 17"},null,{"$f":"Stundenplan!$D$11","v":"Probe 27"},null,{"$f":"Stundenplan!$E$11","v":"Probe 37"},null,{"$f":"Stundenplan!$F$11","v":"Probe 47"}]
[]
[]
[]
[{"$f":"Stundenplan!$B$12","v":"Probe 8"},null,{"$f":"Stundenplan!$C$12","v":"Probe 18"},null,{"$f":"Stundenplan!$D$12","v":"Probe 28"},null,{"$f":"Stundenplan!$E$12","v":"Probe 38"},null,{"$f":"Stundenplan!$F$12","v":"Probe 48"}]
[]
[]
[]
[{"$f":"Stundenplan!$B$13","v":"Notizen"},null,{"$f":"Stundenplan!$C$13","v":"Notizen"},null,{"$f":"Stundenplan!$D$13","v":"Notizen"},null,{"$f":"Stundenplan!$E$13","v":"Notizen"},null,{"$f":"Stundenplan!$F$13","v":"Notizen"}]

{"sheet":"Wo 39","index":65,"n_rows":35,"n_cols":10,"rows_kept":35,"cut":false,"hidden":false,"merged":[[0,8,0,9],[2,0,2,1],[2,2,2,3],[2,4,2,5],[2,6,2,7],[2,8,2,9],[0,6,0,7],[0,3,0,5],[3,8,3,9],[4,0,4,1],[4,2,4,3],[4,4,4,5],[4,6,4,7],[4,8,4,9],[3,0,3,1],[3,2,3,3],[3,4,3,5],[3,6,3,7],[5,8,5,9],[6,0,6,1],[6,2,6,3],[6,4,6,5],[6,6,6,7],[8,8,8,9],[8,0,8,1],[8,2,8,3],[8,4,8,5],[8,6,8,7],[5,0,5,1],[5,2,5,3],[5,4,5,5],[5,6,5,7],[6,8,6,9],[7,0,7,1],[7,2,7,3],[7,4,7,5],[7,6,7,7],[7,8,7,9],[9,8,9,9],[14,0,14,1],[14,2,14,3],[14,4,14,5],[14,6,14,7],[14,8,14,9],[9,0,9,1],[9,2,9,3],[9,4,9,5],[9,6,9,7],[12,4,12,5],[10,6,10,7],[11,6,11,7],[12,6,12,7],[18,6,18,7],[17,0,17,1],[17,2,17,3],[17,4,17,5],[17,6,17,7],[17,8,17,9],[13,0,13,1],[13,2,13,3],[13,4,13,5],[13,6,13,7],[15,8,15,9],[16,0,16,1],[16,2,16,3],[16,4,16,5],[16,6,16,7],[16,8,16,9],[15,0,15,1],[15,2,15,3],[15,4,15,5],[15,6,15,7],[20,6,20,7],[21,8,21,9],[21,0,21,1],[21,2,21,3],[21,4,21,5],[21,6,21,7],[19,0,19,1],[19,2,19,3],[19,4,19,5],[19,6,19,7],[19,8,19,9],[28,8,28,9],[22,0,22,1],[22,2,22,3],[22,4,22,5],[22,6,22,7],[26,0,26,1],[26,2,26,3],[26,4,26,5],[26,6,26,7],[24,0,24,1],[24,2,24,3],[24,4,24,5],[24,6,24,7],[22,8,22,9],[23,0,23,1],[23,2,23,3],[23,4,23,5],[25,8,25,9],[27,8,27,9],[25,6,25,7],[28,6,28,7],[37,0,37,1],[37,2,37,3],[36,2,36,3],[37,4,37,5],[36,4,36,5],[35,0,35,1],[35,2,35,3],[35,4,35,5],[10,0,10,1],[11,0,11,1],[12,0,12,1],[12,2,12,3],[11,2,11,3],[10,2,10,3],[31,0,31,1],[31,2,31,3],[31,4,31,5],[30,0,30,1],[32,0,32,1],[32,2,32,3],[32,4,32,5],[29,0,29,1],[29,2,29,3],[29,4,29,5],[36,0,36,1],[34,0,34,1],[34,2,34,3],[34,4,34,5],[33,0,33,1],[33,2,33,3],[33,4,33,5],[10,4,10,5],[11,4,11,5],[25,0,25,1],[25,2,25,3],[25,4,25,5],[20,0,20,1],[20,2,20,3],[20,4,20,5],[18,0,18,1],[18,2,18,3],[18,4,18,5],[28,0,28,1],[28,2,28,3],[28,4,28,5],[31,6,31,7],[32,6,32,7],[29,6,29,7],[27,0,27,1],[27,2,27,3],[27,4,27,5],[27,6,27,7],[30,2,30,3],[30,4,30,5],[30,6,30,7],[37,8,37,9],[36,8,36,9],[37,6,37,7],[36,6,36,7],[35,8,35,9],[35,6,35,7],[10,8,10,9],[11,8,11,9],[12,8,12,9],[31,8,31,9],[29,8,29,9],[32,8,32,9],[30,8,30,9],[26,8,26,9],[23,6,23,7],[23,8,23,9],[24,8,24,9],[20,8,20,9],[18,8,18,9],[13,8,13,9],[33,8,33,9],[34,6,34,7],[34,8,34,9],[33,6,33,7]]}
["Wochenplan für die",null,{"$f":"'Daten Jahr'!A41","v":39},"Woche des Schuljahres",null,null,{"$f":"Stundenplan!C1","v":"2013-2014"},null,{"$f":"Stundenplan!$F$1","v":"3/4"}]
["Mo:",{"$f":"Start!F108","v":"2014-07-07"},"Di:",{"$f":"B2+1","v":"2014-07-08"},"Mi:",{"$f":"D2+1","v":"2014-07-09"},"Do:",{"$f":"F2+1","v":"2014-07-10"},"Fr:",{"$f":"H2+1","v":"2014-07-11"}]
[{"$f":"Stundenplan!$B$4","v":"Probe 1"},null,{"$f":"Stundenplan!$C$4","v":"Probe 11"},null,{"$f":"Stundenplan!$D$4","v":"Probe 21"},null,{"$f":"Stundenplan!$E$4","v":"Probe 31"},null,{"$f":"Stundenplan!$F$4","v":"Probe 41"}]
[]
[]
[]
[{"$f":"Stundenplan!$B$5","v":"Probe 2"},null,{"$f":"Stundenplan!$C$5","v":"Probe 12"},null,{"$f":"Stundenplan!$D$5","v":"Probe 22"},null,{"$f":"Stundenplan!$E$5","v":"Probe 32"},null,{"$f":"Stundenplan!$F$5","v":"Probe 42"}]
[]
[]
[]
[{"$f":"Stundenplan!$B$6","v":"Probe 3"},null,{"$f":"Stundenplan!$C$6","v":"Probe 13"},null,{"$f":"Stundenplan!$D$6","v":"Probe 23"},null,{"$f":"Stundenplan!$E$6","v":"Probe 33"},null,{"$f":"Stundenplan!$F$6","v":"Probe 43"}]
[]
[]
[]
[{"$f":"Stundenplan!$B$7","v":"Probe 4"},null,{"$f":"Stundenplan!$C$7","v":"Probe 14"},null,{"$f":"Stundenplan!$D$7","v":"Probe 24"},null,{"$f":"Stundenplan!$E$7","v":"Probe 34"},null,{"$f":"Stundenplan!$F$7","v":"Probe 44"}]
[]
[]
[]
[{"$f":"Stundenplan!$B$8","v":"Probe 5"},null,{"$f":"Stundenplan!$C$8","v":"Probe 15"},null,{"$f":"Stundenplan!$D$8","v":"Probe 25"},null,{"$f":"Stundenplan!$E$8","v":"Probe 35"},null,{"$f":"Stundenplan!$F$8","v":"Probe 45"}]
[]
[]
[]
[{"$f":"Stundenplan!$B$10","v":"Probe 6"},null,{"$f":"Stundenplan!$C$10","v":"Probe 16"},null,{"$f":"Stundenplan!$D$10","v":"Probe 26"},null,{"$f":"Stundenplan!$E$10","v":"Probe 36"},null,{"$f":"Stundenplan!$F$10","v":"Probe 46"}]
[]
[]
[]
[{"$f":"Stundenplan!$B$11","v":"Probe 7"},null,{"$f":"Stundenplan!$C$11","v":"Probe 17"},null,{"$f":"Stundenplan!$D$11","v":"Probe 27"},null,{"$f":"Stundenplan!$E$11","v":"Probe 37"},null,{"$f":"Stundenplan!$F$11","v":"Probe 47"}]
[]
[]
[]
[{"$f":"Stundenplan!$B$12","v":"Probe 8"},null,{"$f":"Stundenplan!$C$12","v":"Probe 18"},null,{"$f":"Stundenplan!$D$12","v":"Probe 28"},null,{"$f":"Stundenplan!$E$12","v":"Probe 38"},null,{"$f":"Stundenplan!$F$12","v":"Probe 48"}]
[]
[]
[]
[{"$f":"Stundenplan!$B$13","v":"Notizen"},null,{"$f":"Stundenplan!$C$13","v":"Notizen"},null,{"$f":"Stundenplan!$D$13","v":"Notizen"},null,{"$f":"Stundenplan!$E$13","v":"Notizen"},null,{"$f":"Stundenplan!$F$13","v":"Notizen"}]

{"sheet":"Wo 40","index":66,"n_rows":35,"n_cols":10,"rows_kept":35,"cut":false,"hidden":false,"merged":[[0,3,0,5],[0,6,0,7],[0,8,0,9],[2,0,2,1],[2,2,2,3],[2,4,2,5],[2,6,2,7],[2,8,2,9],[3,0,3,1],[3,2,3,3],[3,4,3,5],[3,6,3,7],[3,8,3,9],[4,0,4,1],[4,2,4,3],[4,4,4,5],[4,6,4,7],[4,8,4,9],[5,0,5,1],[5,2,5,3],[5,4,5,5],[5,6,5,7],[5,8,5,9],[6,0,6,1],[6,2,6,3],[6,4,6,5],[6,6,6,7],[6,8,6,9],[7,0,7,1],[7,2,7,3],[7,4,7,5],[7,6,7,7],[7,8,7,9],[8,0,8,1],[8,2,8,3],[8,4,8,5],[8,6,8,7],[8,8,8,9],[9,0,9,1],[9,2,9,3],[9,4,9,5],[9,6,9,7],[9,8,9,9],[10,0,10,1],[10,2,10,3],[10,4,10,5],[10,6,10,7],[10,8,10,9],[11,0,11,1],[11,2,11,3],[11,4,11,5],[11,6,11,7],[11,8,11,9],[12,0,12,1],[12,2,12,3],[12,4,12,5],[12,6,12,7],[12,8,12,9],[13,0,13,1],[13,2,13,3],[13,4,13,5],[13,6,13,7],[13,8,13,9],[14,0,14,1],[14,2,14,3],[14,4,14,5],[14,6,14,7],[14,8,14,9],[15,0,15,1],[15,2,15,3],[15,4,15,5],[15,6,15,7],[15,8,15,9],[16,0,16,1],[16,2,16,3],[16,4,16,5],[16,6,16,7],[16,8,16,9],[17,0,17,1],[17,2,17,3],[17,4,17,5],[17,6,17,7],[17,8,17,9],[18,0,18,1],[18,2,18,3],[18,4,18,5],[18,6,18,7],[18,8,18,9],[19,0,19,1],[19,2,19,3],[19,4,19,5],[19,6,19,7],[19,8,19,9],[20,0,20,1],[20,2,20,3],[20,4,20,5],[20,6,20,7],[20,8,20,9],[21,0,21,1],[21,2,21,3],[21,4,21,5],[21,6,21,7],[21,8,21,9],[22,0,22,1],[22,2,22,3],[22,4,22,5],[22,6,22,7],[22,8,22,9],[23,0,23,1],[23,2,23,3],[23,4,23,5],[23,6,23,7],[23,8,23,9],[24,0,24,1],[24,2,24,3],[24,4,24,5],[24,6,24,7],[24,8,24,9],[25,0,25,1],[25,2,25,3],[25,4,25,5],[25,6,25,7],[25,8,25,9],[26,0,26,1],[26,2,26,3],[26,4,26,5],[26,6,26,7],[26,8,26,9],[27,0,27,1],[27,2,27,3],[27,4,27,5],[27,6,27,7],[27,8,27,9],[28,0,28,1],[28,2,28,3],[28,4,28,5],[28,6,28,7],[28,8,28,9],[29,0,29,1],[29,2,29,3],[29,4,29,5],[29,6,29,7],[29,8,29,9],[30,0,30,1],[30,2,30,3],[30,4,30,5],[30,6,30,7],[30,8,30,9],[31,0,31,1],[31,2,31,3],[31,4,31,5],[31,6,31,7],[31,8,31,9],[32,0,32,1],[32,2,32,3],[32,4,32,5],[32,6,32,7],[32,8,32,9],[33,0,33,1],[33,2,33,3],[33,4,33,5],[33,6,33,7],[33,8,33,9],[34,0,34,1],[34,2,34,3],[34,4,34,5],[34,6,34,7],[34,8,34,9],[37,0,37,1],[37,2,37,3],[37,4,37,5],[37,6,37,7],[37,8,37,9],[35,0,35,1],[35,2,35,3],[35,4,35,5],[35,6,35,7],[35,8,35,9],[36,0,36,1],[36,2,36,3],[36,4,36,5],[36,6,36,7],[36,8,36,9]]}
["Wochenplan für die",null,{"$f":"'Daten Jahr'!A42","v":40},"Woche des Schuljahres",null,null,{"$f":"Stundenplan!C1","v":"2013-2014"},null,{"$f":"Stundenplan!$F$1","v":"3/4"}]
["Mo:",{"$f":"Start!F108","v":"2014-07-07"},"Di:",{"$f":"B2+1","v":"2014-07-08"},"Mi:",{"$f":"D2+1","v":"2014-07-09"},"Do:",{"$f":"F2+1","v":"2014-07-10"},"Fr:",{"$f":"H2+1","v":"2014-07-11"}]
[{"$f":"Stundenplan!$B$4","v":"Probe 1"},null,{"$f":"Stundenplan!$C$4","v":"Probe 11"},null,{"$f":"Stundenplan!$D$4","v":"Probe 21"},null,{"$f":"Stundenplan!$E$4","v":"Probe 31"},null,{"$f":"Stundenplan!$F$4","v":"Probe 41"}]
[]
[]
[]
[{"$f":"Stundenplan!$B$5","v":"Probe 2"},null,{"$f":"Stundenplan!$C$5","v":"Probe 12"},null,{"$f":"Stundenplan!$D$5","v":"Probe 22"},null,{"$f":"Stundenplan!$E$5","v":"Probe 32"},null,{"$f":"Stundenplan!$F$5","v":"Probe 42"}]
[]
[]
[]
[{"$f":"Stundenplan!$B$6","v":"Probe 3"},null,{"$f":"Stundenplan!$C$6","v":"Probe 13"},null,{"$f":"Stundenplan!$D$6","v":"Probe 23"},null,{"$f":"Stundenplan!$E$6","v":"Probe 33"},null,{"$f":"Stundenplan!$F$6","v":"Probe 43"}]
[]
[]
[]
[{"$f":"Stundenplan!$B$7","v":"Probe 4"},null,{"$f":"Stundenplan!$C$7","v":"Probe 14"},null,{"$f":"Stundenplan!$D$7","v":"Probe 24"},null,{"$f":"Stundenplan!$E$7","v":"Probe 34"},null,{"$f":"Stundenplan!$F$7","v":"Probe 44"}]
[]
[]
[]
[{"$f":"Stundenplan!$B$8","v":"Probe 5"},null,{"$f":"Stundenplan!$C$8","v":"Probe 15"},null,{"$f":"Stundenplan!$D$8","v":"Probe 25"},null,{"$f":"Stundenplan!$E$8","v":"Probe 35"},null,{"$f":"Stundenplan!$F$8","v":"Probe 45"}]
[]
[]
[]
[{"$f":"Stundenplan!$B$10","v":"Probe 6"},null,{"$f":"Stundenplan!$C$10","v":"Probe 16"},null,{"$f":"Stundenplan!$D$10","v":"Probe 26"},null,{"$f":"Stundenplan!$E$10","v":"Probe 36"},null,{"$f":"Stundenplan!$F$10","v":"Probe 46"}]
[]
[]
[]
[{"$f":"Stundenplan!$B$11","v":"Probe 7"},null,{"$f":"Stundenplan!$C$11","v":"Probe 17"},null,{"$f":"Stundenplan!$D$11","v":"Probe 27"},null,{"$f":"Stundenplan!$E$11","v":"Probe 37"},null,{"$f":"Stundenplan!$F$11","v":"Probe 47"}]
[]
[]
[]
[{"$f":"Stundenplan!$B$12","v":"Probe 8"},null,{"$f":"Stundenplan!$C$12","v":"Probe 18"},null,{"$f":"Stundenplan!$D$12","v":"Probe 28"},null,{"$f":"Stundenplan!$E$12","v":"Probe 38"},null,{"$f":"Stundenplan!$F$12","v":"Probe 48"}]
[]
[]
[]
[{"$f":"Stundenplan!$B$13","v":"Notizen"},null,{"$f":"Stundenplan!$C$13","v":"Notizen"},null,{"$f":"Stundenplan!$D$13","v":"Notizen"},null,{"$f":"Stundenplan!$E$13","v":"Notizen"},null,{"$f":"Stundenplan!$F$13","v":"Notizen"}]

{"sheet":"Wo 41","index":67,"n_rows":35,"n_cols":10,"rows_kept":35,"cut":false,"hidden":false,"merged":[[0,3,0,5],[0,6,0,7],[0,8,0,9],[2,0,2,1],[2,2,2,3],[2,4,2,5],[2,6,2,7],[2,8,2,9],[3,0,3,1],[3,2,3,3],[3,4,3,5],[3,6,3,7],[3,8,3,9],[4,0,4,1],[4,2,4,3],[4,4,4,5],[4,6,4,7],[4,8,4,9],[5,0,5,1],[5,2,5,3],[5,4,5,5],[5,6,5,7],[5,8,5,9],[6,0,6,1],[6,2,6,3],[6,4,6,5],[6,6,6,7],[6,8,6,9],[7,0,7,1],[7,2,7,3],[7,4,7,5],[7,6,7,7],[7,8,7,9],[8,0,8,1],[8,2,8,3],[8,4,8,5],[8,6,8,7],[8,8,8,9],[9,0,9,1],[9,2,9,3],[9,4,9,5],[9,6,9,7],[9,8,9,9],[10,0,10,1],[10,2,10,3],[10,4,10,5],[10,6,10,7],[10,8,10,9],[11,0,11,1],[11,2,11,3],[11,4,11,5],[11,6,11,7],[11,8,11,9],[12,0,12,1],[12,2,12,3],[12,4,12,5],[12,6,12,7],[12,8,12,9],[13,0,13,1],[13,2,13,3],[13,4,13,5],[13,6,13,7],[13,8,13,9],[14,0,14,1],[14,2,14,3],[14,4,14,5],[14,6,14,7],[14,8,14,9],[15,0,15,1],[15,2,15,3],[15,4,15,5],[15,6,15,7],[15,8,15,9],[16,0,16,1],[16,2,16,3],[16,4,16,5],[16,6,16,7],[16,8,16,9],[17,0,17,1],[17,2,17,3],[17,4,17,5],[17,6,17,7],[17,8,17,9],[18,0,18,1],[18,2,18,3],[18,4,18,5],[18,6,18,7],[18,8,18,9],[19,0,19,1],[19,2,19,3],[19,4,19,5],[19,6,19,7],[19,8,19,9],[20,0,20,1],[20,2,20,3],[20,4,20,5],[20,6,20,7],[20,8,20,9],[21,0,21,1],[21,2,21,3],[21,4,21,5],[21,6,21,7],[21,8,21,9],[22,0,22,1],[22,2,22,3],[22,4,22,5],[22,6,22,7],[22,8,22,9],[23,0,23,1],[23,2,23,3],[23,4,23,5],[23,6,23,7],[23,8,23,9],[24,0,24,1],[24,2,24,3],[24,4,24,5],[24,6,24,7],[24,8,24,9],[25,0,25,1],[25,2,25,3],[25,4,25,5],[25,6,25,7],[25,8,25,9],[26,0,26,1],[26,2,26,3],[26,4,26,5],[26,6,26,7],[26,8,26,9],[27,0,27,1],[27,2,27,3],[27,4,27,5],[27,6,27,7],[27,8,27,9],[28,0,28,1],[28,2,28,3],[28,4,28,5],[28,6,28,7],[28,8,28,9],[29,0,29,1],[29,2,29,3],[29,4,29,5],[29,6,29,7],[29,8,29,9],[30,0,30,1],[30,2,30,3],[30,4,30,5],[30,6,30,7],[30,8,30,9],[31,0,31,1],[31,2,31,3],[31,4,31,5],[31,6,31,7],[31,8,31,9],[32,0,32,1],[32,2,32,3],[32,4,32,5],[32,6,32,7],[32,8,32,9],[33,0,33,1],[33,2,33,3],[33,4,33,5],[33,6,33,7],[33,8,33,9],[34,0,34,1],[34,2,34,3],[34,4,34,5],[34,6,34,7],[34,8,34,9],[37,0,37,1],[37,2,37,3],[37,4,37,5],[37,6,37,7],[37,8,37,9],[35,0,35,1],[35,2,35,3],[35,4,35,5],[35,6,35,7],[35,8,35,9],[36,0,36,1],[36,2,36,3],[36,4,36,5],[36,6,36,7],[36,8,36,9]]}
["Wochenplan für die",null,{"$f":"'Daten Jahr'!A43","v":41},"Woche des Schuljahres",null,null,{"$f":"Stundenplan!C1","v":"2013-2014"},null,{"$f":"Stundenplan!$F$1","v":"3/4"}]
["Mo:",{"$f":"Start!F108","v":"2014-07-07"},"Di:",{"$f":"B2+1","v":"2014-07-08"},"Mi:",{"$f":"D2+1","v":"2014-07-09"},"Do:",{"$f":"F2+1","v":"2014-07-10"},"Fr:",{"$f":"H2+1","v":"2014-07-11"}]
[{"$f":"Stundenplan!$B$4","v":"Probe 1"},null,{"$f":"Stundenplan!$C$4","v":"Probe 11"},null,{"$f":"Stundenplan!$D$4","v":"Probe 21"},null,{"$f":"Stundenplan!$E$4","v":"Probe 31"},null,{"$f":"Stundenplan!$F$4","v":"Probe 41"}]
[]
[]
[]
[{"$f":"Stundenplan!$B$5","v":"Probe 2"},null,{"$f":"Stundenplan!$C$5","v":"Probe 12"},null,{"$f":"Stundenplan!$D$5","v":"Probe 22"},null,{"$f":"Stundenplan!$E$5","v":"Probe 32"},null,{"$f":"Stundenplan!$F$5","v":"Probe 42"}]
[]
[]
[]
[{"$f":"Stundenplan!$B$6","v":"Probe 3"},null,{"$f":"Stundenplan!$C$6","v":"Probe 13"},null,{"$f":"Stundenplan!$D$6","v":"Probe 23"},null,{"$f":"Stundenplan!$E$6","v":"Probe 33"},null,{"$f":"Stundenplan!$F$6","v":"Probe 43"}]
[]
[]
[]
[{"$f":"Stundenplan!$B$7","v":"Probe 4"},null,{"$f":"Stundenplan!$C$7","v":"Probe 14"},null,{"$f":"Stundenplan!$D$7","v":"Probe 24"},null,{"$f":"Stundenplan!$E$7","v":"Probe 34"},null,{"$f":"Stundenplan!$F$7","v":"Probe 44"}]
[]
[]
[]
[{"$f":"Stundenplan!$B$8","v":"Probe 5"},null,{"$f":"Stundenplan!$C$8","v":"Probe 15"},null,{"$f":"Stundenplan!$D$8","v":"Probe 25"},null,{"$f":"Stundenplan!$E$8","v":"Probe 35"},null,{"$f":"Stundenplan!$F$8","v":"Probe 45"}]
[]
[]
[]
[{"$f":"Stundenplan!$B$10","v":"Probe 6"},null,{"$f":"Stundenplan!$C$10","v":"Probe 16"},null,{"$f":"Stundenplan!$D$10","v":"Probe 26"},null,{"$f":"Stundenplan!$E$10","v":"Probe 36"},null,{"$f":"Stundenplan!$F$10","v":"Probe 46"}]
[]
[]
[]
[{"$f":"Stundenplan!$B$11","v":"Probe 7"},null,{"$f":"Stundenplan!$C$11","v":"Probe 17"},null,{"$f":"Stundenplan!$D$11","v":"Probe 27"},null,{"$f":"Stundenplan!$E$11","v":"Probe 37"},null,{"$f":"Stundenplan!$F$11","v":"Probe 47"}]
[]
[]
[]
[{"$f":"Stundenplan!$B$12","v":"Probe 8"},null,{"$f":"Stundenplan!$C$12","v":"Probe 18"},null,{"$f":"Stundenplan!$D$12","v":"Probe 28"},null,{"$f":"Stundenplan!$E$12","v":"Probe 38"},null,{"$f":"Stundenplan!$F$12","v":"Probe 48"}]
[]
[]
[]
[{"$f":"Stundenplan!$B$13","v":"Notizen"},null,{"$f":"Stundenplan!$C$13","v":"Notizen"},null,{"$f":"Stundenplan!$D$13","v":"Notizen"},null,{"$f":"Stundenplan!$E$13","v":"Notizen"},null,{"$f":"Stundenplan!$F$13","v":"Notizen"}]

{"sheet":"Wo 42","index":68,"n_rows":35,"n_cols":10,"rows_kept":35,"cut":false,"hidden":false,"merged":[[0,3,0,5],[0,6,0,7],[0,8,0,9],[2,0,2,1],[2,2,2,3],[2,4,2,5],[2,6,2,7],[2,8,2,9],[3,0,3,1],[3,2,3,3],[3,4,3,5],[3,6,3,7],[3,8,3,9],[4,0,4,1],[4,2,4,3],[4,4,4,5],[4,6,4,7],[4,8,4,9],[5,0,5,1],[5,2,5,3],[5,4,5,5],[5,6,5,7],[5,8,5,9],[6,0,6,1],[6,2,6,3],[6,4,6,5],[6,6,6,7],[6,8,6,9],[7,0,7,1],[7,2,7,3],[7,4,7,5],[7,6,7,7],[7,8,7,9],[8,0,8,1],[8,2,8,3],[8,4,8,5],[8,6,8,7],[8,8,8,9],[9,0,9,1],[9,2,9,3],[9,4,9,5],[9,6,9,7],[9,8,9,9],[10,0,10,1],[10,2,10,3],[10,4,10,5],[10,6,10,7],[10,8,10,9],[11,0,11,1],[11,2,11,3],[11,4,11,5],[11,6,11,7],[11,8,11,9],[12,0,12,1],[12,2,12,3],[12,4,12,5],[12,6,12,7],[12,8,12,9],[13,0,13,1],[13,2,13,3],[13,4,13,5],[13,6,13,7],[13,8,13,9],[14,0,14,1],[14,2,14,3],[14,4,14,5],[14,6,14,7],[14,8,14,9],[15,0,15,1],[15,2,15,3],[15,4,15,5],[15,6,15,7],[15,8,15,9],[16,0,16,1],[16,2,16,3],[16,4,16,5],[16,6,16,7],[16,8,16,9],[17,0,17,1],[17,2,17,3],[17,4,17,5],[17,6,17,7],[17,8,17,9],[18,0,18,1],[18,2,18,3],[18,4,18,5],[18,6,18,7],[18,8,18,9],[19,0,19,1],[19,2,19,3],[19,4,19,5],[19,6,19,7],[19,8,19,9],[20,0,20,1],[20,2,20,3],[20,4,20,5],[20,6,20,7],[20,8,20,9],[21,0,21,1],[21,2,21,3],[21,4,21,5],[21,6,21,7],[21,8,21,9],[22,0,22,1],[22,2,22,3],[22,4,22,5],[22,6,22,7],[22,8,22,9],[23,0,23,1],[23,2,23,3],[23,4,23,5],[23,6,23,7],[23,8,23,9],[24,0,24,1],[24,2,24,3],[24,4,24,5],[24,6,24,7],[24,8,24,9],[25,0,25,1],[25,2,25,3],[25,4,25,5],[25,6,25,7],[25,8,25,9],[26,0,26,1],[26,2,26,3],[26,4,26,5],[26,6,26,7],[26,8,26,9],[27,0,27,1],[27,2,27,3],[27,4,27,5],[27,6,27,7],[27,8,27,9],[28,0,28,1],[28,2,28,3],[28,4,28,5],[28,6,28,7],[28,8,28,9],[29,0,29,1],[29,2,29,3],[29,4,29,5],[29,6,29,7],[29,8,29,9],[30,0,30,1],[30,2,30,3],[30,4,30,5],[30,6,30,7],[30,8,30,9],[31,0,31,1],[31,2,31,3],[31,4,31,5],[31,6,31,7],[31,8,31,9],[32,0,32,1],[32,2,32,3],[32,4,32,5],[32,6,32,7],[32,8,32,9],[33,0,33,1],[33,2,33,3],[33,4,33,5],[33,6,33,7],[33,8,33,9],[34,0,34,1],[34,2,34,3],[34,4,34,5],[34,6,34,7],[34,8,34,9],[37,0,37,1],[37,2,37,3],[37,4,37,5],[37,6,37,7],[37,8,37,9],[35,0,35,1],[35,2,35,3],[35,4,35,5],[35,6,35,7],[35,8,35,9],[36,0,36,1],[36,2,36,3],[36,4,36,5],[36,6,36,7],[36,8,36,9]]}
["Wochenplan für die",null,{"$f":"'Daten Jahr'!A44","v":42},"Woche des Schuljahres",null,null,{"$f":"Stundenplan!C1","v":"2013-2014"},null,{"$f":"Stundenplan!$F$1","v":"3/4"}]
["Mo:",{"$f":"Start!F108","v":"2014-07-07"},"Di:",{"$f":"B2+1","v":"2014-07-08"},"Mi:",{"$f":"D2+1","v":"2014-07-09"},"Do:",{"$f":"F2+1","v":"2014-07-10"},"Fr:",{"$f":"H2+1","v":"2014-07-11"}]
[{"$f":"Stundenplan!$B$4","v":"Probe 1"},null,{"$f":"Stundenplan!$C$4","v":"Probe 11"},null,{"$f":"Stundenplan!$D$4","v":"Probe 21"},null,{"$f":"Stundenplan!$E$4","v":"Probe 31"},null,{"$f":"Stundenplan!$F$4","v":"Probe 41"}]
[]
[]
[]
[{"$f":"Stundenplan!$B$5","v":"Probe 2"},null,{"$f":"Stundenplan!$C$5","v":"Probe 12"},null,{"$f":"Stundenplan!$D$5","v":"Probe 22"},null,{"$f":"Stundenplan!$E$5","v":"Probe 32"},null,{"$f":"Stundenplan!$F$5","v":"Probe 42"}]
[]
[]
[]
[{"$f":"Stundenplan!$B$6","v":"Probe 3"},null,{"$f":"Stundenplan!$C$6","v":"Probe 13"},null,{"$f":"Stundenplan!$D$6","v":"Probe 23"},null,{"$f":"Stundenplan!$E$6","v":"Probe 33"},null,{"$f":"Stundenplan!$F$6","v":"Probe 43"}]
[]
[]
[]
[{"$f":"Stundenplan!$B$7","v":"Probe 4"},null,{"$f":"Stundenplan!$C$7","v":"Probe 14"},null,{"$f":"Stundenplan!$D$7","v":"Probe 24"},null,{"$f":"Stundenplan!$E$7","v":"Probe 34"},null,{"$f":"Stundenplan!$F$7","v":"Probe 44"}]
[]
[]
[]
[{"$f":"Stundenplan!$B$8","v":"Probe 5"},null,{"$f":"Stundenplan!$C$8","v":"Probe 15"},null,{"$f":"Stundenplan!$D$8","v":"Probe 25"},null,{"$f":"Stundenplan!$E$8","v":"Probe 35"},null,{"$f":"Stundenplan!$F$8","v":"Probe 45"}]
[]
[]
[]
[{"$f":"Stundenplan!$B$10","v":"Probe 6"},null,{"$f":"Stundenplan!$C$10","v":"Probe 16"},null,{"$f":"Stundenplan!$D$10","v":"Probe 26"},null,{"$f":"Stundenplan!$E$10","v":"Probe 36"},null,{"$f":"Stundenplan!$F$10","v":"Probe 46"}]
[]
[]
[]
[{"$f":"Stundenplan!$B$11","v":"Probe 7"},null,{"$f":"Stundenplan!$C$11","v":"Probe 17"},null,{"$f":"Stundenplan!$D$11","v":"Probe 27"},null,{"$f":"Stundenplan!$E$11","v":"Probe 37"},null,{"$f":"Stundenplan!$F$11","v":"Probe 47"}]
[]
[]
[]
[{"$f":"Stundenplan!$B$12","v":"Probe 8"},null,{"$f":"Stundenplan!$C$12","v":"Probe 18"},null,{"$f":"Stundenplan!$D$12","v":"Probe 28"},null,{"$f":"Stundenplan!$E$12","v":"Probe 38"},null,{"$f":"Stundenplan!$F$12","v":"Probe 48"}]
[]
[]
[]
[{"$f":"Stundenplan!$B$13","v":"Notizen"},null,{"$f":"Stundenplan!$C$13","v":"Notizen"},null,{"$f":"Stundenplan!$D$13","v":"Notizen"},null,{"$f":"Stundenplan!$E$13","v":"Notizen"},null,{"$f":"Stundenplan!$F$13","v":"Notizen"}]

{"sheet":"Wo 43","index":69,"n_rows":35,"n_cols":10,"rows_kept":35,"cut":false,"hidden":false,"merged":[[0,3,0,5],[0,6,0,7],[0,8,0,9],[2,0,2,1],[2,2,2,3],[2,4,2,5],[2,6,2,7],[2,8,2,9],[3,0,3,1],[3,2,3,3],[3,4,3,5],[3,6,3,7],[3,8,3,9],[4,0,4,1],[4,2,4,3],[4,4,4,5],[4,6,4,7],[4,8,4,9],[5,0,5,1],[5,2,5,3],[5,4,5,5],[5,6,5,7],[5,8,5,9],[6,0,6,1],[6,2,6,3],[6,4,6,5],[6,6,6,7],[6,8,6,9],[7,0,7,1],[7,2,7,3],[7,4,7,5],[7,6,7,7],[7,8,7,9],[8,0,8,1],[8,2,8,3],[8,4,8,5],[8,6,8,7],[8,8,8,9],[9,0,9,1],[9,2,9,3],[9,4,9,5],[9,6,9,7],[9,8,9,9],[10,0,10,1],[10,2,10,3],[10,4,10,5],[10,6,10,7],[10,8,10,9],[11,0,11,1],[11,2,11,3],[11,4,11,5],[11,6,11,7],[11,8,11,9],[12,0,12,1],[12,2,12,3],[12,4,12,5],[12,6,12,7],[12,8,12,9],[13,0,13,1],[13,2,13,3],[13,4,13,5],[13,6,13,7],[13,8,13,9],[14,0,14,1],[14,2,14,3],[14,4,14,5],[14,6,14,7],[14,8,14,9],[15,0,15,1],[15,2,15,3],[15,4,15,5],[15,6,15,7],[15,8,15,9],[16,0,16,1],[16,2,16,3],[16,4,16,5],[16,6,16,7],[16,8,16,9],[17,0,17,1],[17,2,17,3],[17,4,17,5],[17,6,17,7],[17,8,17,9],[18,0,18,1],[18,2,18,3],[18,4,18,5],[18,6,18,7],[18,8,18,9],[19,0,19,1],[19,2,19,3],[19,4,19,5],[19,6,19,7],[19,8,19,9],[20,0,20,1],[20,2,20,3],[20,4,20,5],[20,6,20,7],[20,8,20,9],[21,0,21,1],[21,2,21,3],[21,4,21,5],[21,6,21,7],[21,8,21,9],[22,0,22,1],[22,2,22,3],[22,4,22,5],[22,6,22,7],[22,8,22,9],[23,0,23,1],[23,2,23,3],[23,4,23,5],[23,6,23,7],[23,8,23,9],[24,0,24,1],[24,2,24,3],[24,4,24,5],[24,6,24,7],[24,8,24,9],[25,0,25,1],[25,2,25,3],[25,4,25,5],[25,6,25,7],[25,8,25,9],[26,0,26,1],[26,2,26,3],[26,4,26,5],[26,6,26,7],[26,8,26,9],[27,0,27,1],[27,2,27,3],[27,4,27,5],[27,6,27,7],[27,8,27,9],[28,0,28,1],[28,2,28,3],[28,4,28,5],[28,6,28,7],[28,8,28,9],[29,0,29,1],[29,2,29,3],[29,4,29,5],[29,6,29,7],[29,8,29,9],[30,0,30,1],[30,2,30,3],[30,4,30,5],[30,6,30,7],[30,8,30,9],[31,0,31,1],[31,2,31,3],[31,4,31,5],[31,6,31,7],[31,8,31,9],[32,0,32,1],[32,2,32,3],[32,4,32,5],[32,6,32,7],[32,8,32,9],[33,0,33,1],[33,2,33,3],[33,4,33,5],[33,6,33,7],[33,8,33,9],[34,0,34,1],[34,2,34,3],[34,4,34,5],[34,6,34,7],[34,8,34,9],[37,0,37,1],[37,2,37,3],[37,4,37,5],[37,6,37,7],[37,8,37,9],[35,0,35,1],[35,2,35,3],[35,4,35,5],[35,6,35,7],[35,8,35,9],[36,0,36,1],[36,2,36,3],[36,4,36,5],[36,6,36,7],[36,8,36,9]]}
["Wochenplan für die",null,{"$f":"'Daten Jahr'!A45","v":43},"Woche des Schuljahres",null,null,{"$f":"Stundenplan!C1","v":"2013-2014"},null,{"$f":"Stundenplan!$F$1","v":"3/4"}]
["Mo:",{"$f":"Start!F108","v":"2014-07-07"},"Di:",{"$f":"B2+1","v":"2014-07-08"},"Mi:",{"$f":"D2+1","v":"2014-07-09"},"Do:",{"$f":"F2+1","v":"2014-07-10"},"Fr:",{"$f":"H2+1","v":"2014-07-11"}]
[{"$f":"Stundenplan!$B$4","v":"Probe 1"},null,{"$f":"Stundenplan!$C$4","v":"Probe 11"},null,{"$f":"Stundenplan!$D$4","v":"Probe 21"},null,{"$f":"Stundenplan!$E$4","v":"Probe 31"},null,{"$f":"Stundenplan!$F$4","v":"Probe 41"}]
[]
[]
[]
[{"$f":"Stundenplan!$B$5","v":"Probe 2"},null,{"$f":"Stundenplan!$C$5","v":"Probe 12"},null,{"$f":"Stundenplan!$D$5","v":"Probe 22"},null,{"$f":"Stundenplan!$E$5","v":"Probe 32"},null,{"$f":"Stundenplan!$F$5","v":"Probe 42"}]
[]
[]
[]
[{"$f":"Stundenplan!$B$6","v":"Probe 3"},null,{"$f":"Stundenplan!$C$6","v":"Probe 13"},null,{"$f":"Stundenplan!$D$6","v":"Probe 23"},null,{"$f":"Stundenplan!$E$6","v":"Probe 33"},null,{"$f":"Stundenplan!$F$6","v":"Probe 43"}]
[]
[]
[]
[{"$f":"Stundenplan!$B$7","v":"Probe 4"},null,{"$f":"Stundenplan!$C$7","v":"Probe 14"},null,{"$f":"Stundenplan!$D$7","v":"Probe 24"},null,{"$f":"Stundenplan!$E$7","v":"Probe 34"},null,{"$f":"Stundenplan!$F$7","v":"Probe 44"}]
[]
[]
[]
[{"$f":"Stundenplan!$B$8","v":"Probe 5"},null,{"$f":"Stundenplan!$C$8","v":"Probe 15"},null,{"$f":"Stundenplan!$D$8","v":"Probe 25"},null,{"$f":"Stundenplan!$E$8","v":"Probe 35"},null,{"$f":"Stundenplan!$F$8","v":"Probe 45"}]
[]
[]
[]
[{"$f":"Stundenplan!$B$10","v":"Probe 6"},null,{"$f":"Stundenplan!$C$10","v":"Probe 16"},null,{"$f":"Stundenplan!$D$10","v":"Probe 26"},null,{"$f":"Stundenplan!$E$10","v":"Probe 36"},null,{"$f":"Stundenplan!$F$10","v":"Probe 46"}]
[]
[]
[]
[{"$f":"Stundenplan!$B$11","v":"Probe 7"},null,{"$f":"Stundenplan!$C$11","v":"Probe 17"},null,{"$f":"Stundenplan!$D$11","v":"Probe 27"},null,{"$f":"Stundenplan!$E$11","v":"Probe 37"},null,{"$f":"Stundenplan!$F$11","v":"Probe 47"}]
[]
[]
[]
[{"$f":"Stundenplan!$B$12","v":"Probe 8"},null,{"$f":"Stundenplan!$C$12","v":"Probe 18"},null,{"$f":"Stundenplan!$D$12","v":"Probe 28"},null,{"$f":"Stundenplan!$E$12","v":"Probe 38"},null,{"$f":"Stundenplan!$F$12","v":"Probe 48"}]
[]
[]
[]
[{"$f":"Stundenplan!$B$13","v":"Notizen"},null,{"$f":"Stundenplan!$C$13","v":"Notizen"},null,{"$f":"Stundenplan!$D$13","v":"Notizen"},null,{"$f":"Stundenplan!$E$13","v":"Notizen"},null,{"$f":"Stundenplan!$F$13","v":"Notizen"}]

{"sheet":"Wo 44","index":70,"n_rows":35,"n_cols":10,"rows_kept":35,"cut":false,"hidden":false,"merged":[[0,3,0,5],[0,6,0,7],[0,8,0,9],[2,0,2,1],[2,2,2,3],[2,4,2,5],[2,6,2,7],[2,8,2,9],[3,0,3,1],[3,2,3,3],[3,4,3,5],[3,6,3,7],[3,8,3,9],[4,0,4,1],[4,2,4,3],[4,4,4,5],[4,6,4,7],[4,8,4,9],[5,0,5,1],[5,2,5,3],[5,4,5,5],[5,6,5,7],[5,8,5,9],[6,0,6,1],[6,2,6,3],[6,4,6,5],[6,6,6,7],[6,8,6,9],[7,0,7,1],[7,2,7,3],[7,4,7,5],[7,6,7,7],[7,8,7,9],[8,0,8,1],[8,2,8,3],[8,4,8,5],[8,6,8,7],[8,8,8,9],[9,0,9,1],[9,2,9,3],[9,4,9,5],[9,6,9,7],[9,8,9,9],[10,0,10,1],[10,2,10,3],[10,4,10,5],[10,6,10,7],[10,8,10,9],[11,0,11,1],[11,2,11,3],[11,4,11,5],[11,6,11,7],[11,8,11,9],[12,0,12,1],[12,2,12,3],[12,4,12,5],[12,6,12,7],[12,8,12,9],[13,0,13,1],[13,2,13,3],[13,4,13,5],[13,6,13,7],[13,8,13,9],[14,0,14,1],[14,2,14,3],[14,4,14,5],[14,6,14,7],[14,8,14,9],[15,0,15,1],[15,2,15,3],[15,4,15,5],[15,6,15,7],[15,8,15,9],[16,0,16,1],[16,2,16,3],[16,4,16,5],[16,6,16,7],[16,8,16,9],[17,0,17,1],[17,2,17,3],[17,4,17,5],[17,6,17,7],[17,8,17,9],[18,0,18,1],[18,2,18,3],[18,4,18,5],[18,6,18,7],[18,8,18,9],[19,0,19,1],[19,2,19,3],[19,4,19,5],[19,6,19,7],[19,8,19,9],[20,0,20,1],[20,2,20,3],[20,4,20,5],[20,6,20,7],[20,8,20,9],[21,0,21,1],[21,2,21,3],[21,4,21,5],[21,6,21,7],[21,8,21,9],[22,0,22,1],[22,2,22,3],[22,4,22,5],[22,6,22,7],[22,8,22,9],[23,0,23,1],[23,2,23,3],[23,4,23,5],[23,6,23,7],[23,8,23,9],[24,0,24,1],[24,2,24,3],[24,4,24,5],[24,6,24,7],[24,8,24,9],[25,0,25,1],[25,2,25,3],[25,4,25,5],[25,6,25,7],[25,8,25,9],[26,0,26,1],[26,2,26,3],[26,4,26,5],[26,6,26,7],[26,8,26,9],[27,0,27,1],[27,2,27,3],[27,4,27,5],[27,6,27,7],[27,8,27,9],[28,0,28,1],[28,2,28,3],[28,4,28,5],[28,6,28,7],[28,8,28,9],[29,0,29,1],[29,2,29,3],[29,4,29,5],[29,6,29,7],[29,8,29,9],[30,0,30,1],[30,2,30,3],[30,4,30,5],[30,6,30,7],[30,8,30,9],[31,0,31,1],[31,2,31,3],[31,4,31,5],[31,6,31,7],[31,8,31,9],[32,0,32,1],[32,2,32,3],[32,4,32,5],[32,6,32,7],[32,8,32,9],[33,0,33,1],[33,2,33,3],[33,4,33,5],[33,6,33,7],[33,8,33,9],[34,0,34,1],[34,2,34,3],[34,4,34,5],[34,6,34,7],[34,8,34,9],[37,0,37,1],[37,2,37,3],[37,4,37,5],[37,6,37,7],[37,8,37,9],[35,0,35,1],[35,2,35,3],[35,4,35,5],[35,6,35,7],[35,8,35,9],[36,0,36,1],[36,2,36,3],[36,4,36,5],[36,6,36,7],[36,8,36,9]]}
["Wochenplan für die",null,{"$f":"'Daten Jahr'!A46","v":44},"Woche des Schuljahres",null,null,{"$f":"Stundenplan!C1","v":"2013-2014"},null,{"$f":"Stundenplan!$F$1","v":"3/4"}]
["Mo:",{"$f":"Start!F108","v":"2014-07-07"},"Di:",{"$f":"B2+1","v":"2014-07-08"},"Mi:",{"$f":"D2+1","v":"2014-07-09"},"Do:",{"$f":"F2+1","v":"2014-07-10"},"Fr:",{"$f":"H2+1","v":"2014-07-11"}]
[{"$f":"Stundenplan!$B$4","v":"Probe 1"},null,{"$f":"Stundenplan!$C$4","v":"Probe 11"},null,{"$f":"Stundenplan!$D$4","v":"Probe 21"},null,{"$f":"Stundenplan!$E$4","v":"Probe 31"},null,{"$f":"Stundenplan!$F$4","v":"Probe 41"}]
[]
[]
[]
[{"$f":"Stundenplan!$B$5","v":"Probe 2"},null,{"$f":"Stundenplan!$C$5","v":"Probe 12"},null,{"$f":"Stundenplan!$D$5","v":"Probe 22"},null,{"$f":"Stundenplan!$E$5","v":"Probe 32"},null,{"$f":"Stundenplan!$F$5","v":"Probe 42"}]
[]
[]
[]
[{"$f":"Stundenplan!$B$6","v":"Probe 3"},null,{"$f":"Stundenplan!$C$6","v":"Probe 13"},null,{"$f":"Stundenplan!$D$6","v":"Probe 23"},null,{"$f":"Stundenplan!$E$6","v":"Probe 33"},null,{"$f":"Stundenplan!$F$6","v":"Probe 43"}]
[]
[]
[]
[{"$f":"Stundenplan!$B$7","v":"Probe 4"},null,{"$f":"Stundenplan!$C$7","v":"Probe 14"},null,{"$f":"Stundenplan!$D$7","v":"Probe 24"},null,{"$f":"Stundenplan!$E$7","v":"Probe 34"},null,{"$f":"Stundenplan!$F$7","v":"Probe 44"}]
[]
[]
[]
[{"$f":"Stundenplan!$B$8","v":"Probe 5"},null,{"$f":"Stundenplan!$C$8","v":"Probe 15"},null,{"$f":"Stundenplan!$D$8","v":"Probe 25"},null,{"$f":"Stundenplan!$E$8","v":"Probe 35"},null,{"$f":"Stundenplan!$F$8","v":"Probe 45"}]
[]
[]
[]
[{"$f":"Stundenplan!$B$10","v":"Probe 6"},null,{"$f":"Stundenplan!$C$10","v":"Probe 16"},null,{"$f":"Stundenplan!$D$10","v":"Probe 26"},null,{"$f":"Stundenplan!$E$10","v":"Probe 36"},null,{"$f":"Stundenplan!$F$10","v":"Probe 46"}]
[]
[]
[]
[{"$f":"Stundenplan!$B$11","v":"Probe 7"},null,{"$f":"Stundenplan!$C$11","v":"Probe 17"},null,{"$f":"Stundenplan!$D$11","v":"Probe 27"},null,{"$f":"Stundenplan!$E$11","v":"Probe 37"},null,{"$f":"Stundenplan!$F$11","v":"Probe 47"}]
[]
[]
[]
[{"$f":"Stundenplan!$B$12","v":"Probe 8"},null,{"$f":"Stundenplan!$C$12","v":"Probe 18"},null,{"$f":"Stundenplan!$D$12","v":"Probe 28"},null,{"$f":"Stundenplan!$E$12","v":"Probe 38"},null,{"$f":"Stundenplan!$F$12","v":"Probe 48"}]
[]
[]
[]
[{"$f":"Stundenplan!$B$13","v":"Notizen"},null,{"$f":"Stundenplan!$C$13","v":"Notizen"},null,{"$f":"Stundenplan!$D$13","v":"Notizen"},null,{"$f":"Stundenplan!$E$13","v":"Notizen"},null,{"$f":"Stundenplan!$F$13","v":"Notizen"}]

{"sheet":"Wo 45","index":71,"n_rows":35,"n_cols":10,"rows_kept":35,"cut":false,"hidden":false,"merged":[[0,3,0,5],[0,6,0,7],[0,8,0,9],[2,0,2,1],[2,2,2,3],[2,4,2,5],[2,6,2,7],[2,8,2,9],[3,0,3,1],[3,2,3,3],[3,4,3,5],[3,6,3,7],[3,8,3,9],[4,0,4,1],[4,2,4,3],[4,4,4,5],[4,6,4,7],[4,8,4,9],[5,0,5,1],[5,2,5,3],[5,4,5,5],[5,6,5,7],[5,8,5,9],[6,0,6,1],[6,2,6,3],[6,4,6,5],[6,6,6,7],[6,8,6,9],[7,0,7,1],[7,2,7,3],[7,4,7,5],[7,6,7,7],[7,8,7,9],[8,0,8,1],[8,2,8,3],[8,4,8,5],[8,6,8,7],[8,8,8,9],[9,0,9,1],[9,2,9,3],[9,4,9,5],[9,6,9,7],[9,8,9,9],[10,0,10,1],[10,2,10,3],[10,4,10,5],[10,6,10,7],[10,8,10,9],[11,0,11,1],[11,2,11,3],[11,4,11,5],[11,6,11,7],[11,8,11,9],[12,0,12,1],[12,2,12,3],[12,4,12,5],[12,6,12,7],[12,8,12,9],[13,0,13,1],[13,2,13,3],[13,4,13,5],[13,6,13,7],[13,8,13,9],[14,0,14,1],[14,2,14,3],[14,4,14,5],[14,6,14,7],[14,8,14,9],[15,0,15,1],[15,2,15,3],[15,4,15,5],[15,6,15,7],[15,8,15,9],[16,0,16,1],[16,2,16,3],[16,4,16,5],[16,6,16,7],[16,8,16,9],[17,0,17,1],[17,2,17,3],[17,4,17,5],[17,6,17,7],[17,8,17,9],[18,0,18,1],[18,2,18,3],[18,4,18,5],[18,6,18,7],[18,8,18,9],[19,0,19,1],[19,2,19,3],[19,4,19,5],[19,6,19,7],[19,8,19,9],[20,0,20,1],[20,2,20,3],[20,4,20,5],[20,6,20,7],[20,8,20,9],[21,0,21,1],[21,2,21,3],[21,4,21,5],[21,6,21,7],[21,8,21,9],[22,0,22,1],[22,2,22,3],[22,4,22,5],[22,6,22,7],[22,8,22,9],[23,0,23,1],[23,2,23,3],[23,4,23,5],[23,6,23,7],[23,8,23,9],[24,0,24,1],[24,2,24,3],[24,4,24,5],[24,6,24,7],[24,8,24,9],[25,0,25,1],[25,2,25,3],[25,4,25,5],[25,6,25,7],[25,8,25,9],[26,0,26,1],[26,2,26,3],[26,4,26,5],[26,6,26,7],[26,8,26,9],[27,0,27,1],[27,2,27,3],[27,4,27,5],[27,6,27,7],[27,8,27,9],[28,0,28,1],[28,2,28,3],[28,4,28,5],[28,6,28,7],[28,8,28,9],[29,0,29,1],[29,2,29,3],[29,4,29,5],[29,6,29,7],[29,8,29,9],[30,0,30,1],[30,2,30,3],[30,4,30,5],[30,6,30,7],[30,8,30,9],[31,0,31,1],[31,2,31,3],[31,4,31,5],[31,6,31,7],[31,8,31,9],[32,0,32,1],[32,2,32,3],[32,4,32,5],[32,6,32,7],[32,8,32,9],[33,0,33,1],[33,2,33,3],[33,4,33,5],[33,6,33,7],[33,8,33,9],[34,0,34,1],[34,2,34,3],[34,4,34,5],[34,6,34,7],[34,8,34,9],[37,0,37,1],[37,2,37,3],[37,4,37,5],[37,6,37,7],[37,8,37,9],[35,0,35,1],[35,2,35,3],[35,4,35,5],[35,6,35,7],[35,8,35,9],[36,0,36,1],[36,2,36,3],[36,4,36,5],[36,6,36,7],[36,8,36,9]]}
["Wochenplan für die",null,{"$f":"'Daten Jahr'!A47","v":45},"Woche des Schuljahres",null,null,{"$f":"Stundenplan!C1","v":"2013-2014"},null,{"$f":"Stundenplan!$F$1","v":"3/4"}]
["Mo:",{"$f":"Start!F108","v":"2014-07-07"},"Di:",{"$f":"B2+1","v":"2014-07-08"},"Mi:",{"$f":"D2+1","v":"2014-07-09"},"Do:",{"$f":"F2+1","v":"2014-07-10"},"Fr:",{"$f":"H2+1","v":"2014-07-11"}]
[{"$f":"Stundenplan!$B$4","v":"Probe 1"},null,{"$f":"Stundenplan!$C$4","v":"Probe 11"},null,{"$f":"Stundenplan!$D$4","v":"Probe 21"},null,{"$f":"Stundenplan!$E$4","v":"Probe 31"},null,{"$f":"Stundenplan!$F$4","v":"Probe 41"}]
[]
[]
[]
[{"$f":"Stundenplan!$B$5","v":"Probe 2"},null,{"$f":"Stundenplan!$C$5","v":"Probe 12"},null,{"$f":"Stundenplan!$D$5","v":"Probe 22"},null,{"$f":"Stundenplan!$E$5","v":"Probe 32"},null,{"$f":"Stundenplan!$F$5","v":"Probe 42"}]
[]
[]
[]
[{"$f":"Stundenplan!$B$6","v":"Probe 3"},null,{"$f":"Stundenplan!$C$6","v":"Probe 13"},null,{"$f":"Stundenplan!$D$6","v":"Probe 23"},null,{"$f":"Stundenplan!$E$6","v":"Probe 33"},null,{"$f":"Stundenplan!$F$6","v":"Probe 43"}]
[]
[]
[]
[{"$f":"Stundenplan!$B$7","v":"Probe 4"},null,{"$f":"Stundenplan!$C$7","v":"Probe 14"},null,{"$f":"Stundenplan!$D$7","v":"Probe 24"},null,{"$f":"Stundenplan!$E$7","v":"Probe 34"},null,{"$f":"Stundenplan!$F$7","v":"Probe 44"}]
[]
[]
[]
[{"$f":"Stundenplan!$B$8","v":"Probe 5"},null,{"$f":"Stundenplan!$C$8","v":"Probe 15"},null,{"$f":"Stundenplan!$D$8","v":"Probe 25"},null,{"$f":"Stundenplan!$E$8","v":"Probe 35"},null,{"$f":"Stundenplan!$F$8","v":"Probe 45"}]
[]
[]
[]
[{"$f":"Stundenplan!$B$10","v":"Probe 6"},null,{"$f":"Stundenplan!$C$10","v":"Probe 16"},null,{"$f":"Stundenplan!$D$10","v":"Probe 26"},null,{"$f":"Stundenplan!$E$10","v":"Probe 36"},null,{"$f":"Stundenplan!$F$10","v":"Probe 46"}]
[]
[]
[]
[{"$f":"Stundenplan!$B$11","v":"Probe 7"},null,{"$f":"Stundenplan!$C$11","v":"Probe 17"},null,{"$f":"Stundenplan!$D$11","v":"Probe 27"},null,{"$f":"Stundenplan!$E$11","v":"Probe 37"},null,{"$f":"Stundenplan!$F$11","v":"Probe 47"}]
[]
[]
[]
[{"$f":"Stundenplan!$B$12","v":"Probe 8"},null,{"$f":"Stundenplan!$C$12","v":"Probe 18"},null,{"$f":"Stundenplan!$D$12","v":"Probe 28"},null,{"$f":"Stundenplan!$E$12","v":"Probe 38"},null,{"$f":"Stundenplan!$F$12","v":"Probe 48"}]
[]
[]
[]
[{"$f":"Stundenplan!$B$13","v":"Notizen"},null,{"$f":"Stundenplan!$C$13","v":"Notizen"},null,{"$f":"Stundenplan!$D$13","v":"Notizen"},null,{"$f":"Stundenplan!$E$13","v":"Notizen"},null,{"$f":"Stundenplan!$F$13","v":"Notizen"}]

{"sheet":"Wo 46","index":72,"n_rows":35,"n_cols":10,"rows_kept":35,"cut":false,"hidden":false,"merged":[[0,3,0,5],[0,6,0,7],[0,8,0,9],[2,0,2,1],[2,2,2,3],[2,4,2,5],[2,6,2,7],[2,8,2,9],[3,0,3,1],[3,2,3,3],[3,4,3,5],[3,6,3,7],[3,8,3,9],[4,0,4,1],[4,2,4,3],[4,4,4,5],[4,6,4,7],[4,8,4,9],[5,0,5,1],[5,2,5,3],[5,4,5,5],[5,6,5,7],[5,8,5,9],[6,0,6,1],[6,2,6,3],[6,4,6,5],[6,6,6,7],[6,8,6,9],[7,0,7,1],[7,2,7,3],[7,4,7,5],[7,6,7,7],[7,8,7,9],[8,0,8,1],[8,2,8,3],[8,4,8,5],[8,6,8,7],[8,8,8,9],[9,0,9,1],[9,2,9,3],[9,4,9,5],[9,6,9,7],[9,8,9,9],[10,0,10,1],[10,2,10,3],[10,4,10,5],[10,6,10,7],[10,8,10,9],[11,0,11,1],[11,2,11,3],[11,4,11,5],[11,6,11,7],[11,8,11,9],[12,0,12,1],[12,2,12,3],[12,4,12,5],[12,6,12,7],[12,8,12,9],[13,0,13,1],[13,2,13,3],[13,4,13,5],[13,6,13,7],[13,8,13,9],[14,0,14,1],[14,2,14,3],[14,4,14,5],[14,6,14,7],[14,8,14,9],[15,0,15,1],[15,2,15,3],[15,4,15,5],[15,6,15,7],[15,8,15,9],[16,0,16,1],[16,2,16,3],[16,4,16,5],[16,6,16,7],[16,8,16,9],[17,0,17,1],[17,2,17,3],[17,4,17,5],[17,6,17,7],[17,8,17,9],[18,0,18,1],[18,2,18,3],[18,4,18,5],[18,6,18,7],[18,8,18,9],[19,0,19,1],[19,2,19,3],[19,4,19,5],[19,6,19,7],[19,8,19,9],[20,0,20,1],[20,2,20,3],[20,4,20,5],[20,6,20,7],[20,8,20,9],[21,0,21,1],[21,2,21,3],[21,4,21,5],[21,6,21,7],[21,8,21,9],[22,0,22,1],[22,2,22,3],[22,4,22,5],[22,6,22,7],[22,8,22,9],[23,0,23,1],[23,2,23,3],[23,4,23,5],[23,6,23,7],[23,8,23,9],[24,0,24,1],[24,2,24,3],[24,4,24,5],[24,6,24,7],[24,8,24,9],[25,0,25,1],[25,2,25,3],[25,4,25,5],[25,6,25,7],[25,8,25,9],[26,0,26,1],[26,2,26,3],[26,4,26,5],[26,6,26,7],[26,8,26,9],[27,0,27,1],[27,2,27,3],[27,4,27,5],[27,6,27,7],[27,8,27,9],[28,0,28,1],[28,2,28,3],[28,4,28,5],[28,6,28,7],[28,8,28,9],[29,0,29,1],[29,2,29,3],[29,4,29,5],[29,6,29,7],[29,8,29,9],[30,0,30,1],[30,2,30,3],[30,4,30,5],[30,6,30,7],[30,8,30,9],[31,0,31,1],[31,2,31,3],[31,4,31,5],[31,6,31,7],[31,8,31,9],[32,0,32,1],[32,2,32,3],[32,4,32,5],[32,6,32,7],[32,8,32,9],[33,0,33,1],[33,2,33,3],[33,4,33,5],[33,6,33,7],[33,8,33,9],[34,0,34,1],[34,2,34,3],[34,4,34,5],[34,6,34,7],[34,8,34,9],[37,0,37,1],[37,2,37,3],[37,4,37,5],[37,6,37,7],[37,8,37,9],[35,0,35,1],[35,2,35,3],[35,4,35,5],[35,6,35,7],[35,8,35,9],[36,0,36,1],[36,2,36,3],[36,4,36,5],[36,6,36,7],[36,8,36,9]]}
["Wochenplan für die",null,{"$f":"'Daten Jahr'!A48","v":46},"Woche des Schuljahres",null,null,{"$f":"Stundenplan!C1","v":"2013-2014"},null,{"$f":"Stundenplan!$F$1","v":"3/4"}]
["Mo:",{"$f":"Start!F108","v":"2014-07-07"},"Di:",{"$f":"B2+1","v":"2014-07-08"},"Mi:",{"$f":"D2+1","v":"2014-07-09"},"Do:",{"$f":"F2+1","v":"2014-07-10"},"Fr:",{"$f":"H2+1","v":"2014-07-11"}]
[{"$f":"Stundenplan!$B$4","v":"Probe 1"},null,{"$f":"Stundenplan!$C$4","v":"Probe 11"},null,{"$f":"Stundenplan!$D$4","v":"Probe 21"},null,{"$f":"Stundenplan!$E$4","v":"Probe 31"},null,{"$f":"Stundenplan!$F$4","v":"Probe 41"}]
[]
[]
[]
[{"$f":"Stundenplan!$B$5","v":"Probe 2"},null,{"$f":"Stundenplan!$C$5","v":"Probe 12"},null,{"$f":"Stundenplan!$D$5","v":"Probe 22"},null,{"$f":"Stundenplan!$E$5","v":"Probe 32"},null,{"$f":"Stundenplan!$F$5","v":"Probe 42"}]
[]
[]
[]
[{"$f":"Stundenplan!$B$6","v":"Probe 3"},null,{"$f":"Stundenplan!$C$6","v":"Probe 13"},null,{"$f":"Stundenplan!$D$6","v":"Probe 23"},null,{"$f":"Stundenplan!$E$6","v":"Probe 33"},null,{"$f":"Stundenplan!$F$6","v":"Probe 43"}]
[]
[]
[]
[{"$f":"Stundenplan!$B$7","v":"Probe 4"},null,{"$f":"Stundenplan!$C$7","v":"Probe 14"},null,{"$f":"Stundenplan!$D$7","v":"Probe 24"},null,{"$f":"Stundenplan!$E$7","v":"Probe 34"},null,{"$f":"Stundenplan!$F$7","v":"Probe 44"}]
[]
[]
[]
[{"$f":"Stundenplan!$B$8","v":"Probe 5"},null,{"$f":"Stundenplan!$C$8","v":"Probe 15"},null,{"$f":"Stundenplan!$D$8","v":"Probe 25"},null,{"$f":"Stundenplan!$E$8","v":"Probe 35"},null,{"$f":"Stundenplan!$F$8","v":"Probe 45"}]
[]
[]
[]
[{"$f":"Stundenplan!$B$10","v":"Probe 6"},null,{"$f":"Stundenplan!$C$10","v":"Probe 16"},null,{"$f":"Stundenplan!$D$10","v":"Probe 26"},null,{"$f":"Stundenplan!$E$10","v":"Probe 36"},null,{"$f":"Stundenplan!$F$10","v":"Probe 46"}]
[]
[]
[]
[{"$f":"Stundenplan!$B$11","v":"Probe 7"},null,{"$f":"Stundenplan!$C$11","v":"Probe 17"},null,{"$f":"Stundenplan!$D$11","v":"Probe 27"},null,{"$f":"Stundenplan!$E$11","v":"Probe 37"},null,{"$f":"Stundenplan!$F$11","v":"Probe 47"}]
[]
[]
[]
[{"$f":"Stundenplan!$B$12","v":"Probe 8"},null,{"$f":"Stundenplan!$C$12","v":"Probe 18"},null,{"$f":"Stundenplan!$D$12","v":"Probe 28"},null,{"$f":"Stundenplan!$E$12","v":"Probe 38"},null,{"$f":"Stundenplan!$F$12","v":"Probe 48"}]
[]
[]
[]
[{"$f":"Stundenplan!$B$13","v":"Notizen"},null,{"$f":"Stundenplan!$C$13","v":"Notizen"},null,{"$f":"Stundenplan!$D$13","v":"Notizen"},null,{"$f":"Stundenplan!$E$13","v":"Notizen"},null,{"$f":"Stundenplan!$F$13","v":"Notizen"}]

{"sheet":"Wo 47","index":73,"n_rows":35,"n_cols":10,"rows_kept":35,"cut":false,"hidden":false,"merged":[[0,3,0,5],[0,6,0,7],[0,8,0,9],[2,0,2,1],[2,2,2,3],[2,4,2,5],[2,6,2,7],[2,8,2,9],[3,0,3,1],[3,2,3,3],[3,4,3,5],[3,6,3,7],[3,8,3,9],[4,0,4,1],[4,2,4,3],[4,4,4,5],[4,6,4,7],[4,8,4,9],[5,0,5,1],[5,2,5,3],[5,4,5,5],[5,6,5,7],[5,8,5,9],[6,0,6,1],[6,2,6,3],[6,4,6,5],[6,6,6,7],[6,8,6,9],[7,0,7,1],[7,2,7,3],[7,4,7,5],[7,6,7,7],[7,8,7,9],[8,0,8,1],[8,2,8,3],[8,4,8,5],[8,6,8,7],[8,8,8,9],[9,0,9,1],[9,2,9,3],[9,4,9,5],[9,6,9,7],[9,8,9,9],[10,0,10,1],[10,2,10,3],[10,4,10,5],[10,6,10,7],[10,8,10,9],[11,0,11,1],[11,2,11,3],[11,4,11,5],[11,6,11,7],[11,8,11,9],[12,0,12,1],[12,2,12,3],[12,4,12,5],[12,6,12,7],[12,8,12,9],[13,0,13,1],[13,2,13,3],[13,4,13,5],[13,6,13,7],[13,8,13,9],[14,0,14,1],[14,2,14,3],[14,4,14,5],[14,6,14,7],[14,8,14,9],[15,0,15,1],[15,2,15,3],[15,4,15,5],[15,6,15,7],[15,8,15,9],[16,0,16,1],[16,2,16,3],[16,4,16,5],[16,6,16,7],[16,8,16,9],[17,0,17,1],[17,2,17,3],[17,4,17,5],[17,6,17,7],[17,8,17,9],[18,0,18,1],[18,2,18,3],[18,4,18,5],[18,6,18,7],[18,8,18,9],[19,0,19,1],[19,2,19,3],[19,4,19,5],[19,6,19,7],[19,8,19,9],[20,0,20,1],[20,2,20,3],[20,4,20,5],[20,6,20,7],[20,8,20,9],[21,0,21,1],[21,2,21,3],[21,4,21,5],[21,6,21,7],[21,8,21,9],[22,0,22,1],[22,2,22,3],[22,4,22,5],[22,6,22,7],[22,8,22,9],[23,0,23,1],[23,2,23,3],[23,4,23,5],[23,6,23,7],[23,8,23,9],[24,0,24,1],[24,2,24,3],[24,4,24,5],[24,6,24,7],[24,8,24,9],[25,0,25,1],[25,2,25,3],[25,4,25,5],[25,6,25,7],[25,8,25,9],[26,0,26,1],[26,2,26,3],[26,4,26,5],[26,6,26,7],[26,8,26,9],[27,0,27,1],[27,2,27,3],[27,4,27,5],[27,6,27,7],[27,8,27,9],[28,0,28,1],[28,2,28,3],[28,4,28,5],[28,6,28,7],[28,8,28,9],[29,0,29,1],[29,2,29,3],[29,4,29,5],[29,6,29,7],[29,8,29,9],[30,0,30,1],[30,2,30,3],[30,4,30,5],[30,6,30,7],[30,8,30,9],[31,0,31,1],[31,2,31,3],[31,4,31,5],[31,6,31,7],[31,8,31,9],[32,0,32,1],[32,2,32,3],[32,4,32,5],[32,6,32,7],[32,8,32,9],[33,0,33,1],[33,2,33,3],[33,4,33,5],[33,6,33,7],[33,8,33,9],[34,0,34,1],[34,2,34,3],[34,4,34,5],[34,6,34,7],[34,8,34,9],[37,0,37,1],[37,2,37,3],[37,4,37,5],[37,6,37,7],[37,8,37,9],[35,0,35,1],[35,2,35,3],[35,4,35,5],[35,6,35,7],[35,8,35,9],[36,0,36,1],[36,2,36,3],[36,4,36,5],[36,6,36,7],[36,8,36,9]]}
["Wochenplan für die",null,{"$f":"'Daten Jahr'!A49","v":47},"Woche des Schuljahres",null,null,{"$f":"Stundenplan!C1","v":"2013-2014"},null,{"$f":"Stundenplan!$F$1","v":"3/4"}]
["Mo:",{"$f":"Start!F108","v":"2014-07-07"},"Di:",{"$f":"B2+1","v":"2014-07-08"},"Mi:",{"$f":"D2+1","v":"2014-07-09"},"Do:",{"$f":"F2+1","v":"2014-07-10"},"Fr:",{"$f":"H2+1","v":"2014-07-11"}]
[{"$f":"Stundenplan!$B$4","v":"Probe 1"},null,{"$f":"Stundenplan!$C$4","v":"Probe 11"},null,{"$f":"Stundenplan!$D$4","v":"Probe 21"},null,{"$f":"Stundenplan!$E$4","v":"Probe 31"},null,{"$f":"Stundenplan!$F$4","v":"Probe 41"}]
[]
[]
[]
[{"$f":"Stundenplan!$B$5","v":"Probe 2"},null,{"$f":"Stundenplan!$C$5","v":"Probe 12"},null,{"$f":"Stundenplan!$D$5","v":"Probe 22"},null,{"$f":"Stundenplan!$E$5","v":"Probe 32"},null,{"$f":"Stundenplan!$F$5","v":"Probe 42"}]
[]
[]
[]
[{"$f":"Stundenplan!$B$6","v":"Probe 3"},null,{"$f":"Stundenplan!$C$6","v":"Probe 13"},null,{"$f":"Stundenplan!$D$6","v":"Probe 23"},null,{"$f":"Stundenplan!$E$6","v":"Probe 33"},null,{"$f":"Stundenplan!$F$6","v":"Probe 43"}]
[]
[]
[]
[{"$f":"Stundenplan!$B$7","v":"Probe 4"},null,{"$f":"Stundenplan!$C$7","v":"Probe 14"},null,{"$f":"Stundenplan!$D$7","v":"Probe 24"},null,{"$f":"Stundenplan!$E$7","v":"Probe 34"},null,{"$f":"Stundenplan!$F$7","v":"Probe 44"}]
[]
[]
[]
[{"$f":"Stundenplan!$B$8","v":"Probe 5"},null,{"$f":"Stundenplan!$C$8","v":"Probe 15"},null,{"$f":"Stundenplan!$D$8","v":"Probe 25"},null,{"$f":"Stundenplan!$E$8","v":"Probe 35"},null,{"$f":"Stundenplan!$F$8","v":"Probe 45"}]
[]
[]
[]
[{"$f":"Stundenplan!$B$10","v":"Probe 6"},null,{"$f":"Stundenplan!$C$10","v":"Probe 16"},null,{"$f":"Stundenplan!$D$10","v":"Probe 26"},null,{"$f":"Stundenplan!$E$10","v":"Probe 36"},null,{"$f":"Stundenplan!$F$10","v":"Probe 46"}]
[]
[]
[]
[{"$f":"Stundenplan!$B$11","v":"Probe 7"},null,{"$f":"Stundenplan!$C$11","v":"Probe 17"},null,{"$f":"Stundenplan!$D$11","v":"Probe 27"},null,{"$f":"Stundenplan!$E$11","v":"Probe 37"},null,{"$f":"Stundenplan!$F$11","v":"Probe 47"}]
[]
[]
[]
[{"$f":"Stundenplan!$B$12","v":"Probe 8"},null,{"$f":"Stundenplan!$C$12","v":"Probe 18"},null,{"$f":"Stundenplan!$D$12","v":"Probe 28"},null,{"$f":"Stundenplan!$E$12","v":"Probe 38"},null,{"$f":"Stundenplan!$F$12","v":"Probe 48"}]
[]
[]
[]
[{"$f":"Stundenplan!$B$13","v":"Notizen"},null,{"$f":"Stundenplan!$C$13","v":"Notizen"},null,{"$f":"Stundenplan!$D$13","v":"Notizen"},null,{"$f":"Stundenplan!$E$13","v":"Notizen"},null,{"$f":"Stundenplan!$F$13","v":"Notizen"}]